{"text_format":"1","workbook":"xlsx","n_sheets":2,"sheets":["Modelo","Calculos"],"not_rendered":{"charts":1,"images":0,"macros":1,"external_links":1,"defined_names":29,"comments":1,"pivot_tables":0},"unopened":[],"bounds":{"document_bytes":16777216,"sheet_cells":100000,"rows_first":2000,"rows_last":500,"rows_between":2000,"halvings":0,"cell_chars":16384,"cell_head_chars":4096},"cells_cut":0,"cells_raw":0,"read":"whole","date_system":"1900"}

{"sheet":"Modelo","index":0,"n_rows":35,"n_cols":8,"rows_kept":35,"cut":false,"hidden":false,"merged":[[9,1,9,3],[10,1,10,3],[11,1,11,3],[17,1,17,3],[0,1,0,16],[5,1,5,4],[6,1,6,3],[7,1,7,3],[13,1,13,3],[8,1,8,3],[28,1,28,3],[26,1,26,4],[18,1,18,3],[27,1,27,3],[14,1,14,3],[15,1,15,3],[24,1,24,3],[16,1,16,3],[23,1,23,3],[20,1,20,4]]}
[null,"Análise da Deplepleção de Um Rio Pelo Bombeamento de Um Poço"]
[]
[]
[]
[]
[null,"Parâmetros Para Modelagem - INSERIR DADOS"]
[null,"Transmissividade (T)",null,null,1427,"(m²/dia)"]
[null,"S = Ss (armazenamento elástico).b + Porosidade Eficaz (Sy)",null,null,0.24]
[null,"Distância de Separação (L)",null,null,2000,"(m)"]
[null,"Permeab. do Aquitarde (K')",null,null,1,"(m/dia)"]
[null,"Largura do Rio Analisado (W)",null,null,20,"(m)"]
[null,"Espessura do Aquitarde (M)",null,null,50,"(m)"]
[null,null,null,"Volume Bombeado do Poço",1000,"(l/s)"]
[null,"Horas por Dia",null,null,18,"(h)"]
[null,"Dias por Período de Retorno",null,null,7,"(dias)"]
[null,"Período de Retorno",null,null,7,"(dias)"]
[null,"Tempo de Corte",null,null,180,"(dias)"]
[null,"Bombeamento Após o Corte",null,null,0,"(l/s)"]
[null,"Duração do Bombeamento",null,null,180,"(dias)"]
[]
[null,"Parâmetros Calculados - CÁLCULO AUTOMÁTICO"]
[null,null,null,"Condutividade do Leito da Drenagem (Lambda)",{"$f":"(E10*E11/E12)","v":0.4},"(m/dia)"]
[null,null,null,"Fator de Depleção da Drenagem (SDF)",{"$f":"_l^2*S/T","v":672.74001401541693},"(dias)"]
[null,"Fator do Leito da Drenagem (SBF)",null,null,{"$f":"(Lambda*_l/T)","v":0.56061667834618079}]
[null,"Taxa Média",null,null,{"$f":"Qmax*(Hrs/24)*(Dias/Retorno)","v":750},"(l/s)"]
[]
[null,"Depleção na Drenagem - Resultado da Modelagem"]
[null,"Depleção na Drenagem em %",null,null,{"$f":"(Qavg*Q_4(4*Time*T/(S*E9^2),Lambda*E9/T))/(Qmax/100)","v":1.1187180788599143},"%"]
[null,"Depleção na Drenagem - Vazão",null,null,{"$f":"+Qmax*E28/100","v":11.187180788599141},"(l/s)"]
[]
[]
[]
[null,null,null,90.8,{"$f":"+D34/D33","v":0.75}]
[null,null,null,68.099999999999994,{"$f":"+D35/D33","v":0.5356828193832599},null,42,{"$f":"+G34*E33","v":31.5}]
[null,null,null,48.64,null,null,null,{"$f":"+G34*E34","v":22.498678414096915}]

{"sheet":"Calculos","index":1,"n_rows":367,"n_cols":5,"rows_kept":367,"cut":false,"hidden":false,"merged":[]}
["Tempo","Hunt","Atual","Compensação Hunt","Hunt Corrigido"]
[0,0,{"$f":"IF(Lambda=\"\",Calculos!#REF!,Calculos!B2)","v":0},0,{"$f":"IF(Lambda=\"\",(#REF!-#REF!),(B2-D2))","v":0}]
[{"$f":"A2+1","v":1},{"$f":"Qavg*Q_4(4*A3*T/(S*_l^2),Lambda*_l/T)","v":2.3444077795681397E-75},{"$f":"IF(Lambda=\"\",#REF!,B3)","v":2.3444077795681397E-75},{"$f":"IF(CutBackTime<A3,(Qavg-CutBackQ)*Q_4(4*(A3-CutBackTime)*T/(S*_l^2),Lambda*_l/T),0)","v":0},{"$f":"IF(Lambda=\"\",(#REF!-#REF!),(B3-D3))","v":2.3444077795681397E-75}]
[2,2.1760331283481563E-38,{"$f":"IF(Lambda=\"\",#REF!,B4)","v":2.1760331283481563E-38},0,{"$f":"IF(Lambda=\"\",(#REF!-#REF!),(B4-D4))","v":2.1760331283481563E-38}]
[3,5.9475480562777243E-26,{"$f":"IF(Lambda=\"\",#REF!,B5)","v":5.9475480562777243E-26},0,{"$f":"IF(Lambda=\"\",(#REF!-#REF!),(B5-D5))","v":5.9475480562777243E-26}]
[4,1.1153964906258144E-19,{"$f":"IF(Lambda=\"\",#REF!,B6)","v":1.1153964906258144E-19},0,{"$f":"IF(Lambda=\"\",(#REF!-#REF!),(B6-D6))","v":1.1153964906258144E-19}]
[5,6.9712484874969342E-16,{"$f":"IF(Lambda=\"\",#REF!,B7)","v":6.9712484874969342E-16},0,{"$f":"IF(Lambda=\"\",(#REF!-#REF!),(B7-D7))","v":6.9712484874969342E-16}]
[6,2.4821723344710403E-13,{"$f":"IF(Lambda=\"\",#REF!,B8)","v":2.4821723344710403E-13},0,{"$f":"IF(Lambda=\"\",(#REF!-#REF!),(B8-D8))","v":2.4821723344710403E-13}]
[7,1.7062969993698389E-11,{"$f":"IF(Lambda=\"\",#REF!,B9)","v":1.7062969993698389E-11},0,{"$f":"IF(Lambda=\"\",(#REF!-#REF!),(B9-D9))","v":1.7062969993698389E-11}]
[8,4.1768042797272042E-10,{"$f":"IF(Lambda=\"\",#REF!,B10)","v":4.1768042797272042E-10},0,{"$f":"IF(Lambda=\"\",(#REF!-#REF!),(B10-D10))","v":4.1768042797272042E-10}]
[9,5.1210796350580275E-9,{"$f":"IF(Lambda=\"\",#REF!,B11)","v":5.1210796350580275E-9},0,{"$f":"IF(Lambda=\"\",(#REF!-#REF!),(B11-D11))","v":5.1210796350580275E-9}]
[10,3.8616730717927558E-8,{"$f":"IF(Lambda=\"\",#REF!,B12)","v":3.8616730717927558E-8},0,{"$f":"IF(Lambda=\"\",(#REF!-#REF!),(B12-D12))","v":3.8616730717927558E-8}]
[11,2.0417440079759307E-7,{"$f":"IF(Lambda=\"\",#REF!,B13)","v":2.0417440079759307E-7},0,{"$f":"IF(Lambda=\"\",(#REF!-#REF!),(B13-D13))","v":2.0417440079759307E-7}]
[12,8.262202654195881E-7,{"$f":"IF(Lambda=\"\",#REF!,B14)","v":8.262202654195881E-7},0,{"$f":"IF(Lambda=\"\",(#REF!-#REF!),(B14-D14))","v":8.262202654195881E-7}]
[13,2.7194700664535036E-6,{"$f":"IF(Lambda=\"\",#REF!,B15)","v":2.7194700664535036E-6},0,{"$f":"IF(Lambda=\"\",(#REF!-#REF!),(B15-D15))","v":2.7194700664535036E-6}]
[14,7.6049620259319554E-6,{"$f":"IF(Lambda=\"\",#REF!,B16)","v":7.6049620259319554E-6},0,{"$f":"IF(Lambda=\"\",(#REF!-#REF!),(B16-D16))","v":7.6049620259319554E-6}]
[15,1.8657645014510222E-5,{"$f":"IF(Lambda=\"\",#REF!,B17)","v":1.8657645014510222E-5},0,{"$f":"IF(Lambda=\"\",(#REF!-#REF!),(B17-D17))","v":1.8657645014510222E-5}]
[16,4.113729488361258E-5,{"$f":"IF(Lambda=\"\",#REF!,B18)","v":4.113729488361258E-5},0,{"$f":"IF(Lambda=\"\",(#REF!-#REF!),(B18-D18))","v":4.113729488361258E-5}]
[17,8.3035683205919891E-5,{"$f":"IF(Lambda=\"\",#REF!,B19)","v":8.3035683205919891E-5},0,{"$f":"IF(Lambda=\"\",(#REF!-#REF!),(B19-D19))","v":8.3035683205919891E-5}]
[18,1.5567110152770293E-4,{"$f":"IF(Lambda=\"\",#REF!,B20)","v":1.5567110152770293E-4},0,{"$f":"IF(Lambda=\"\",(#REF!-#REF!),(B20-D20))","v":1.5567110152770293E-4}]
[19,2.741730096446849E-4,{"$f":"IF(Lambda=\"\",#REF!,B21)","v":2.741730096446849E-4},0,{"$f":"IF(Lambda=\"\",(#REF!-#REF!),(B21-D21))","v":2.741730096446849E-4}]
[20,4.5781855231532122E-4,{"$f":"IF(Lambda=\"\",#REF!,B22)","v":4.5781855231532122E-4},0,{"$f":"IF(Lambda=\"\",(#REF!-#REF!),(B22-D22))","v":4.5781855231532122E-4}]
[21,7.3020319976459594E-4,{"$f":"IF(Lambda=\"\",#REF!,B23)","v":7.3020319976459594E-4},0,{"$f":"IF(Lambda=\"\",(#REF!-#REF!),(B23-D23))","v":7.3020319976459594E-4}]
[22,1.1192458476743654E-3,{"$f":"IF(Lambda=\"\",#REF!,B24)","v":1.1192458476743654E-3},0,{"$f":"IF(Lambda=\"\",(#REF!-#REF!),(B24-D24))","v":1.1192458476743654E-3}]
[23,1.6570423747539688E-3,{"$f":"IF(Lambda=\"\",#REF!,B25)","v":1.6570423747539688E-3},0,{"$f":"IF(Lambda=\"\",(#REF!-#REF!),(B25-D25))","v":1.6570423747539688E-3}]
[24,2.3795904476649962E-3,{"$f":"IF(Lambda=\"\",#REF!,B26)","v":2.3795904476649962E-3},0,{"$f":"IF(Lambda=\"\",(#REF!-#REF!),(B26-D26))","v":2.3795904476649962E-3}]
[25,3.3264127740445133E-3,{"$f":"IF(Lambda=\"\",#REF!,B27)","v":3.3264127740445133E-3},0,{"$f":"IF(Lambda=\"\",(#REF!-#REF!),(B27-D27))","v":3.3264127740445133E-3}]
[26,4.5401069632299337E-3,{"$f":"IF(Lambda=\"\",#REF!,B28)","v":4.5401069632299337E-3},0,{"$f":"IF(Lambda=\"\",(#REF!-#REF!),(B28-D28))","v":4.5401069632299337E-3}]
[27,6.0658486845384619E-3,{"$f":"IF(Lambda=\"\",#REF!,B29)","v":6.0658486845384619E-3},0,{"$f":"IF(Lambda=\"\",(#REF!-#REF!),(B29-D29))","v":6.0658486845384619E-3}]
[28,7.9508718391124913E-3,{"$f":"IF(Lambda=\"\",#REF!,B30)","v":7.9508718391124913E-3},0,{"$f":"IF(Lambda=\"\",(#REF!-#REF!),(B30-D30))","v":7.9508718391124913E-3}]
[29,1.0243945724501536E-2,{"$f":"IF(Lambda=\"\",#REF!,B31)","v":1.0243945724501536E-2},0,{"$f":"IF(Lambda=\"\",(#REF!-#REF!),(B31-D31))","v":1.0243945724501536E-2}]
[30,1.2994865213319478E-2,{"$f":"IF(Lambda=\"\",#REF!,B32)","v":1.2994865213319478E-2},0,{"$f":"IF(Lambda=\"\",(#REF!-#REF!),(B32-D32))","v":1.2994865213319478E-2}]
[31,1.6253966150947881E-2,{"$f":"IF(Lambda=\"\",#REF!,B33)","v":1.6253966150947881E-2},0,{"$f":"IF(Lambda=\"\",(#REF!-#REF!),(B33-D33))","v":1.6253966150947881E-2}]
[32,2.007167472025214E-2,{"$f":"IF(Lambda=\"\",#REF!,B34)","v":2.007167472025214E-2},0,{"$f":"IF(Lambda=\"\",(#REF!-#REF!),(B34-D34))","v":2.007167472025214E-2}]
[33,2.4498096533639449E-2,{"$f":"IF(Lambda=\"\",#REF!,B35)","v":2.4498096533639449E-2},0,{"$f":"IF(Lambda=\"\",(#REF!-#REF!),(B35-D35))","v":2.4498096533639449E-2}]
[34,2.9582648729483924E-2,{"$f":"IF(Lambda=\"\",#REF!,B36)","v":2.9582648729483924E-2},0,{"$f":"IF(Lambda=\"\",(#REF!-#REF!),(B36-D36))","v":2.9582648729483924E-2}]
[35,3.5373736357714333E-2,{"$f":"IF(Lambda=\"\",#REF!,B37)","v":3.5373736357714333E-2},0,{"$f":"IF(Lambda=\"\",(#REF!-#REF!),(B37-D37))","v":3.5373736357714333E-2}]
[36,4.1918472796201547E-2,{"$f":"IF(Lambda=\"\",#REF!,B38)","v":4.1918472796201547E-2},0,{"$f":"IF(Lambda=\"\",(#REF!-#REF!),(B38-D38))","v":4.1918472796201547E-2}]
[37,4.9262442789704104E-2,{"$f":"IF(Lambda=\"\",#REF!,B39)","v":4.9262442789704104E-2},0,{"$f":"IF(Lambda=\"\",(#REF!-#REF!),(B39-D39))","v":4.9262442789704104E-2}]
[38,5.7449505885646089E-2,{"$f":"IF(Lambda=\"\",#REF!,B40)","v":5.7449505885646089E-2},0,{"$f":"IF(Lambda=\"\",(#REF!-#REF!),(B40-D40))","v":5.7449505885646089E-2}]
[39,6.6521637496535974E-2,{"$f":"IF(Lambda=\"\",#REF!,B41)","v":6.6521637496535974E-2},0,{"$f":"IF(Lambda=\"\",(#REF!-#REF!),(B41-D41))","v":6.6521637496535974E-2}]
[40,7.6518804493024631E-2,{"$f":"IF(Lambda=\"\",#REF!,B42)","v":7.6518804493024631E-2},0,{"$f":"IF(Lambda=\"\",(#REF!-#REF!),(B42-D42))","v":7.6518804493024631E-2}]
[41,8.7478872075781366E-2,{"$f":"IF(Lambda=\"\",#REF!,B43)","v":8.7478872075781366E-2},0,{"$f":"IF(Lambda=\"\",(#REF!-#REF!),(B43-D43))","v":8.7478872075781366E-2}]
[42,9.9437538647990542E-2,{"$f":"IF(Lambda=\"\",#REF!,B44)","v":9.9437538647990542E-2},0,{"$f":"IF(Lambda=\"\",(#REF!-#REF!),(B44-D44))","v":9.9437538647990542E-2}]
[43,0.11242829547896695,{"$f":"IF(Lambda=\"\",#REF!,B45)","v":0.11242829547896695},0,{"$f":"IF(Lambda=\"\",(#REF!-#REF!),(B45-D45))","v":0.11242829547896695}]
[44,0.12648240808493025,{"$f":"IF(Lambda=\"\",#REF!,B46)","v":0.12648240808493025},0,{"$f":"IF(Lambda=\"\",(#REF!-#REF!),(B46-D46))","v":0.12648240808493025}]
[45,0.1416289164341549,{"$f":"IF(Lambda=\"\",#REF!,B47)","v":0.1416289164341549},0,{"$f":"IF(Lambda=\"\",(#REF!-#REF!),(B47-D47))","v":0.1416289164341549}]
[46,0.1578946512919672,{"$f":"IF(Lambda=\"\",#REF!,B48)","v":0.1578946512919672},0,{"$f":"IF(Lambda=\"\",(#REF!-#REF!),(B48-D48))","v":0.1578946512919672}]
[47,0.17530426424408324,{"$f":"IF(Lambda=\"\",#REF!,B49)","v":0.17530426424408324},0,{"$f":"IF(Lambda=\"\",(#REF!-#REF!),(B49-D49))","v":0.17530426424408324}]
[48,0.1938802691642664,{"$f":"IF(Lambda=\"\",#REF!,B50)","v":0.1938802691642664},0,{"$f":"IF(Lambda=\"\",(#REF!-#REF!),(B50-D50))","v":0.1938802691642664}]
[49,0.21364309311668181,{"$f":"IF(Lambda=\"\",#REF!,B51)","v":0.21364309311668181},0,{"$f":"IF(Lambda=\"\",(#REF!-#REF!),(B51-D51))","v":0.21364309311668181}]
[50,0.23461113490023119,{"$f":"IF(Lambda=\"\",#REF!,B52)","v":0.23461113490023119},0,{"$f":"IF(Lambda=\"\",(#REF!-#REF!),(B52-D52))","v":0.23461113490023119}]
[51,0.2568008296469238,{"$f":"IF(Lambda=\"\",#REF!,B53)","v":0.2568008296469238},0,{"$f":"IF(Lambda=\"\",(#REF!-#REF!),(B53-D53))","v":0.2568008296469238}]
[52,0.28022671807864014,{"$f":"IF(Lambda=\"\",#REF!,B54)","v":0.28022671807864014},0,{"$f":"IF(Lambda=\"\",(#REF!-#REF!),(B54-D54))","v":0.28022671807864014}]
[53,0.30490151920311781,{"$f":"IF(Lambda=\"\",#REF!,B55)","v":0.30490151920311781},0,{"$f":"IF(Lambda=\"\",(#REF!-#REF!),(B55-D55))","v":0.30490151920311781}]
[54,0.33083620539191239,{"$f":"IF(Lambda=\"\",#REF!,B56)","v":0.33083620539191239},0,{"$f":"IF(Lambda=\"\",(#REF!-#REF!),(B56-D56))","v":0.33083620539191239}]
[55,0.35804007892998324,{"$f":"IF(Lambda=\"\",#REF!,B57)","v":0.35804007892998324},0,{"$f":"IF(Lambda=\"\",(#REF!-#REF!),(B57-D57))","v":0.35804007892998324}]
[56,0.38652084925838842,{"$f":"IF(Lambda=\"\",#REF!,B58)","v":0.38652084925838842},0,{"$f":"IF(Lambda=\"\",(#REF!-#REF!),(B58-D58))","v":0.38652084925838842}]
[57,0.41628471024941682,{"$f":"IF(Lambda=\"\",#REF!,B59)","v":0.41628471024941682},0,{"$f":"IF(Lambda=\"\",(#REF!-#REF!),(B59-D59))","v":0.41628471024941682}]
[58,0.44733641695929999,{"$f":"IF(Lambda=\"\",#REF!,B60)","v":0.44733641695929999},0,{"$f":"IF(Lambda=\"\",(#REF!-#REF!),(B60-D60))","v":0.44733641695929999}]
[59,0.47967936139537304,{"$f":"IF(Lambda=\"\",#REF!,B61)","v":0.47967936139537304},0,{"$f":"IF(Lambda=\"\",(#REF!-#REF!),(B61-D61))","v":0.47967936139537304}]
[60,0.51331564691747389,{"$f":"IF(Lambda=\"\",#REF!,B62)","v":0.51331564691747389},0,{"$f":"IF(Lambda=\"\",(#REF!-#REF!),(B62-D62))","v":0.51331564691747389}]
[61,0.5482461609639232,{"$f":"IF(Lambda=\"\",#REF!,B63)","v":0.5482461609639232},0,{"$f":"IF(Lambda=\"\",(#REF!-#REF!),(B63-D63))","v":0.5482461609639232}]
[62,0.58447064585556707,{"$f":"IF(Lambda=\"\",#REF!,B64)","v":0.58447064585556707},0,{"$f":"IF(Lambda=\"\",(#REF!-#REF!),(B64-D64))","v":0.58447064585556707}]
[63,0.6219877674850105,{"$f":"IF(Lambda=\"\",#REF!,B65)","v":0.6219877674850105},0,{"$f":"IF(Lambda=\"\",(#REF!-#REF!),(B65-D65))","v":0.6219877674850105}]
[64,0.66079518174531371,{"$f":"IF(Lambda=\"\",#REF!,B66)","v":0.66079518174531371},0,{"$f":"IF(Lambda=\"\",(#REF!-#REF!),(B66-D66))","v":0.66079518174531371}]
[{"$f":"A66+1","v":65},{"$f":"Qavg*Q_4(4*A67*T/(S*_l^2),Lambda*_l/T)","v":0.7008895985921616},{"$f":"IF(Lambda=\"\",#REF!,B67)","v":0.7008895985921616},{"$f":"IF(CutBackTime<A67,(Qavg-CutBackQ)*Q_4(4*(A67-CutBackTime)*T/(S*_l^2),Lambda*_l/T),0)","v":0},{"$f":"IF(Lambda=\"\",(#REF!-#REF!),(B67-D67))","v":0.7008895985921616}]
[66,0.74226684366826989,{"$f":"IF(Lambda=\"\",#REF!,B68)","v":0.74226684366826989},0,{"$f":"IF(Lambda=\"\",(#REF!-#REF!),(B68-D68))","v":0.74226684366826989}]
[67,0.78492191744779316,{"$f":"IF(Lambda=\"\",#REF!,B69)","v":0.78492191744779316},0,{"$f":"IF(Lambda=\"\",(#REF!-#REF!),(B69-D69))","v":0.78492191744779316}]
[68,0.82884905188299662,{"$f":"IF(Lambda=\"\",#REF!,B70)","v":0.82884905188299662},0,{"$f":"IF(Lambda=\"\",(#REF!-#REF!),(B70-D70))","v":0.82884905188299662}]
[69,0.87404176455644667,{"$f":"IF(Lambda=\"\",#REF!,B71)","v":0.87404176455644667},0,{"$f":"IF(Lambda=\"\",(#REF!-#REF!),(B71-D71))","v":0.87404176455644667}]
[70,0.92049291035898284,{"$f":"IF(Lambda=\"\",#REF!,B72)","v":0.92049291035898284},0,{"$f":"IF(Lambda=\"\",(#REF!-#REF!),(B72-D72))","v":0.92049291035898284}]
[71,0.96819473072755524,{"$f":"IF(Lambda=\"\",#REF!,B73)","v":0.96819473072755524},0,{"$f":"IF(Lambda=\"\",(#REF!-#REF!),(B73-D73))","v":0.96819473072755524}]
[72,1.0171389004899378,{"$f":"IF(Lambda=\"\",#REF!,B74)","v":1.0171389004899378},0,{"$f":"IF(Lambda=\"\",(#REF!-#REF!),(B74-D74))","v":1.0171389004899378}]
[73,1.0673165723702704,{"$f":"IF(Lambda=\"\",#REF!,B75)","v":1.0673165723702704},0,{"$f":"IF(Lambda=\"\",(#REF!-#REF!),(B75-D75))","v":1.0673165723702704}]
[74,1.118718419219126,{"$f":"IF(Lambda=\"\",#REF!,B76)","v":1.118718419219126},0,{"$f":"IF(Lambda=\"\",(#REF!-#REF!),(B76-D76))","v":1.118718419219126}]
[75,1.1713346740356758,{"$f":"IF(Lambda=\"\",#REF!,B77)","v":1.1713346740356758},0,{"$f":"IF(Lambda=\"\",(#REF!-#REF!),(B77-D77))","v":1.1713346740356758}]
[76,1.2251551678547061,{"$f":"IF(Lambda=\"\",#REF!,B78)","v":1.2251551678547061},0,{"$f":"IF(Lambda=\"\",(#REF!-#REF!),(B78-D78))","v":1.2251551678547061}]
[77,1.2801693655736923,{"$f":"IF(Lambda=\"\",#REF!,B79)","v":1.2801693655736923},0,{"$f":"IF(Lambda=\"\",(#REF!-#REF!),(B79-D79))","v":1.2801693655736923}]
[78,1.3363663997973378,{"$f":"IF(Lambda=\"\",#REF!,B80)","v":1.3363663997973378},0,{"$f":"IF(Lambda=\"\",(#REF!-#REF!),(B80-D80))","v":1.3363663997973378}]
[79,1.3937351027777136,{"$f":"IF(Lambda=\"\",#REF!,B81)","v":1.3937351027777136},0,{"$f":"IF(Lambda=\"\",(#REF!-#REF!),(B81-D81))","v":1.3937351027777136}]
[80,1.4522640365290471,{"$f":"IF(Lambda=\"\",#REF!,B82)","v":1.4522640365290471},0,{"$f":"IF(Lambda=\"\",(#REF!-#REF!),(B82-D82))","v":1.4522640365290471}]
[81,1.5119415211950014,{"$f":"IF(Lambda=\"\",#REF!,B83)","v":1.5119415211950014},0,{"$f":"IF(Lambda=\"\",(#REF!-#REF!),(B83-D83))","v":1.5119415211950014}]
[82,1.5727556617462501,{"$f":"IF(Lambda=\"\",#REF!,B84)","v":1.5727556617462501},0,{"$f":"IF(Lambda=\"\",(#REF!-#REF!),(B84-D84))","v":1.5727556617462501}]
[83,1.6346943730847514,{"$f":"IF(Lambda=\"\",#REF!,B85)","v":1.6346943730847514},0,{"$f":"IF(Lambda=\"\",(#REF!-#REF!),(B85-D85))","v":1.6346943730847514}]
[84,1.6977454036292658,{"$f":"IF(Lambda=\"\",#REF!,B86)","v":1.6977454036292658},0,{"$f":"IF(Lambda=\"\",(#REF!-#REF!),(B86-D86))","v":1.6977454036292658}]
[85,1.761896357454976,{"$f":"IF(Lambda=\"\",#REF!,B87)","v":1.761896357454976},0,{"$f":"IF(Lambda=\"\",(#REF!-#REF!),(B87-D87))","v":1.761896357454976}]
[86,1.8271347150584476,{"$f":"IF(Lambda=\"\",#REF!,B88)","v":1.8271347150584476},0,{"$f":"IF(Lambda=\"\",(#REF!-#REF!),(B88-D88))","v":1.8271347150584476}]
[87,1.8934478528161331,{"$f":"IF(Lambda=\"\",#REF!,B89)","v":1.8934478528161331},0,{"$f":"IF(Lambda=\"\",(#REF!-#REF!),(B89-D89))","v":1.8934478528161331}]
[88,1.9608230612033033,{"$f":"IF(Lambda=\"\",#REF!,B90)","v":1.9608230612033033},0,{"$f":"IF(Lambda=\"\",(#REF!-#REF!),(B90-D90))","v":1.9608230612033033}]
[89,2.0292475618371686,{"$f":"IF(Lambda=\"\",#REF!,B91)","v":2.0292475618371686},0,{"$f":"IF(Lambda=\"\",(#REF!-#REF!),(B91-D91))","v":2.0292475618371686}]
[90,2.0987085234058407,{"$f":"IF(Lambda=\"\",#REF!,B92)","v":2.0987085234058407},0,{"$f":"IF(Lambda=\"\",(#REF!-#REF!),(B92-D92))","v":2.0987085234058407}]
[91,2.1691930765419305,{"$f":"IF(Lambda=\"\",#REF!,B93)","v":2.1691930765419305},0,{"$f":"IF(Lambda=\"\",(#REF!-#REF!),(B93-D93))","v":2.1691930765419305}]
[92,2.240688327698479,{"$f":"IF(Lambda=\"\",#REF!,B94)","v":2.240688327698479},0,{"$f":"IF(Lambda=\"\",(#REF!-#REF!),(B94-D94))","v":2.240688327698479}]
[93,2.3131813720800554,{"$f":"IF(Lambda=\"\",#REF!,B95)","v":2.3131813720800554},0,{"$f":"IF(Lambda=\"\",(#REF!-#REF!),(B95-D95))","v":2.3131813720800554}]
[94,2.3866593056822376,{"$f":"IF(Lambda=\"\",#REF!,B96)","v":2.3866593056822376},0,{"$f":"IF(Lambda=\"\",(#REF!-#REF!),(B96-D96))","v":2.3866593056822376}]
[95,2.4611092364878324,{"$f":"IF(Lambda=\"\",#REF!,B97)","v":2.4611092364878324},0,{"$f":"IF(Lambda=\"\",(#REF!-#REF!),(B97-D97))","v":2.4611092364878324}]
[96,2.5365182948681642,{"$f":"IF(Lambda=\"\",#REF!,B98)","v":2.5365182948681642},0,{"$f":"IF(Lambda=\"\",(#REF!-#REF!),(B98-D98))","v":2.5365182948681642}]
[97,2.6128736432331956,{"$f":"IF(Lambda=\"\",#REF!,B99)","v":2.6128736432331956},0,{"$f":"IF(Lambda=\"\",(#REF!-#REF!),(B99-D99))","v":2.6128736432331956}]
[98,2.6901624849740813,{"$f":"IF(Lambda=\"\",#REF!,B100)","v":2.6901624849740813},0,{"$f":"IF(Lambda=\"\",(#REF!-#REF!),(B100-D100))","v":2.6901624849740813}]
[99,2.7683720727389796,{"$f":"IF(Lambda=\"\",#REF!,B101)","v":2.7683720727389796},0,{"$f":"IF(Lambda=\"\",(#REF!-#REF!),(B101-D101))","v":2.7683720727389796}]
[100,2.8474897160793398,{"$f":"IF(Lambda=\"\",#REF!,B102)","v":2.8474897160793398},0,{"$f":"IF(Lambda=\"\",(#REF!-#REF!),(B102-D102))","v":2.8474897160793398}]
[101,2.9275027885054747,{"$f":"IF(Lambda=\"\",#REF!,B103)","v":2.9275027885054747},0,{"$f":"IF(Lambda=\"\",(#REF!-#REF!),(B103-D103))","v":2.9275027885054747}]
[102,3.0083987339841292,{"$f":"IF(Lambda=\"\",#REF!,B104)","v":3.0083987339841292},0,{"$f":"IF(Lambda=\"\",(#REF!-#REF!),(B104-D104))","v":3.0083987339841292}]
[103,3.0901650729126611,{"$f":"IF(Lambda=\"\",#REF!,B105)","v":3.0901650729126611},0,{"$f":"IF(Lambda=\"\",(#REF!-#REF!),(B105-D105))","v":3.0901650729126611}]
[104,3.17278940759955,{"$f":"IF(Lambda=\"\",#REF!,B106)","v":3.17278940759955},0,{"$f":"IF(Lambda=\"\",(#REF!-#REF!),(B106-D106))","v":3.17278940759955}]
[105,3.2562594272824397,{"$f":"IF(Lambda=\"\",#REF!,B107)","v":3.2562594272824397},0,{"$f":"IF(Lambda=\"\",(#REF!-#REF!),(B107-D107))","v":3.2562594272824397}]
[106,3.3405629127101975,{"$f":"IF(Lambda=\"\",#REF!,B108)","v":3.3405629127101975},0,{"$f":"IF(Lambda=\"\",(#REF!-#REF!),(B108-D108))","v":3.3405629127101975}]
[107,3.4256877403164752,{"$f":"IF(Lambda=\"\",#REF!,B109)","v":3.4256877403164752},0,{"$f":"IF(Lambda=\"\",(#REF!-#REF!),(B109-D109))","v":3.4256877403164752}]
[108,3.5116218860093937,{"$f":"IF(Lambda=\"\",#REF!,B110)","v":3.5116218860093937},0,{"$f":"IF(Lambda=\"\",(#REF!-#REF!),(B110-D110))","v":3.5116218860093937}]
[109,3.5983534286009067,{"$f":"IF(Lambda=\"\",#REF!,B111)","v":3.5983534286009067},0,{"$f":"IF(Lambda=\"\",(#REF!-#REF!),(B111-D111))","v":3.5983534286009067}]
[110,3.6858705528987832,{"$f":"IF(Lambda=\"\",#REF!,B112)","v":3.6858705528987832},0,{"$f":"IF(Lambda=\"\",(#REF!-#REF!),(B112-D112))","v":3.6858705528987832}]
[111,3.7741615524817007,{"$f":"IF(Lambda=\"\",#REF!,B113)","v":3.7741615524817007},0,{"$f":"IF(Lambda=\"\",(#REF!-#REF!),(B113-D113))","v":3.7741615524817007}]
[112,3.8632148321771398,{"$f":"IF(Lambda=\"\",#REF!,B114)","v":3.8632148321771398},0,{"$f":"IF(Lambda=\"\",(#REF!-#REF!),(B114-D114))","v":3.8632148321771398}]
[113,3.9530189102625588,{"$f":"IF(Lambda=\"\",#REF!,B115)","v":3.9530189102625588},0,{"$f":"IF(Lambda=\"\",(#REF!-#REF!),(B115-D115))","v":3.9530189102625588}]
[114,4.0435624204050935,{"$f":"IF(Lambda=\"\",#REF!,B116)","v":4.0435624204050935},0,{"$f":"IF(Lambda=\"\",(#REF!-#REF!),(B116-D116))","v":4.0435624204050935}]
[115,4.134834113358937,{"$f":"IF(Lambda=\"\",#REF!,B117)","v":4.134834113358937},0,{"$f":"IF(Lambda=\"\",(#REF!-#REF!),(B117-D117))","v":4.134834113358937}]
[116,4.2268228584343976,{"$f":"IF(Lambda=\"\",#REF!,B118)","v":4.2268228584343976},0,{"$f":"IF(Lambda=\"\",(#REF!-#REF!),(B118-D118))","v":4.2268228584343976}]
[117,4.3195176447546197,{"$f":"IF(Lambda=\"\",#REF!,B119)","v":4.3195176447546197},0,{"$f":"IF(Lambda=\"\",(#REF!-#REF!),(B119-D119))","v":4.3195176447546197}]
[118,4.4129075823134656,{"$f":"IF(Lambda=\"\",#REF!,B120)","v":4.4129075823134656},0,{"$f":"IF(Lambda=\"\",(#REF!-#REF!),(B120-D120))","v":4.4129075823134656}]
[119,4.5069819028484037,{"$f":"IF(Lambda=\"\",#REF!,B121)","v":4.5069819028484037},0,{"$f":"IF(Lambda=\"\",(#REF!-#REF!),(B121-D121))","v":4.5069819028484037}]
[120,4.6017299605394069,{"$f":"IF(Lambda=\"\",#REF!,B122)","v":4.6017299605394069},0,{"$f":"IF(Lambda=\"\",(#REF!-#REF!),(B122-D122))","v":4.6017299605394069}]
[121,4.6971412325480104,{"$f":"IF(Lambda=\"\",#REF!,B123)","v":4.6971412325480104},0,{"$f":"IF(Lambda=\"\",(#REF!-#REF!),(B123-D123))","v":4.6971412325480104}]
[122,4.7932053194050628,{"$f":"IF(Lambda=\"\",#REF!,B124)","v":4.7932053194050628},0,{"$f":"IF(Lambda=\"\",(#REF!-#REF!),(B124-D124))","v":4.7932053194050628}]
[123,4.8899119452588851,{"$f":"IF(Lambda=\"\",#REF!,B125)","v":4.8899119452588851},0,{"$f":"IF(Lambda=\"\",(#REF!-#REF!),(B125-D125))","v":4.8899119452588851}]
[124,4.9872509579940996,{"$f":"IF(Lambda=\"\",#REF!,B126)","v":4.9872509579940996},0,{"$f":"IF(Lambda=\"\",(#REF!-#REF!),(B126-D126))","v":4.9872509579940996}]
[125,5.0852123292290283,{"$f":"IF(Lambda=\"\",#REF!,B127)","v":5.0852123292290283},0,{"$f":"IF(Lambda=\"\",(#REF!-#REF!),(B127-D127))","v":5.0852123292290283}]
[126,5.1837861542010675,{"$f":"IF(Lambda=\"\",#REF!,B128)","v":5.1837861542010675},0,{"$f":"IF(Lambda=\"\",(#REF!-#REF!),(B128-D128))","v":5.1837861542010675}]
[127,5.2829626515484041,{"$f":"IF(Lambda=\"\",#REF!,B129)","v":5.2829626515484041},0,{"$f":"IF(Lambda=\"\",(#REF!-#REF!),(B129-D129))","v":5.2829626515484041}]
[128,5.3827321629952536,{"$f":"IF(Lambda=\"\",#REF!,B130)","v":5.3827321629952536},0,{"$f":"IF(Lambda=\"\",(#REF!-#REF!),(B130-D130))","v":5.3827321629952536}]
[{"$f":"A130+1","v":129},{"$f":"Qavg*Q_4(4*A131*T/(S*_l^2),Lambda*_l/T)","v":5.4830851529480524},{"$f":"IF(Lambda=\"\",#REF!,B131)","v":5.4830851529480524},{"$f":"IF(CutBackTime<A131,(Qavg-CutBackQ)*Q_4(4*(A131-CutBackTime)*T/(S*_l^2),Lambda*_l/T),0)","v":0},{"$f":"IF(Lambda=\"\",(#REF!-#REF!),(B131-D131))","v":5.4830851529480524}]
[130,5.5840122080090815,{"$f":"IF(Lambda=\"\",#REF!,B132)","v":5.5840122080090815},0,{"$f":"IF(Lambda=\"\",(#REF!-#REF!),(B132-D132))","v":5.5840122080090815}]
[131,5.6855040364151286,{"$f":"IF(Lambda=\"\",#REF!,B133)","v":5.6855040364151286},0,{"$f":"IF(Lambda=\"\",(#REF!-#REF!),(B133-D133))","v":5.6855040364151286}]
[132,5.7875514674047519,{"$f":"IF(Lambda=\"\",#REF!,B134)","v":5.7875514674047519},0,{"$f":"IF(Lambda=\"\",(#REF!-#REF!),(B134-D134))","v":5.7875514674047519}]
[133,5.8901454505223274,{"$f":"IF(Lambda=\"\",#REF!,B135)","v":5.8901454505223274},0,{"$f":"IF(Lambda=\"\",(#REF!-#REF!),(B135-D135))","v":5.8901454505223274}]
[134,5.9932770548627241,{"$f":"IF(Lambda=\"\",#REF!,B136)","v":5.9932770548627241},0,{"$f":"IF(Lambda=\"\",(#REF!-#REF!),(B136-D136))","v":5.9932770548627241}]
[135,6.0969374682616415,{"$f":"IF(Lambda=\"\",#REF!,B137)","v":6.0969374682616415},0,{"$f":"IF(Lambda=\"\",(#REF!-#REF!),(B137-D137))","v":6.0969374682616415}]
[136,6.2011179964368068,{"$f":"IF(Lambda=\"\",#REF!,B138)","v":6.2011179964368068},0,{"$f":"IF(Lambda=\"\",(#REF!-#REF!),(B138-D138))","v":6.2011179964368068}]
[137,6.3058100620837605,{"$f":"IF(Lambda=\"\",#REF!,B139)","v":6.3058100620837605},0,{"$f":"IF(Lambda=\"\",(#REF!-#REF!),(B139-D139))","v":6.3058100620837605}]
[138,6.4110052039311922,{"$f":"IF(Lambda=\"\",#REF!,B140)","v":6.4110052039311922},0,{"$f":"IF(Lambda=\"\",(#REF!-#REF!),(B140-D140))","v":6.4110052039311922}]
[139,6.5166950757580553,{"$f":"IF(Lambda=\"\",#REF!,B141)","v":6.5166950757580553},0,{"$f":"IF(Lambda=\"\",(#REF!-#REF!),(B141-D141))","v":6.5166950757580553}]
[140,6.6228714453785216,{"$f":"IF(Lambda=\"\",#REF!,B142)","v":6.6228714453785216},0,{"$f":"IF(Lambda=\"\",(#REF!-#REF!),(B142-D142))","v":6.6228714453785216}]
[141,6.729526193595202,{"$f":"IF(Lambda=\"\",#REF!,B143)","v":6.729526193595202},0,{"$f":"IF(Lambda=\"\",(#REF!-#REF!),(B143-D143))","v":6.729526193595202}]
[142,6.8366513131262918,{"$f":"IF(Lambda=\"\",#REF!,B144)","v":6.8366513131262918},0,{"$f":"IF(Lambda=\"\",(#REF!-#REF!),(B144-D144))","v":6.8366513131262918}]
[143,6.9442389075086499,{"$f":"IF(Lambda=\"\",#REF!,B145)","v":6.9442389075086499},0,{"$f":"IF(Lambda=\"\",(#REF!-#REF!),(B145-D145))","v":6.9442389075086499}]
[144,7.0522811899785127,{"$f":"IF(Lambda=\"\",#REF!,B146)","v":7.0522811899785127},0,{"$f":"IF(Lambda=\"\",(#REF!-#REF!),(B146-D146))","v":7.0522811899785127}]
[145,7.1607704823347209,{"$f":"IF(Lambda=\"\",#REF!,B147)","v":7.1607704823347209},0,{"$f":"IF(Lambda=\"\",(#REF!-#REF!),(B147-D147))","v":7.1607704823347209}]
[146,7.2696992137845324,{"$f":"IF(Lambda=\"\",#REF!,B148)","v":7.2696992137845324},0,{"$f":"IF(Lambda=\"\",(#REF!-#REF!),(B148-D148))","v":7.2696992137845324}]
[147,7.379059919775929,{"$f":"IF(Lambda=\"\",#REF!,B149)","v":7.379059919775929},0,{"$f":"IF(Lambda=\"\",(#REF!-#REF!),(B149-D149))","v":7.379059919775929}]
[148,7.4888452408178008,{"$f":"IF(Lambda=\"\",#REF!,B150)","v":7.4888452408178008},0,{"$f":"IF(Lambda=\"\",(#REF!-#REF!),(B150-D150))","v":7.4888452408178008}]
[149,7.5990479212897606,{"$f":"IF(Lambda=\"\",#REF!,B151)","v":7.5990479212897606},0,{"$f":"IF(Lambda=\"\",(#REF!-#REF!),(B151-D151))","v":7.5990479212897606}]
[150,7.7096608082442426,{"$f":"IF(Lambda=\"\",#REF!,B152)","v":7.7096608082442426},0,{"$f":"IF(Lambda=\"\",(#REF!-#REF!),(B152-D152))","v":7.7096608082442426}]
[151,7.8206768502019077,{"$f":"IF(Lambda=\"\",#REF!,B153)","v":7.8206768502019077},0,{"$f":"IF(Lambda=\"\",(#REF!-#REF!),(B153-D153))","v":7.8206768502019077}]
[152,7.9320890959421675,{"$f":"IF(Lambda=\"\",#REF!,B154)","v":7.9320890959421675},0,{"$f":"IF(Lambda=\"\",(#REF!-#REF!),(B154-D154))","v":7.9320890959421675}]
[153,8.0438906932897982,{"$f":"IF(Lambda=\"\",#REF!,B155)","v":8.0438906932897982},0,{"$f":"IF(Lambda=\"\",(#REF!-#REF!),(B155-D155))","v":8.0438906932897982}]
[154,8.1560748879008624,{"$f":"IF(Lambda=\"\",#REF!,B156)","v":8.1560748879008624},0,{"$f":"IF(Lambda=\"\",(#REF!-#REF!),(B156-D156))","v":8.1560748879008624}]
[155,8.2686350220461389,{"$f":"IF(Lambda=\"\",#REF!,B157)","v":8.2686350220461389},0,{"$f":"IF(Lambda=\"\",(#REF!-#REF!),(B157-D157))","v":8.2686350220461389}]
[156,8.3815645333963413,{"$f":"IF(Lambda=\"\",#REF!,B158)","v":8.3815645333963413},0,{"$f":"IF(Lambda=\"\",(#REF!-#REF!),(B158-D158))","v":8.3815645333963413}]
[157,8.4948569538082008,{"$f":"IF(Lambda=\"\",#REF!,B159)","v":8.4948569538082008},0,{"$f":"IF(Lambda=\"\",(#REF!-#REF!),(B159-D159))","v":8.4948569538082008}]
[158,8.6085059081134272,{"$f":"IF(Lambda=\"\",#REF!,B160)","v":8.6085059081134272},0,{"$f":"IF(Lambda=\"\",(#REF!-#REF!),(B160-D160))","v":8.6085059081134272}]
[159,8.7225051129110742,{"$f":"IF(Lambda=\"\",#REF!,B161)","v":8.7225051129110742},0,{"$f":"IF(Lambda=\"\",(#REF!-#REF!),(B161-D161))","v":8.7225051129110742}]
[160,8.8368483753642959,{"$f":"IF(Lambda=\"\",#REF!,B162)","v":8.8368483753642959},0,{"$f":"IF(Lambda=\"\",(#REF!-#REF!),(B162-D162))","v":8.8368483753642959}]
[161,8.9515295920022382,{"$f":"IF(Lambda=\"\",#REF!,B163)","v":8.9515295920022382},0,{"$f":"IF(Lambda=\"\",(#REF!-#REF!),(B163-D163))","v":8.9515295920022382}]
[162,9.0665427475278904,{"$f":"IF(Lambda=\"\",#REF!,B164)","v":9.0665427475278904},0,{"$f":"IF(Lambda=\"\",(#REF!-#REF!),(B164-D164))","v":9.0665427475278904}]
[163,9.1818819136329086,{"$f":"IF(Lambda=\"\",#REF!,B165)","v":9.1818819136329086},0,{"$f":"IF(Lambda=\"\",(#REF!-#REF!),(B165-D165))","v":9.1818819136329086}]
[164,9.297541247819181,{"$f":"IF(Lambda=\"\",#REF!,B166)","v":9.297541247819181},0,{"$f":"IF(Lambda=\"\",(#REF!-#REF!),(B166-D166))","v":9.297541247819181}]
[165,9.4135149922286239,{"$f":"IF(Lambda=\"\",#REF!,B167)","v":9.4135149922286239},0,{"$f":"IF(Lambda=\"\",(#REF!-#REF!),(B167-D167))","v":9.4135149922286239}]
[166,9.5297974724812686,{"$f":"IF(Lambda=\"\",#REF!,B168)","v":9.5297974724812686},0,{"$f":"IF(Lambda=\"\",(#REF!-#REF!),(B168-D168))","v":9.5297974724812686}]
[167,9.6463830965219657,{"$f":"IF(Lambda=\"\",#REF!,B169)","v":9.6463830965219657},0,{"$f":"IF(Lambda=\"\",(#REF!-#REF!),(B169-D169))","v":9.6463830965219657}]
[168,9.7632663534765598,{"$f":"IF(Lambda=\"\",#REF!,B170)","v":9.7632663534765598},0,{"$f":"IF(Lambda=\"\",(#REF!-#REF!),(B170-D170))","v":9.7632663534765598}]
[169,9.8804418125186597,{"$f":"IF(Lambda=\"\",#REF!,B171)","v":9.8804418125186597},0,{"$f":"IF(Lambda=\"\",(#REF!-#REF!),(B171-D171))","v":9.8804418125186597}]
[170,9.9979041217438667,{"$f":"IF(Lambda=\"\",#REF!,B172)","v":9.9979041217438667},0,{"$f":"IF(Lambda=\"\",(#REF!-#REF!),(B172-D172))","v":9.9979041217438667}]
[171,10.115648007058102,{"$f":"IF(Lambda=\"\",#REF!,B173)","v":10.115648007058102},0,{"$f":"IF(Lambda=\"\",(#REF!-#REF!),(B173-D173))","v":10.115648007058102}]
[172,10.233668271073199,{"$f":"IF(Lambda=\"\",#REF!,B174)","v":10.233668271073199},0,{"$f":"IF(Lambda=\"\",(#REF!-#REF!),(B174-D174))","v":10.233668271073199}]
[173,10.351959792015593,{"$f":"IF(Lambda=\"\",#REF!,B175)","v":10.351959792015593},0,{"$f":"IF(Lambda=\"\",(#REF!-#REF!),(B175-D175))","v":10.351959792015593}]
[174,10.470517522645467,{"$f":"IF(Lambda=\"\",#REF!,B176)","v":10.470517522645467},0,{"$f":"IF(Lambda=\"\",(#REF!-#REF!),(B176-D176))","v":10.470517522645467}]
[175,10.589336489186682,{"$f":"IF(Lambda=\"\",#REF!,B177)","v":10.589336489186682},0,{"$f":"IF(Lambda=\"\",(#REF!-#REF!),(B177-D177))","v":10.589336489186682}]
[176,10.708411790270073,{"$f":"IF(Lambda=\"\",#REF!,B178)","v":10.708411790270073},0,{"$f":"IF(Lambda=\"\",(#REF!-#REF!),(B178-D178))","v":10.708411790270073}]
[177,10.827738595886039,{"$f":"IF(Lambda=\"\",#REF!,B179)","v":10.827738595886039},0,{"$f":"IF(Lambda=\"\",(#REF!-#REF!),(B179-D179))","v":10.827738595886039}]
[178,10.947312146350702,{"$f":"IF(Lambda=\"\",#REF!,B180)","v":10.947312146350702},0,{"$f":"IF(Lambda=\"\",(#REF!-#REF!),(B180-D180))","v":10.947312146350702}]
[179,11.067127751284087,{"$f":"IF(Lambda=\"\",#REF!,B181)","v":11.067127751284087},0,{"$f":"IF(Lambda=\"\",(#REF!-#REF!),(B181-D181))","v":11.067127751284087}]
[180,11.187180788599143,{"$f":"IF(Lambda=\"\",#REF!,B182)","v":11.187180788599143},0,{"$f":"IF(Lambda=\"\",(#REF!-#REF!),(B182-D182))","v":11.187180788599143}]
[181,11.307466703503618,{"$f":"IF(Lambda=\"\",#REF!,B183)","v":11.307466703503618},2.3444077795681397E-75,{"$f":"IF(Lambda=\"\",(#REF!-#REF!),(B183-D183))","v":11.307466703503618}]
[182,11.427981007514388,{"$f":"IF(Lambda=\"\",#REF!,B184)","v":11.427981007514388},2.1760331283481563E-38,{"$f":"IF(Lambda=\"\",(#REF!-#REF!),(B184-D184))","v":11.427981007514388}]
[183,11.548719277483626,{"$f":"IF(Lambda=\"\",#REF!,B185)","v":11.548719277483626},5.9475480562777243E-26,{"$f":"IF(Lambda=\"\",(#REF!-#REF!),(B185-D185))","v":11.548719277483626}]
[184,11.669677154637279,{"$f":"IF(Lambda=\"\",#REF!,B186)","v":11.669677154637279},1.1153964906258144E-19,{"$f":"IF(Lambda=\"\",(#REF!-#REF!),(B186-D186))","v":11.669677154637279}]
[185,11.790850343625667,{"$f":"IF(Lambda=\"\",#REF!,B187)","v":11.790850343625667},6.9712484874969342E-16,{"$f":"IF(Lambda=\"\",(#REF!-#REF!),(B187-D187))","v":11.790850343625667}]
[186,11.912234611586921,{"$f":"IF(Lambda=\"\",#REF!,B188)","v":11.912234611586921},2.4821723344710403E-13,{"$f":"IF(Lambda=\"\",(#REF!-#REF!),(B188-D188))","v":11.912234611586673}]
[187,12.03382578722198,{"$f":"IF(Lambda=\"\",#REF!,B189)","v":12.03382578722198},1.7062969993698389E-11,{"$f":"IF(Lambda=\"\",(#REF!-#REF!),(B189-D189))","v":12.033825787204917}]
[188,12.15561975988242,{"$f":"IF(Lambda=\"\",#REF!,B190)","v":12.15561975988242},4.1768042797272042E-10,{"$f":"IF(Lambda=\"\",(#REF!-#REF!),(B190-D190))","v":12.15561975946474}]
[189,12.277612478669958,{"$f":"IF(Lambda=\"\",#REF!,B191)","v":12.277612478669958},5.1210796350580275E-9,{"$f":"IF(Lambda=\"\",(#REF!-#REF!),(B191-D191))","v":12.277612473548878}]
[190,12.39979995154833,{"$f":"IF(Lambda=\"\",#REF!,B192)","v":12.39979995154833},3.8616730717927558E-8,{"$f":"IF(Lambda=\"\",(#REF!-#REF!),(B192-D192))","v":12.399799912931599}]
[191,12.522178244467803,{"$f":"IF(Lambda=\"\",#REF!,B193)","v":12.522178244467803},2.0417440079759307E-7,{"$f":"IF(Lambda=\"\",(#REF!-#REF!),(B193-D193))","v":12.522178040293403}]
[192,12.644743480501013,{"$f":"IF(Lambda=\"\",#REF!,B194)","v":12.644743480501013},8.262202654195881E-7,{"$f":"IF(Lambda=\"\",(#REF!-#REF!),(B194-D194))","v":12.644742654280748}]
[{"$f":"A194+1","v":193},{"$f":"Qavg*Q_4(4*A195*T/(S*_l^2),Lambda*_l/T)","v":12.767491838990612},{"$f":"IF(Lambda=\"\",#REF!,B195)","v":12.767491838990612},{"$f":"IF(CutBackTime<A195,(Qavg-CutBackQ)*Q_4(4*(A195-CutBackTime)*T/(S*_l^2),Lambda*_l/T),0)","v":2.7194700664535036E-6},{"$f":"IF(Lambda=\"\",(#REF!-#REF!),(B195-D195))","v":12.767489119520546}]
[194,12.890419554710215,{"$f":"IF(Lambda=\"\",#REF!,B196)","v":12.890419554710215},7.6049620259319554E-6,{"$f":"IF(Lambda=\"\",(#REF!-#REF!),(B196-D196))","v":12.89041194974819}]
[195,13.013522917035516,{"$f":"IF(Lambda=\"\",#REF!,B197)","v":13.013522917035516},1.8657645014510222E-5,{"$f":"IF(Lambda=\"\",(#REF!-#REF!),(B197-D197))","v":13.013504259390501}]
[196,13.136798269128308,{"$f":"IF(Lambda=\"\",#REF!,B198)","v":13.136798269128308},4.113729488361258E-5,{"$f":"IF(Lambda=\"\",(#REF!-#REF!),(B198-D198))","v":13.136757131833424}]
[197,13.260242007131232,{"$f":"IF(Lambda=\"\",#REF!,B199)","v":13.260242007131232},8.3035683205919891E-5,{"$f":"IF(Lambda=\"\",(#REF!-#REF!),(B199-D199))","v":13.260158971448027}]
[198,13.38385057937564,{"$f":"IF(Lambda=\"\",#REF!,B200)","v":13.38385057937564},1.5567110152770293E-4,{"$f":"IF(Lambda=\"\",(#REF!-#REF!),(B200-D200))","v":13.383694908274112}]
[199,13.507620485598622,{"$f":"IF(Lambda=\"\",#REF!,B201)","v":13.507620485598622},2.741730096446849E-4,{"$f":"IF(Lambda=\"\",(#REF!-#REF!),(B201-D201))","v":13.507346312588977}]
[200,13.631548276173987,{"$f":"IF(Lambda=\"\",#REF!,B202)","v":13.631548276173987},4.5781855231532122E-4,{"$f":"IF(Lambda=\"\",(#REF!-#REF!),(B202-D202))","v":13.631090457621672}]
[201,13.755630551352191,{"$f":"IF(Lambda=\"\",#REF!,B203)","v":13.755630551352191},7.3020319976459594E-4,{"$f":"IF(Lambda=\"\",(#REF!-#REF!),(B203-D203))","v":13.754900348152425}]
[202,13.879863960513307,{"$f":"IF(Lambda=\"\",#REF!,B204)","v":13.879863960513307},1.1192458476743654E-3,{"$f":"IF(Lambda=\"\",(#REF!-#REF!),(B204-D204))","v":13.878744714665633}]
[203,14.004245201429427,{"$f":"IF(Lambda=\"\",#REF!,B205)","v":14.004245201429427},1.6570423747539688E-3,{"$f":"IF(Lambda=\"\",(#REF!-#REF!),(B205-D205))","v":14.002588159054673}]
[204,14.128771019539535,{"$f":"IF(Lambda=\"\",#REF!,B206)","v":14.128771019539535},2.3795904476649962E-3,{"$f":"IF(Lambda=\"\",(#REF!-#REF!),(B206-D206))","v":14.12639142909187}]
[205,14.253438207233973,{"$f":"IF(Lambda=\"\",#REF!,B207)","v":14.253438207233973},3.3264127740445133E-3,{"$f":"IF(Lambda=\"\",(#REF!-#REF!),(B207-D207))","v":14.250111794459929}]
[206,14.378243603149759,{"$f":"IF(Lambda=\"\",#REF!,B208)","v":14.378243603149759},4.5401069632299337E-3,{"$f":"IF(Lambda=\"\",(#REF!-#REF!),(B208-D208))","v":14.373703496186529}]
[207,14.503184091477696,{"$f":"IF(Lambda=\"\",#REF!,B209)","v":14.503184091477696},6.0658486845384619E-3,{"$f":"IF(Lambda=\"\",(#REF!-#REF!),(B209-D209))","v":14.497118242793157}]
[208,14.62825660127818,{"$f":"IF(Lambda=\"\",#REF!,B210)","v":14.62825660127818},7.9508718391124913E-3,{"$f":"IF(Lambda=\"\",(#REF!-#REF!),(B210-D210))","v":14.620305729439067}]
[209,14.753458105808622,{"$f":"IF(Lambda=\"\",#REF!,B211)","v":14.753458105808622},1.0243945724501536E-2,{"$f":"IF(Lambda=\"\",(#REF!-#REF!),(B211-D211))","v":14.74321416008412}]
[210,14.878785621860388,{"$f":"IF(Lambda=\"\",#REF!,B212)","v":14.878785621860388},1.2994865213319478E-2,{"$f":"IF(Lambda=\"\",(#REF!-#REF!),(B212-D212))","v":14.865790756647069}]
[211,15.004236209105953,{"$f":"IF(Lambda=\"\",#REF!,B213)","v":15.004236209105953},1.6253966150947881E-2,{"$f":"IF(Lambda=\"\",(#REF!-#REF!),(B213-D213))","v":14.987982242955004}]
[212,15.12980696945667,{"$f":"IF(Lambda=\"\",#REF!,B214)","v":15.12980696945667},2.007167472025214E-2,{"$f":"IF(Lambda=\"\",(#REF!-#REF!),(B214-D214))","v":15.109735294736417}]
[213,15.255495046429161,{"$f":"IF(Lambda=\"\",#REF!,B215)","v":15.255495046429161},2.4498096533639449E-2,{"$f":"IF(Lambda=\"\",(#REF!-#REF!),(B215-D215))","v":15.230996949895522}]
[214,15.38129762452265,{"$f":"IF(Lambda=\"\",#REF!,B216)","v":15.38129762452265},2.9582648729483924E-2,{"$f":"IF(Lambda=\"\",(#REF!-#REF!),(B216-D216))","v":15.351714975793167}]
[215,15.507211928604498,{"$f":"IF(Lambda=\"\",#REF!,B217)","v":15.507211928604498},3.5373736357714333E-2,{"$f":"IF(Lambda=\"\",(#REF!-#REF!),(B217-D217))","v":15.471838192246784}]
[216,15.633235223307041,{"$f":"IF(Lambda=\"\",#REF!,B218)","v":15.633235223307041},4.1918472796201547E-2,{"$f":"IF(Lambda=\"\",(#REF!-#REF!),(B218-D218))","v":15.59131675051084}]
[217,15.759364812431537,{"$f":"IF(Lambda=\"\",#REF!,B219)","v":15.759364812431537},4.9262442789704104E-2,{"$f":"IF(Lambda=\"\",(#REF!-#REF!),(B219-D219))","v":15.710102369641833}]
[218,15.885598038363334,{"$f":"IF(Lambda=\"\",#REF!,B220)","v":15.885598038363334},5.7449505885646089E-2,{"$f":"IF(Lambda=\"\",(#REF!-#REF!),(B220-D220))","v":15.828148532477687}]
[219,16.011932281494634,{"$f":"IF(Lambda=\"\",#REF!,B221)","v":16.011932281494634},6.6521637496535974E-2,{"$f":"IF(Lambda=\"\",(#REF!-#REF!),(B221-D221))","v":15.945410643998098}]
[220,16.138364959657181,{"$f":"IF(Lambda=\"\",#REF!,B222)","v":16.138364959657181},7.6518804493024631E-2,{"$f":"IF(Lambda=\"\",(#REF!-#REF!),(B222-D222))","v":16.061846155164158}]
[221,16.264893527563274,{"$f":"IF(Lambda=\"\",#REF!,B223)","v":16.264893527563274},8.7478872075781366E-2,{"$f":"IF(Lambda=\"\",(#REF!-#REF!),(B223-D223))","v":16.177414655487492}]
[222,16.39151547625524,{"$f":"IF(Lambda=\"\",#REF!,B224)","v":16.39151547625524},9.9437538647990542E-2,{"$f":"IF(Lambda=\"\",(#REF!-#REF!),(B224-D224))","v":16.29207793760725}]
[223,16.518228332564117,{"$f":"IF(Lambda=\"\",#REF!,B225)","v":16.518228332564117},0.11242829547896695,{"$f":"IF(Lambda=\"\",(#REF!-#REF!),(B225-D225))","v":16.40580003708515}]
[224,16.645029658576622,{"$f":"IF(Lambda=\"\",#REF!,B226)","v":16.645029658576622},0.12648240808493025,{"$f":"IF(Lambda=\"\",(#REF!-#REF!),(B226-D226))","v":16.518547250491693}]
[225,16.7719170511096,{"$f":"IF(Lambda=\"\",#REF!,B227)","v":16.7719170511096},0.1416289164341549,{"$f":"IF(Lambda=\"\",(#REF!-#REF!),(B227-D227))","v":16.630288134675446}]
[226,16.898888141194696,{"$f":"IF(Lambda=\"\",#REF!,B228)","v":16.898888141194696},0.1578946512919672,{"$f":"IF(Lambda=\"\",(#REF!-#REF!),(B228-D228))","v":16.740993489902728}]
[227,17.025940593567906,{"$f":"IF(Lambda=\"\",#REF!,B229)","v":17.025940593567906},0.17530426424408324,{"$f":"IF(Lambda=\"\",(#REF!-#REF!),(B229-D229))","v":16.850636329323823}]
[228,17.153072106170356,{"$f":"IF(Lambda=\"\",#REF!,B230)","v":17.153072106170356},0.1938802691642664,{"$f":"IF(Lambda=\"\",(#REF!-#REF!),(B230-D230))","v":16.959191837006088}]
[229,17.280280409655312,{"$f":"IF(Lambda=\"\",#REF!,B231)","v":17.280280409655312},0.21364309311668181,{"$f":"IF(Lambda=\"\",(#REF!-#REF!),(B231-D231))","v":17.066637316538628}]
[230,17.407563266902411,{"$f":"IF(Lambda=\"\",#REF!,B232)","v":17.407563266902411},0.23461113490023119,{"$f":"IF(Lambda=\"\",(#REF!-#REF!),(B232-D232))","v":17.17295213200218}]
[231,17.534918472540998,{"$f":"IF(Lambda=\"\",#REF!,B233)","v":17.534918472540998},0.2568008296469238,{"$f":"IF(Lambda=\"\",(#REF!-#REF!),(B233-D233))","v":17.278117642894074}]
[232,17.662343852480056,{"$f":"IF(Lambda=\"\",#REF!,B234)","v":17.662343852480056},0.28022671807864014,{"$f":"IF(Lambda=\"\",(#REF!-#REF!),(B234-D234))","v":17.382117134401415}]
[233,17.789837263444618,{"$f":"IF(Lambda=\"\",#REF!,B235)","v":17.789837263444618},0.30490151920311781,{"$f":"IF(Lambda=\"\",(#REF!-#REF!),(B235-D235))","v":17.484935744241501}]
[234,17.917396592522291,{"$f":"IF(Lambda=\"\",#REF!,B236)","v":17.917396592522291},0.33083620539191239,{"$f":"IF(Lambda=\"\",(#REF!-#REF!),(B236-D236))","v":17.58656038713038}]
[235,18.045019756713057,{"$f":"IF(Lambda=\"\",#REF!,B237)","v":18.045019756713057},0.35804007892998324,{"$f":"IF(Lambda=\"\",(#REF!-#REF!),(B237-D237))","v":17.686979677783075}]
[236,18.172704702489753,{"$f":"IF(Lambda=\"\",#REF!,B238)","v":18.172704702489753},0.38652084925838842,{"$f":"IF(Lambda=\"\",(#REF!-#REF!),(B238-D238))","v":17.786183853231364}]
[237,18.300449405362823,{"$f":"IF(Lambda=\"\",#REF!,B239)","v":18.300449405362823},0.41628471024941682,{"$f":"IF(Lambda=\"\",(#REF!-#REF!),(B239-D239))","v":17.884164695113405}]
[238,18.428251869453348,{"$f":"IF(Lambda=\"\",#REF!,B240)","v":18.428251869453348},0.44733641695929999,{"$f":"IF(Lambda=\"\",(#REF!-#REF!),(B240-D240))","v":17.980915452494049}]
[239,18.556110127072589,{"$f":"IF(Lambda=\"\",#REF!,B241)","v":18.556110127072589},0.47967936139537304,{"$f":"IF(Lambda=\"\",(#REF!-#REF!),(B241-D241))","v":18.076430765677216}]
[240,18.68402223830752,{"$f":"IF(Lambda=\"\",#REF!,B242)","v":18.68402223830752},0.51331564691747389,{"$f":"IF(Lambda=\"\",(#REF!-#REF!),(B242-D242))","v":18.170706591390047}]
[241,18.81198629061344,{"$f":"IF(Lambda=\"\",#REF!,B243)","v":18.81198629061344},0.5482461609639232,{"$f":"IF(Lambda=\"\",(#REF!-#REF!),(B243-D243))","v":18.263740129649516}]
[242,18.940000398413023,{"$f":"IF(Lambda=\"\",#REF!,B244)","v":18.940000398413023},0.58447064585556707,{"$f":"IF(Lambda=\"\",(#REF!-#REF!),(B244-D244))","v":18.355529752557455}]
[243,19.068062702700992,{"$f":"IF(Lambda=\"\",#REF!,B245)","v":19.068062702700992},0.6219877674850105,{"$f":"IF(Lambda=\"\",(#REF!-#REF!),(B245-D245))","v":18.446074935215982}]
[244,19.196171370656344,{"$f":"IF(Lambda=\"\",#REF!,B246)","v":19.196171370656344},0.66079518174531371,{"$f":"IF(Lambda=\"\",(#REF!-#REF!),(B246-D246))","v":18.53537618891103}]
[245,19.324324595258528,{"$f":"IF(Lambda=\"\",#REF!,B247)","v":19.324324595258528},0.7008895985921616,{"$f":"IF(Lambda=\"\",(#REF!-#REF!),(B247-D247))","v":18.623434996666365}]
[246,19.452520594912148,{"$f":"IF(Lambda=\"\",#REF!,B248)","v":19.452520594912148},0.74226684366826989,{"$f":"IF(Lambda=\"\",(#REF!-#REF!),(B248-D248))","v":18.710253751243879}]
[247,19.580757613075818,{"$f":"IF(Lambda=\"\",#REF!,B249)","v":19.580757613075818},0.78492191744779316,{"$f":"IF(Lambda=\"\",(#REF!-#REF!),(B249-D249))","v":18.795835695628025}]
[248,19.709033917897244,{"$f":"IF(Lambda=\"\",#REF!,B250)","v":19.709033917897244},0.82884905188299662,{"$f":"IF(Lambda=\"\",(#REF!-#REF!),(B250-D250))","v":18.880184866014247}]
[249,19.837347801854413,{"$f":"IF(Lambda=\"\",#REF!,B251)","v":19.837347801854413},0.87404176455644667,{"$f":"IF(Lambda=\"\",(#REF!-#REF!),(B251-D251))","v":18.963306037297968}]
[250,19.965697581402061,{"$f":"IF(Lambda=\"\",#REF!,B252)","v":19.965697581402061},0.92049291035898284,{"$f":"IF(Lambda=\"\",(#REF!-#REF!),(B252-D252))","v":19.045204671043077}]
[251,20.09408159662334,{"$f":"IF(Lambda=\"\",#REF!,B253)","v":20.09408159662334},0.96819473072755524,{"$f":"IF(Lambda=\"\",(#REF!-#REF!),(B253-D253))","v":19.125886865895787}]
[252,20.222498210888311,{"$f":"IF(Lambda=\"\",#REF!,B254)","v":20.222498210888311},1.0171389004899378,{"$f":"IF(Lambda=\"\",(#REF!-#REF!),(B254-D254))","v":19.205359310398372}]
[253,20.350945810515746,{"$f":"IF(Lambda=\"\",#REF!,B255)","v":20.350945810515746},1.0673165723702704,{"$f":"IF(Lambda=\"\",(#REF!-#REF!),(B255-D255))","v":19.283629238145476}]
[254,20.479422804441949,{"$f":"IF(Lambda=\"\",#REF!,B256)","v":20.479422804441949},1.118718419219126,{"$f":"IF(Lambda=\"\",(#REF!-#REF!),(B256-D256))","v":19.360704385222824}]
[255,20.607927623894096,{"$f":"IF(Lambda=\"\",#REF!,B257)","v":20.607927623894096},1.1713346740356758,{"$f":"IF(Lambda=\"\",(#REF!-#REF!),(B257-D257))","v":19.436592949858419}]
[256,20.736458722068772,{"$f":"IF(Lambda=\"\",#REF!,B258)","v":20.736458722068772},1.2251551678547061,{"$f":"IF(Lambda=\"\",(#REF!-#REF!),(B258-D258))","v":19.511303554214066}]
[{"$f":"A258+1","v":257},{"$f":"Qavg*Q_4(4*A259*T/(S*_l^2),Lambda*_l/T)","v":20.865014573814186},{"$f":"IF(Lambda=\"\",#REF!,B259)","v":20.865014573814186},{"$f":"IF(CutBackTime<A259,(Qavg-CutBackQ)*Q_4(4*(A259-CutBackTime)*T/(S*_l^2),Lambda*_l/T),0)","v":1.2801693655736923},{"$f":"IF(Lambda=\"\",(#REF!-#REF!),(B259-D259))","v":19.584845208240495}]
[258,20.993593675321108,{"$f":"IF(Lambda=\"\",#REF!,B260)","v":20.993593675321108},1.3363663997973378,{"$f":"IF(Lambda=\"\",(#REF!-#REF!),(B260-D260))","v":19.65722727552377}]
[259,21.12219454381383,{"$f":"IF(Lambda=\"\",#REF!,B261)","v":21.12219454381383},1.3937351027777136,{"$f":"IF(Lambda=\"\",(#REF!-#REF!),(B261-D261))","v":19.728459441036115}]
[260,21.250815717249115,{"$f":"IF(Lambda=\"\",#REF!,B262)","v":21.250815717249115},1.4522640365290471,{"$f":"IF(Lambda=\"\",(#REF!-#REF!),(B262-D262))","v":19.798551680720067}]
[261,21.379455754018956,{"$f":"IF(Lambda=\"\",#REF!,B263)","v":21.379455754018956},1.5119415211950014,{"$f":"IF(Lambda=\"\",(#REF!-#REF!),(B263-D263))","v":19.867514232823954}]
[262,21.508113232658019,{"$f":"IF(Lambda=\"\",#REF!,B264)","v":21.508113232658019},1.5727556617462501,{"$f":"IF(Lambda=\"\",(#REF!-#REF!),(B264-D264))","v":19.935357570911769}]
[263,21.636786751555498,{"$f":"IF(Lambda=\"\",#REF!,B265)","v":21.636786751555498},1.6346943730847514,{"$f":"IF(Lambda=\"\",(#REF!-#REF!),(B265-D265))","v":20.002092378470746}]
[264,21.765474928671509,{"$f":"IF(Lambda=\"\",#REF!,B266)","v":21.765474928671509},1.6977454036292658,{"$f":"IF(Lambda=\"\",(#REF!-#REF!),(B266-D266))","v":20.067729525042242}]
[265,21.894176401257223,{"$f":"IF(Lambda=\"\",#REF!,B267)","v":21.894176401257223},1.761896357454976,{"$f":"IF(Lambda=\"\",(#REF!-#REF!),(B267-D267))","v":20.132280043802247}]
[266,22.022889825581682,{"$f":"IF(Lambda=\"\",#REF!,B268)","v":22.022889825581682},1.8271347150584476,{"$f":"IF(Lambda=\"\",(#REF!-#REF!),(B268-D268))","v":20.195755110523233}]
[267,22.151613876659411,{"$f":"IF(Lambda=\"\",#REF!,B269)","v":22.151613876659411},1.8934478528161331,{"$f":"IF(Lambda=\"\",(#REF!-#REF!),(B269-D269))","v":20.258166023843277}]
[268,22.280347247984817,{"$f":"IF(Lambda=\"\",#REF!,B270)","v":22.280347247984817},1.9608230612033033,{"$f":"IF(Lambda=\"\",(#REF!-#REF!),(B270-D270))","v":20.319524186781514}]
[269,22.409088651269929,{"$f":"IF(Lambda=\"\",#REF!,B271)","v":22.409088651269929},2.0292475618371686,{"$f":"IF(Lambda=\"\",(#REF!-#REF!),(B271-D271))","v":20.379841089432759}]
[270,22.537836816185834,{"$f":"IF(Lambda=\"\",#REF!,B272)","v":22.537836816185834},2.0987085234058407,{"$f":"IF(Lambda=\"\",(#REF!-#REF!),(B272-D272))","v":20.439128292779994}]
[271,22.666590490108781,{"$f":"IF(Lambda=\"\",#REF!,B273)","v":22.666590490108781},2.1691930765419305,{"$f":"IF(Lambda=\"\",(#REF!-#REF!),(B273-D273))","v":20.497397413566851}]
[272,22.795348437869617,{"$f":"IF(Lambda=\"\",#REF!,B274)","v":22.795348437869617},2.240688327698479,{"$f":"IF(Lambda=\"\",(#REF!-#REF!),(B274-D274))","v":20.554660110171138}]
[273,22.924109441506918,{"$f":"IF(Lambda=\"\",#REF!,B275)","v":22.924109441506918},2.3131813720800554,{"$f":"IF(Lambda=\"\",(#REF!-#REF!),(B275-D275))","v":20.610928069426862}]
[274,23.052872300024887,{"$f":"IF(Lambda=\"\",#REF!,B276)","v":23.052872300024887},2.3866593056822376,{"$f":"IF(Lambda=\"\",(#REF!-#REF!),(B276-D276))","v":20.666212994342651}]
[275,23.181635829154423,{"$f":"IF(Lambda=\"\",#REF!,B277)","v":23.181635829154423},2.4611092364878324,{"$f":"IF(Lambda=\"\",(#REF!-#REF!),(B277-D277))","v":20.720526592666591}]
[276,23.310398861116632,{"$f":"IF(Lambda=\"\",#REF!,B278)","v":23.310398861116632},2.5365182948681642,{"$f":"IF(Lambda=\"\",(#REF!-#REF!),(B278-D278))","v":20.773880566248469}]
[277,23.4391602443933,{"$f":"IF(Lambda=\"\",#REF!,B279)","v":23.4391602443933},2.6128736432331956,{"$f":"IF(Lambda=\"\",(#REF!-#REF!),(B279-D279))","v":20.826286601160103}]
[278,23.567918843496219,{"$f":"IF(Lambda=\"\",#REF!,B280)","v":23.567918843496219},2.6901624849740813,{"$f":"IF(Lambda=\"\",(#REF!-#REF!),(B280-D280))","v":20.877756358522138}]
[279,23.696673538744502,{"$f":"IF(Lambda=\"\",#REF!,B281)","v":23.696673538744502},2.7683720727389796,{"$f":"IF(Lambda=\"\",(#REF!-#REF!),(B281-D281))","v":20.928301466005522}]
[280,23.825423226042272,{"$f":"IF(Lambda=\"\",#REF!,B282)","v":23.825423226042272},2.8474897160793398,{"$f":"IF(Lambda=\"\",(#REF!-#REF!),(B282-D282))","v":20.977933509962931}]
[281,23.954166816661509,{"$f":"IF(Lambda=\"\",#REF!,B283)","v":23.954166816661509},2.9275027885054747,{"$f":"IF(Lambda=\"\",(#REF!-#REF!),(B283-D283))","v":21.026664028156034}]
[282,24.082903237026748,{"$f":"IF(Lambda=\"\",#REF!,B284)","v":24.082903237026748},3.0083987339841292,{"$f":"IF(Lambda=\"\",(#REF!-#REF!),(B284-D284))","v":21.074504503042618}]
[283,24.211631428504397,{"$f":"IF(Lambda=\"\",#REF!,B285)","v":24.211631428504397},3.0901650729126611,{"$f":"IF(Lambda=\"\",(#REF!-#REF!),(B285-D285))","v":21.121466355591735}]
[284,24.340350347194526,{"$f":"IF(Lambda=\"\",#REF!,B286)","v":24.340350347194526},3.17278940759955,{"$f":"IF(Lambda=\"\",(#REF!-#REF!),(B286-D286))","v":21.167560939594978}]
[285,24.469058963725804,{"$f":"IF(Lambda=\"\",#REF!,B287)","v":24.469058963725804},3.2562594272824397,{"$f":"IF(Lambda=\"\",(#REF!-#REF!),(B287-D287))","v":21.212799536443363}]
[286,24.59775626305407,{"$f":"IF(Lambda=\"\",#REF!,B288)","v":24.59775626305407},3.3405629127101975,{"$f":"IF(Lambda=\"\",(#REF!-#REF!),(B288-D288))","v":21.257193350343872}]
[287,24.726441244263377,{"$f":"IF(Lambda=\"\",#REF!,B289)","v":24.726441244263377},3.4256877403164752,{"$f":"IF(Lambda=\"\",(#REF!-#REF!),(B289-D289))","v":21.3007535039469}]
[288,24.855112920370058,{"$f":"IF(Lambda=\"\",#REF!,B290)","v":24.855112920370058},3.5116218860093937,{"$f":"IF(Lambda=\"\",(#REF!-#REF!),(B290-D290))","v":21.343491034360664}]
[289,24.98377031813046,{"$f":"IF(Lambda=\"\",#REF!,B291)","v":24.98377031813046},3.5983534286009067,{"$f":"IF(Lambda=\"\",(#REF!-#REF!),(B291-D291))","v":21.385416889529555}]
[290,25.112412477850789,{"$f":"IF(Lambda=\"\",#REF!,B292)","v":25.112412477850789},3.6858705528987832,{"$f":"IF(Lambda=\"\",(#REF!-#REF!),(B292-D292))","v":21.426541924952005}]
[291,25.241038453200101,{"$f":"IF(Lambda=\"\",#REF!,B293)","v":25.241038453200101},3.7741615524817007,{"$f":"IF(Lambda=\"\",(#REF!-#REF!),(B293-D293))","v":21.4668769007184}]
[292,25.369647311026476,{"$f":"IF(Lambda=\"\",#REF!,B294)","v":25.369647311026476},3.8632148321771398,{"$f":"IF(Lambda=\"\",(#REF!-#REF!),(B294-D294))","v":21.506432478849337}]
[293,25.498238131175086,{"$f":"IF(Lambda=\"\",#REF!,B295)","v":25.498238131175086},3.9530189102625588,{"$f":"IF(Lambda=\"\",(#REF!-#REF!),(B295-D295))","v":21.545219220912529}]
[294,25.626810006309675,{"$f":"IF(Lambda=\"\",#REF!,B296)","v":25.626810006309675},4.0435624204050935,{"$f":"IF(Lambda=\"\",(#REF!-#REF!),(B296-D296))","v":21.58324758590458}]
[295,25.755362041737033,{"$f":"IF(Lambda=\"\",#REF!,B297)","v":25.755362041737033},4.134834113358937,{"$f":"IF(Lambda=\"\",(#REF!-#REF!),(B297-D297))","v":21.620527928378095}]
[296,25.883893355233472,{"$f":"IF(Lambda=\"\",#REF!,B298)","v":25.883893355233472},4.2268228584343976,{"$f":"IF(Lambda=\"\",(#REF!-#REF!),(B298-D298))","v":21.657070496799072}]
[297,26.012403076872985,{"$f":"IF(Lambda=\"\",#REF!,B299)","v":26.012403076872985},4.3195176447546197,{"$f":"IF(Lambda=\"\",(#REF!-#REF!),(B299-D299))","v":21.692885432118366}]
[298,26.140890348861149,{"$f":"IF(Lambda=\"\",#REF!,B300)","v":26.140890348861149},4.4129075823134656,{"$f":"IF(Lambda=\"\",(#REF!-#REF!),(B300-D300))","v":21.727982766547683}]
[299,26.269354325367438,{"$f":"IF(Lambda=\"\",#REF!,B301)","v":26.269354325367438},4.5069819028484037,{"$f":"IF(Lambda=\"\",(#REF!-#REF!),(B301-D301))","v":21.762372422519036}]
[300,26.397794172362627,{"$f":"IF(Lambda=\"\",#REF!,B302)","v":26.397794172362627},4.6017299605394069,{"$f":"IF(Lambda=\"\",(#REF!-#REF!),(B302-D302))","v":21.796064211823222}]
[301,26.526209067459103,{"$f":"IF(Lambda=\"\",#REF!,B303)","v":26.526209067459103},4.6971412325480104,{"$f":"IF(Lambda=\"\",(#REF!-#REF!),(B303-D303))","v":21.829067834911093}]
[302,26.654598199750438,{"$f":"IF(Lambda=\"\",#REF!,B304)","v":26.654598199750438},4.7932053194050628,{"$f":"IF(Lambda=\"\",(#REF!-#REF!),(B304-D304))","v":21.861392880345377}]
[303,26.782960769657443,{"$f":"IF(Lambda=\"\",#REF!,B305)","v":26.782960769657443},4.8899119452588851,{"$f":"IF(Lambda=\"\",(#REF!-#REF!),(B305-D305))","v":21.893048824398559}]
[304,26.911295988772149,{"$f":"IF(Lambda=\"\",#REF!,B306)","v":26.911295988772149},4.9872509579940996,{"$f":"IF(Lambda=\"\",(#REF!-#REF!),(B306-D306))","v":21.92404503077805}]
[305,27.039603079708819,{"$f":"IF(Lambda=\"\",#REF!,B307)","v":27.039603079708819},5.0852123292290283,{"$f":"IF(Lambda=\"\",(#REF!-#REF!),(B307-D307))","v":21.954390750479789}]
[306,27.167881275952723,{"$f":"IF(Lambda=\"\",#REF!,B308)","v":27.167881275952723},5.1837861542010675,{"$f":"IF(Lambda=\"\",(#REF!-#REF!),(B308-D308))","v":21.984095121751658}]
[307,27.29612982171431,{"$f":"IF(Lambda=\"\",#REF!,B309)","v":27.29612982171431},5.2829626515484041,{"$f":"IF(Lambda=\"\",(#REF!-#REF!),(B309-D309))","v":22.013167170165907}]
[308,27.4243479717836,{"$f":"IF(Lambda=\"\",#REF!,B310)","v":27.4243479717836},5.3827321629952536,{"$f":"IF(Lambda=\"\",(#REF!-#REF!),(B310-D310))","v":22.041615808788347}]
[309,27.552534991387891,{"$f":"IF(Lambda=\"\",#REF!,B311)","v":27.552534991387891},5.4830851529480524,{"$f":"IF(Lambda=\"\",(#REF!-#REF!),(B311-D311))","v":22.069449838439837}]
[310,27.680690156051416,{"$f":"IF(Lambda=\"\",#REF!,B312)","v":27.680690156051416},5.5840122080090815,{"$f":"IF(Lambda=\"\",(#REF!-#REF!),(B312-D312))","v":22.096677948042334}]
[311,27.808812751455857,{"$f":"IF(Lambda=\"\",#REF!,B313)","v":27.808812751455857},5.6855040364151286,{"$f":"IF(Lambda=\"\",(#REF!-#REF!),(B313-D313))","v":22.123308715040729}]
[312,27.936902073304847,{"$f":"IF(Lambda=\"\",#REF!,B314)","v":27.936902073304847},5.7875514674047519,{"$f":"IF(Lambda=\"\",(#REF!-#REF!),(B314-D314))","v":22.149350605900096}]
[313,28.064957427188773,{"$f":"IF(Lambda=\"\",#REF!,B315)","v":28.064957427188773},5.8901454505223274,{"$f":"IF(Lambda=\"\",(#REF!-#REF!),(B315-D315))","v":22.174811976666447}]
[314,28.192978128452548,{"$f":"IF(Lambda=\"\",#REF!,B316)","v":28.192978128452548},5.9932770548627241,{"$f":"IF(Lambda=\"\",(#REF!-#REF!),(B316-D316))","v":22.199701073589825}]
[315,28.320963502064853,{"$f":"IF(Lambda=\"\",#REF!,B317)","v":28.320963502064853},6.0969374682616415,{"$f":"IF(Lambda=\"\",(#REF!-#REF!),(B317-D317))","v":22.224026033803213}]
[316,28.448912882489434,{"$f":"IF(Lambda=\"\",#REF!,B318)","v":28.448912882489434},6.2011179964368068,{"$f":"IF(Lambda=\"\",(#REF!-#REF!),(B318-D318))","v":22.247794886052628}]
[317,28.576825613558178,{"$f":"IF(Lambda=\"\",#REF!,B319)","v":28.576825613558178},6.3058100620837605,{"$f":"IF(Lambda=\"\",(#REF!-#REF!),(B319-D319))","v":22.271015551474417}]
[318,28.704701048346728,{"$f":"IF(Lambda=\"\",#REF!,B320)","v":28.704701048346728},6.4110052039311922,{"$f":"IF(Lambda=\"\",(#REF!-#REF!),(B320-D320))","v":22.293695844415534}]
[319,28.832538549050366,{"$f":"IF(Lambda=\"\",#REF!,B321)","v":28.832538549050366},6.5166950757580553,{"$f":"IF(Lambda=\"\",(#REF!-#REF!),(B321-D321))","v":22.315843473292311}]
[320,28.960337486863246,{"$f":"IF(Lambda=\"\",#REF!,B322)","v":28.960337486863246},6.6228714453785216,{"$f":"IF(Lambda=\"\",(#REF!-#REF!),(B322-D322))","v":22.337466041484724}]
[{"$f":"A322+1","v":321},{"$f":"Qavg*Q_4(4*A323*T/(S*_l^2),Lambda*_l/T)","v":29.088097241858556},{"$f":"IF(Lambda=\"\",#REF!,B323)","v":29.088097241858556},{"$f":"IF(CutBackTime<A323,(Qavg-CutBackQ)*Q_4(4*(A323-CutBackTime)*T/(S*_l^2),Lambda*_l/T),0)","v":6.729526193595202},{"$f":"IF(Lambda=\"\",(#REF!-#REF!),(B323-D323))","v":22.358571048263354}]
[322,29.215817202870547,{"$f":"IF(Lambda=\"\",#REF!,B324)","v":29.215817202870547},6.8366513131262918,{"$f":"IF(Lambda=\"\",(#REF!-#REF!),(B324-D324))","v":22.379165889744254}]
[323,29.343496767378895,{"$f":"IF(Lambda=\"\",#REF!,B325)","v":29.343496767378895},6.9442389075086499,{"$f":"IF(Lambda=\"\",(#REF!-#REF!),(B325-D325))","v":22.399257859870247}]
[324,29.471135341393158,{"$f":"IF(Lambda=\"\",#REF!,B326)","v":29.471135341393158},7.0522811899785127,{"$f":"IF(Lambda=\"\",(#REF!-#REF!),(B326-D326))","v":22.418854151414646}]
[325,29.598732339340753,{"$f":"IF(Lambda=\"\",#REF!,B327)","v":29.598732339340753},7.1607704823347209,{"$f":"IF(Lambda=\"\",(#REF!-#REF!),(B327-D327))","v":22.43796185700603}]
[326,29.726287183955773,{"$f":"IF(Lambda=\"\",#REF!,B328)","v":29.726287183955773},7.2696992137845324,{"$f":"IF(Lambda=\"\",(#REF!-#REF!),(B328-D328))","v":22.456587970171242}]
[327,29.85379930616855,{"$f":"IF(Lambda=\"\",#REF!,B329)","v":29.85379930616855},7.379059919775929,{"$f":"IF(Lambda=\"\",(#REF!-#REF!),(B329-D329))","v":22.474739386392621}]
[328,29.9812681449982,{"$f":"IF(Lambda=\"\",#REF!,B330)","v":29.9812681449982},7.4888452408178008,{"$f":"IF(Lambda=\"\",(#REF!-#REF!),(B330-D330))","v":22.492422904180401}]
[329,30.108693147445575,{"$f":"IF(Lambda=\"\",#REF!,B331)","v":30.108693147445575},7.5990479212897606,{"$f":"IF(Lambda=\"\",(#REF!-#REF!),(B331-D331))","v":22.509645226155815}]
[330,30.236073768389687,{"$f":"IF(Lambda=\"\",#REF!,B332)","v":30.236073768389687},7.7096608082442426,{"$f":"IF(Lambda=\"\",(#REF!-#REF!),(B332-D332))","v":22.526412960145443}]
[331,30.363409470481702,{"$f":"IF(Lambda=\"\",#REF!,B333)","v":30.363409470481702},7.8206768502019077,{"$f":"IF(Lambda=\"\",(#REF!-#REF!),(B333-D333))","v":22.542732620279793}]
[332,30.490699724045527,{"$f":"IF(Lambda=\"\",#REF!,B334)","v":30.490699724045527},7.9320890959421675,{"$f":"IF(Lambda=\"\",(#REF!-#REF!),(B334-D334))","v":22.558610628103359}]
[333,30.617944006975552,{"$f":"IF(Lambda=\"\",#REF!,B335)","v":30.617944006975552},8.0438906932897982,{"$f":"IF(Lambda=\"\",(#REF!-#REF!),(B335-D335))","v":22.574053313685752}]
[334,30.745141804637861,{"$f":"IF(Lambda=\"\",#REF!,B336)","v":30.745141804637861},8.1560748879008624,{"$f":"IF(Lambda=\"\",(#REF!-#REF!),(B336-D336))","v":22.589066916736996}]
[335,30.872292609773172,{"$f":"IF(Lambda=\"\",#REF!,B337)","v":30.872292609773172},8.2686350220461389,{"$f":"IF(Lambda=\"\",(#REF!-#REF!),(B337-D337))","v":22.603657587727035}]
[336,30.99939592239939,{"$f":"IF(Lambda=\"\",#REF!,B338)","v":30.99939592239939},8.3815645333963413,{"$f":"IF(Lambda=\"\",(#REF!-#REF!),(B338-D338))","v":22.617831389003051}]
[337,31.126451249717718,{"$f":"IF(Lambda=\"\",#REF!,B339)","v":31.126451249717718},8.4948569538082008,{"$f":"IF(Lambda=\"\",(#REF!-#REF!),(B339-D339))","v":22.631594295909515}]
[338,31.253458106018055,{"$f":"IF(Lambda=\"\",#REF!,B340)","v":31.253458106018055},8.6085059081134272,{"$f":"IF(Lambda=\"\",(#REF!-#REF!),(B340-D340))","v":22.64495219790463}]
[339,31.380416012587578,{"$f":"IF(Lambda=\"\",#REF!,B341)","v":31.380416012587578},8.7225051129110742,{"$f":"IF(Lambda=\"\",(#REF!-#REF!),(B341-D341))","v":22.657910899676502}]
[340,31.50732449761874,{"$f":"IF(Lambda=\"\",#REF!,B342)","v":31.50732449761874},8.8368483753642959,{"$f":"IF(Lambda=\"\",(#REF!-#REF!),(B342-D342))","v":22.670476122254442}]
[341,31.63418309612058,{"$f":"IF(Lambda=\"\",#REF!,B343)","v":31.63418309612058},8.9515295920022382,{"$f":"IF(Lambda=\"\",(#REF!-#REF!),(B343-D343))","v":22.682653504118342}]
[342,31.760991349829336,{"$f":"IF(Lambda=\"\",#REF!,B344)","v":31.760991349829336},9.0665427475278904,{"$f":"IF(Lambda=\"\",(#REF!-#REF!),(B344-D344))","v":22.694448602301446}]
[343,31.887748807121973,{"$f":"IF(Lambda=\"\",#REF!,B345)","v":31.887748807121973},9.1818819136329086,{"$f":"IF(Lambda=\"\",(#REF!-#REF!),(B345-D345))","v":22.705866893489066}]
[344,32.014455022929475,{"$f":"IF(Lambda=\"\",#REF!,B346)","v":32.014455022929475},9.297541247819181,{"$f":"IF(Lambda=\"\",(#REF!-#REF!),(B346-D346))","v":22.716913775110292}]
[345,32.141109558652637,{"$f":"IF(Lambda=\"\",#REF!,B347)","v":32.141109558652637},9.4135149922286239,{"$f":"IF(Lambda=\"\",(#REF!-#REF!),(B347-D347))","v":22.727594566424013}]
[346,32.267711982078282,{"$f":"IF(Lambda=\"\",#REF!,B348)","v":32.267711982078282},9.5297974724812686,{"$f":"IF(Lambda=\"\",(#REF!-#REF!),(B348-D348))","v":22.737914509597012}]
[347,32.394261867296436,{"$f":"IF(Lambda=\"\",#REF!,B349)","v":32.394261867296436},9.6463830965219657,{"$f":"IF(Lambda=\"\",(#REF!-#REF!),(B349-D349))","v":22.74787877077447}]
[348,32.520758794619645,{"$f":"IF(Lambda=\"\",#REF!,B350)","v":32.520758794619645},9.7632663534765598,{"$f":"IF(Lambda=\"\",(#REF!-#REF!),(B350-D350))","v":22.757492441143086}]
[349,32.647202350502084,{"$f":"IF(Lambda=\"\",#REF!,B351)","v":32.647202350502084},9.8804418125186597,{"$f":"IF(Lambda=\"\",(#REF!-#REF!),(B351-D351))","v":22.766760537983423}]
[350,32.773592127461797,{"$f":"IF(Lambda=\"\",#REF!,B352)","v":32.773592127461797},9.9979041217438667,{"$f":"IF(Lambda=\"\",(#REF!-#REF!),(B352-D352))","v":22.775688005717932}]
[351,32.899927724000477,{"$f":"IF(Lambda=\"\",#REF!,B353)","v":32.899927724000477},10.115648007058102,{"$f":"IF(Lambda=\"\",(#REF!-#REF!),(B353-D353))","v":22.784279716942375}]
[352,33.026208744529413,{"$f":"IF(Lambda=\"\",#REF!,B354)","v":33.026208744529413},10.233668271073199,{"$f":"IF(Lambda=\"\",(#REF!-#REF!),(B354-D354))","v":22.792540473456214}]
[353,33.152434799291321,{"$f":"IF(Lambda=\"\",#REF!,B355)","v":33.152434799291321},10.351959792015593,{"$f":"IF(Lambda=\"\",(#REF!-#REF!),(B355-D355))","v":22.800475007275729}]
[354,33.278605504286794,{"$f":"IF(Lambda=\"\",#REF!,B356)","v":33.278605504286794},10.470517522645467,{"$f":"IF(Lambda=\"\",(#REF!-#REF!),(B356-D356))","v":22.808087981641329}]
[355,33.404720481200371,{"$f":"IF(Lambda=\"\",#REF!,B357)","v":33.404720481200371},10.589336489186682,{"$f":"IF(Lambda=\"\",(#REF!-#REF!),(B357-D357))","v":22.81538399201369}]
[356,33.530779357327972,{"$f":"IF(Lambda=\"\",#REF!,B358)","v":33.530779357327972},10.708411790270073,{"$f":"IF(Lambda=\"\",(#REF!-#REF!),(B358-D358))","v":22.822367567057899}]
[357,33.656781765504505,{"$f":"IF(Lambda=\"\",#REF!,B359)","v":33.656781765504505},10.827738595886039,{"$f":"IF(Lambda=\"\",(#REF!-#REF!),(B359-D359))","v":22.829043169618465}]
[358,33.782727344033589,{"$f":"IF(Lambda=\"\",#REF!,B360)","v":33.782727344033589},10.947312146350702,{"$f":"IF(Lambda=\"\",(#REF!-#REF!),(B360-D360))","v":22.835415197682885}]
[359,33.908615736618614,{"$f":"IF(Lambda=\"\",#REF!,B361)","v":33.908615736618614},11.067127751284087,{"$f":"IF(Lambda=\"\",(#REF!-#REF!),(B361-D361))","v":22.841487985334528}]
[360,34.034446592292404,{"$f":"IF(Lambda=\"\",#REF!,B362)","v":34.034446592292404},11.187180788599143,{"$f":"IF(Lambda=\"\",(#REF!-#REF!),(B362-D362))","v":22.847265803693261}]
[361,34.160219565350324,{"$f":"IF(Lambda=\"\",#REF!,B363)","v":34.160219565350324},11.307466703503618,{"$f":"IF(Lambda=\"\",(#REF!-#REF!),(B363-D363))","v":22.852752861846707}]
[362,34.285934315283093,{"$f":"IF(Lambda=\"\",#REF!,B364)","v":34.285934315283093},11.427981007514388,{"$f":"IF(Lambda=\"\",(#REF!-#REF!),(B364-D364))","v":22.857953307768703}]
[363,34.411590506711065,{"$f":"IF(Lambda=\"\",#REF!,B365)","v":34.411590506711065},11.548719277483626,{"$f":"IF(Lambda=\"\",(#REF!-#REF!),(B365-D365))","v":22.862871229227437}]
[364,34.537187809318802,{"$f":"IF(Lambda=\"\",#REF!,B366)","v":34.537187809318802},11.669677154637279,{"$f":"IF(Lambda=\"\",(#REF!-#REF!),(B366-D366))","v":22.867510654681524}]
[365,34.662725897790779,{"$f":"IF(Lambda=\"\",#REF!,B367)","v":34.662725897790779},11.790850343625667,{"$f":"IF(Lambda=\"\",(#REF!-#REF!),(B367-D367))","v":22.871875554165111}]