{"text_format":"1","workbook":"xlsx","n_sheets":11,"sheets":["Inserir_Dados","Recuperação_Jacob","Cooper_Jacob","Theis","Theis_Dupuit","Hantush","Boulton","ResumoDosResultados","Matriz_Theis_Hantush_Boulton","Listas","Referências"],"not_rendered":{"charts":6,"images":23,"macros":1,"external_links":1,"defined_names":6,"comments":2,"pivot_tables":0},"unopened":[],"bounds":{"document_bytes":16777216,"sheet_cells":100000,"rows_first":2000,"rows_last":500,"rows_between":2000,"halvings":0,"cell_chars":16384,"cell_head_chars":4096},"cells_cut":0,"cells_raw":0,"read":"whole","date_system":"1900"}

{"sheet":"Inserir_Dados","index":0,"n_rows":23,"n_cols":12,"rows_kept":23,"cut":false,"hidden":false,"merged":[[10,1,10,2],[6,1,6,2],[7,1,7,2],[8,1,8,2],[9,1,9,2]]}
[]
[]
[]
[]
[]
[null,"Dados Gerais",null,null,null,null,null,"Entrada de Dados do Teste",null,null,"Entrada de Dados do "]
[null,"Identificação do Poço:",null,"Poço de Bombeamento XXXXXXXXX",null,null,null,"de Bombeamento",null,null,"Teste de Recuperação"]
[null,"Município/Localização:",null,"%%%%%%%%"]
[null,"Data:",null,"&&&&&&&",null,null,null,"TEMPO (min)","Rebaixamento (m)",null,"TEMPO (min)","Recuperação (m)"]
[null,"Coordenadas Lat:"]
[null,"Coordenadas Long:"]
["#",null,"Vazão de Bombeamento (m³/h) =",250]
["#",null,"Distância Poço/Piezômetro (m) =",20]
["#",null,"Espessura do Aquitarde (m) =",90]
["#",null,"Tempo de Bombeamento (min) =",4231]
["#",null,"Nível Freático/Estático (m)=",23.5]
["#",null,"Topo do Aquifero =",23.5]
["#",null,"Base do Aquifero =",350]
[null,null,"Diâmetro do Revestimento (pol.) =",10]
[null,null,"Diâmetro de Perfuração (pol.)  =",14]
[null,null,"Profundidade do Poço =",260]
["#","Campos de Preenchimento Obrigatório"]
["#","Campos de Preenchimento Obrigatório para a Determinação de K"]

{"sheet":"Recuperação_Jacob","index":1,"n_rows":211,"n_cols":16,"rows_kept":211,"cut":false,"hidden":false,"merged":[]}
[]
[]
[]
[]
[]
[]
[]
[]
[null,null,"Determinação da Transmissividade ",null,null,null,null,null,null,null,null,"Estas colunas realizam os cálculos da planilha, não as utilize "]
[null,null,"Pelo Método de Recuperação de Jacob",null,null,null,null,null,null,null,null,"se não souber o que está fazendo"]
[]
[null,null,null,"IDENTIFICAÇÃO DO POÇO:",{"$f":"Inserir_Dados!D7","v":"Poço de Bombeamento XXXXXXXXX"},null,null,null,null,null,null,null,"Tempo de bombeamento =",{"$f":"+Inserir_Dados!D15","v":4231}]
[null,null,null,null,null,null,null,null,null,null,null,null,"Nível Estático do Poço =",{"$f":"+Inserir_Dados!D16","v":23.5}]
[null,"INSERIR DADOS DO POÇO E DO AQUÍFERO",null,null,null,"Localização:",{"$f":"Inserir_Dados!D8","v":"%%%%%%%%"}]
[null,"Detalhes da Construção:",null,null,null,"Data:",{"$f":"Inserir_Dados!D9","v":"&&&&&&&"},null,null,null,null,"Tempo (min)","ND  (m)","T/T’","S’","T"]
[null,"Diâmetro do Revestimento:",{"$f":"+Inserir_Dados!D19","v":10},"Polegadas",null,"Coordenadas:",null,null,null,null,null,{"$f":"+Inserir_Dados!K10","v":0},{"$f":"+Inserir_Dados!L10","v":0},{"$f":"4231/L16","v":{"$error":"#DIV/0!"}},{"$f":"+M16-N13","v":-23.5},{"$f":"((0.183*0.07/$C$30)*LOG10(($N$12+L16)/L16))-0.86","v":{"$error":"#DIV/0!"}}]
[null,"Diâmetro de Perfuração:",{"$f":"Inserir_Dados!D20","v":14},"Polegadas",null,null,null,null,null,null,null,{"$f":"IF(M17>0,Inserir_Dados!K11,L16)","v":0},{"$f":"+Inserir_Dados!L11","v":0},{"$f":"IF(M17>0,4231/L17,N16)","v":{"$error":"#DIV/0!"}},{"$f":"IF(L17>L16,M17-$N$13,O16)","v":-23.5},{"$f":"((0.183*0.07/$C$30)*LOG10(($N$12+L17)/L17))-0.86","v":{"$error":"#DIV/0!"}}]
[null,"Profundidade do Poço:",{"$f":"Inserir_Dados!D21","v":260},"metros",null,null,null,null,null,null,null,{"$f":"IF(M18>0,Inserir_Dados!K12,L17)","v":0},{"$f":"+Inserir_Dados!L12","v":0},{"$f":"IF(M18>0,4231/L18,N17)","v":{"$error":"#DIV/0!"}},{"$f":"IF(L18>L17,M18-$N$13,O17)","v":-23.5},{"$error":"#DIV/0!"}]
[null,"Profundidades:",null,null,null,null,"RESULTADOS",null,null,null,null,{"$f":"IF(M19>0,Inserir_Dados!K13,L18)","v":0},{"$f":"+Inserir_Dados!L13","v":0},{"$error":"#DIV/0!"},-23.5,{"$error":"#DIV/0!"}]
[null,"Nível Estático:",{"$f":"Inserir_Dados!D16","v":23.5},"metros",null,"B (espessura aqüífero) =",{"$f":"+C22-C21","v":326.5},"m",null,null,null,{"$f":"IF(M20>0,Inserir_Dados!K14,L19)","v":0},{"$f":"+Inserir_Dados!L14","v":0},{"$error":"#DIV/0!"},-23.5,{"$error":"#DIV/0!"}]
[null,"Topo do Aquifero:",{"$f":"Inserir_Dados!D17","v":23.5},"metros",null,"Q (vazão) =",{"$f":"+Inserir_Dados!D12","v":250},"m³/h",null,null,null,{"$f":"IF(M21>0,Inserir_Dados!K15,L20)","v":0},{"$f":"+Inserir_Dados!L15","v":0},{"$error":"#DIV/0!"},-23.5,{"$error":"#DIV/0!"}]
[null,"Base do Aquifero:",{"$f":"Inserir_Dados!D18","v":350},"metros",null,"R (dist. do piezômetro) =",{"$f":"+Inserir_Dados!D13","v":20},"m",null,null,null,{"$f":"IF(M22>0,Inserir_Dados!K16,L21)","v":0},{"$f":"+Inserir_Dados!L16","v":0},{"$error":"#DIV/0!"},-23.5,{"$error":"#DIV/0!"}]
[null,"Espaço Anular:",null,null,null,"T (Transmissividade) =",{"$f":"+C30*3600","v":52.276018233158787},"m²/h",null,null,null,{"$f":"IF(M23>0,Inserir_Dados!K17,L22)","v":0},{"$f":"+Inserir_Dados!L17","v":0},{"$error":"#DIV/0!"},-23.5,{"$error":"#DIV/0!"}]
[null,"Material do Pré-Filtro:",null,null,null,"k (permeabilidade) =",{"$f":"+G23/(C22-C21)","v":0.16011031618119076},"m/h",null,null,null,{"$f":"IF(M24>0,Inserir_Dados!K18,L23)","v":0},{"$f":"+Inserir_Dados!L18","v":0},{"$error":"#DIV/0!"},-23.5,{"$error":"#DIV/0!"}]
[null,"Selo do Poço:",null,null,null,null,null,null,null,null,null,{"$f":"IF(M25>0,Inserir_Dados!K19,L24)","v":0},{"$f":"+Inserir_Dados!L19","v":0},{"$error":"#DIV/0!"},-23.5,{"$error":"#DIV/0!"}]
[null,"Material do Aqüífero:",null,null,null,null,null,null,null,null,null,{"$f":"IF(M26>0,Inserir_Dados!K20,L25)","v":0},{"$f":"+Inserir_Dados!L20","v":0},{"$error":"#DIV/0!"},{"$f":"IF(L26>L25,M26-$N$13,O25)","v":-23.5},{"$error":"#DIV/0!"}]
[null,"Vazão de Bombeamento:",{"$f":"+Inserir_Dados!D12","v":250},"m³/h",null,null,null,null,null,null,null,{"$f":"IF(M27>0,Inserir_Dados!K21,L26)","v":0},{"$f":"+Inserir_Dados!L21","v":0},{"$error":"#DIV/0!"},-23.5,{"$error":"#DIV/0!"}]
[null,null,null,null,null,null,null,null,null,null,null,{"$f":"IF(M28>0,Inserir_Dados!K22,L27)","v":0},{"$f":"+Inserir_Dados!L22","v":0},{"$error":"#DIV/0!"},-23.5,{"$error":"#DIV/0!"}]
[null,null,null,null,null,null,null,null,null,null,null,{"$f":"IF(M29>0,Inserir_Dados!K23,L28)","v":0},{"$f":"+Inserir_Dados!L23","v":0},{"$error":"#DIV/0!"},-23.5,{"$error":"#DIV/0!"}]
[null,"T =",{"$f":"10^((D30/1000)-10)","v":1.4521116175877442E-2},8162,null,null,null,null,null,null,null,{"$f":"IF(M30>0,Inserir_Dados!K24,L29)","v":0},{"$f":"+Inserir_Dados!L24","v":0},{"$error":"#DIV/0!"},-23.5,{"$error":"#DIV/0!"}]
[null,null,null,null,null,null,null,null,null,null,null,{"$f":"IF(M31>0,Inserir_Dados!K25,L30)","v":0},{"$f":"+Inserir_Dados!L25","v":0},{"$error":"#DIV/0!"},-23.5,{"$error":"#DIV/0!"}]
[null,null,null,null,null,null,null,null,null,null,null,{"$f":"IF(M32>0,Inserir_Dados!K26,L31)","v":0},{"$f":"+Inserir_Dados!L26","v":0},{"$error":"#DIV/0!"},-23.5,{"$error":"#DIV/0!"}]
[null,null,null,null,null,null,null,null,null,null,null,{"$f":"IF(M33>0,Inserir_Dados!K27,L32)","v":0},{"$f":"+Inserir_Dados!L27","v":0},{"$error":"#DIV/0!"},-23.5,{"$error":"#DIV/0!"}]
[null,null,null,null,null,null,null,null,null,null,null,{"$f":"IF(M34>0,Inserir_Dados!K28,L33)","v":0},{"$f":"+Inserir_Dados!L28","v":0},{"$error":"#DIV/0!"},-23.5,{"$error":"#DIV/0!"}]
[null,null,null,null,null,null,null,null,null,null,null,{"$f":"IF(M35>0,Inserir_Dados!K29,L34)","v":0},{"$f":"+Inserir_Dados!L29","v":0},{"$error":"#DIV/0!"},-23.5,{"$error":"#DIV/0!"}]
[null,null,null,null,null,null,null,null,null,null,null,{"$f":"IF(M36>0,Inserir_Dados!K30,L35)","v":0},{"$f":"+Inserir_Dados!L30","v":0},{"$error":"#DIV/0!"},-23.5,{"$error":"#DIV/0!"}]
[null,null,null,null,null,null,null,null,null,null,null,{"$f":"IF(M37>0,Inserir_Dados!K31,L36)","v":0},{"$f":"+Inserir_Dados!L31","v":0},{"$error":"#DIV/0!"},-23.5,{"$error":"#DIV/0!"}]
[null,null,null,null,null,null,null,null,null,null,null,{"$f":"IF(M38>0,Inserir_Dados!K32,L37)","v":0},{"$f":"+Inserir_Dados!L32","v":0},{"$error":"#DIV/0!"},-23.5,{"$error":"#DIV/0!"}]
[null,null,null,null,null,null,null,null,null,null,null,{"$f":"IF(M39>0,Inserir_Dados!K33,L38)","v":0},{"$f":"+Inserir_Dados!L33","v":0},{"$error":"#DIV/0!"},-23.5,{"$error":"#DIV/0!"}]
[null,null,null,null,null,null,null,null,null,null,null,{"$f":"IF(M40>0,Inserir_Dados!K34,L39)","v":0},{"$f":"+Inserir_Dados!L34","v":0},{"$error":"#DIV/0!"},-23.5,{"$error":"#DIV/0!"}]
[null,null,null,null,null,null,null,null,null,null,null,{"$f":"IF(M41>0,Inserir_Dados!K35,L40)","v":0},{"$f":"+Inserir_Dados!L35","v":0},{"$error":"#DIV/0!"},-23.5,{"$f":"((0.183*0.07/$C$30)*LOG10(($N$12+L41)/L41))-0.86","v":{"$error":"#DIV/0!"}}]
[null,null,null,null,null,null,null,null,null,null,null,{"$f":"IF(M42>0,Inserir_Dados!K36,L41)","v":0},{"$f":"+Inserir_Dados!L36","v":0},{"$error":"#DIV/0!"},-23.5,{"$error":"#DIV/0!"}]
[null,null,null,null,null,null,null,null,null,null,null,{"$f":"IF(M43>0,Inserir_Dados!K37,L42)","v":0},{"$f":"+Inserir_Dados!L37","v":0},{"$error":"#DIV/0!"},-23.5,{"$error":"#DIV/0!"}]
[null,null,null,20,null,null,null,null,null,null,null,{"$f":"IF(M44>0,Inserir_Dados!K38,L43)","v":0},{"$f":"+Inserir_Dados!L38","v":0},{"$error":"#DIV/0!"},-23.5,{"$error":"#DIV/0!"}]
[null,null,null,null,null,null,null,null,null,null,null,{"$f":"IF(M45>0,Inserir_Dados!K39,L44)","v":0},{"$f":"+Inserir_Dados!L39","v":0},{"$error":"#DIV/0!"},-23.5,{"$error":"#DIV/0!"}]
[null,null,null,null,null,null,null,null,null,null,null,{"$f":"IF(M46>0,Inserir_Dados!K40,L45)","v":0},{"$f":"+Inserir_Dados!L40","v":0},{"$error":"#DIV/0!"},-23.5,{"$error":"#DIV/0!"}]
[null,null,null,null,null,null,null,null,null,null,null,{"$f":"IF(M47>0,Inserir_Dados!K41,L46)","v":0},{"$f":"+Inserir_Dados!L41","v":0},{"$error":"#DIV/0!"},-23.5,{"$error":"#DIV/0!"}]
[null,null,null,null,null,null,null,null,null,null,null,{"$f":"IF(M48>0,Inserir_Dados!K42,L47)","v":0},{"$f":"+Inserir_Dados!L42","v":0},{"$error":"#DIV/0!"},-23.5,{"$error":"#DIV/0!"}]
[null,null,null,null,null,null,null,null,null,null,null,{"$f":"IF(M49>0,Inserir_Dados!K43,L48)","v":0},{"$f":"+Inserir_Dados!L43","v":0},{"$error":"#DIV/0!"},-23.5,{"$error":"#DIV/0!"}]
[null,null,null,null,null,null,null,null,null,null,null,{"$f":"IF(M50>0,Inserir_Dados!K44,L49)","v":0},{"$f":"+Inserir_Dados!L44","v":0},{"$error":"#DIV/0!"},-23.5,{"$error":"#DIV/0!"}]
[null,null,null,null,null,null,null,null,null,null,null,{"$f":"IF(M51>0,Inserir_Dados!K45,L50)","v":0},{"$f":"+Inserir_Dados!L45","v":0},{"$error":"#DIV/0!"},-23.5,{"$error":"#DIV/0!"}]
[null,null,null,null,null,null,null,null,null,null,null,{"$f":"IF(M52>0,Inserir_Dados!K46,L51)","v":0},{"$f":"+Inserir_Dados!L46","v":0},{"$error":"#DIV/0!"},-23.5,{"$error":"#DIV/0!"}]
[null,null,null,null,null,null,null,null,null,null,null,{"$f":"IF(M53>0,Inserir_Dados!K47,L52)","v":0},{"$f":"+Inserir_Dados!L47","v":0},{"$error":"#DIV/0!"},-23.5,{"$error":"#DIV/0!"}]
[null,null,null,null,null,null,null,null,null,null,null,{"$f":"IF(M54>0,Inserir_Dados!K48,L53)","v":0},{"$f":"+Inserir_Dados!L48","v":0},{"$error":"#DIV/0!"},-23.5,{"$error":"#DIV/0!"}]
[null,null,null,null,null,null,null,null,null,null,null,{"$f":"IF(M55>0,Inserir_Dados!K49,L54)","v":0},{"$f":"+Inserir_Dados!L49","v":0},{"$error":"#DIV/0!"},-23.5,{"$error":"#DIV/0!"}]
[null,null,null,null,null,null,null,null,null,null,null,{"$f":"IF(M56>0,Inserir_Dados!K50,L55)","v":0},{"$f":"+Inserir_Dados!L50","v":0},{"$error":"#DIV/0!"},-23.5,{"$error":"#DIV/0!"}]
[null,null,null,null,null,null,null,null,null,null,null,{"$f":"IF(M57>0,Inserir_Dados!K51,L56)","v":0},{"$f":"+Inserir_Dados!L51","v":0},{"$error":"#DIV/0!"},-23.5,{"$error":"#DIV/0!"}]
[null,null,null,null,null,null,null,null,null,null,null,{"$f":"IF(M58>0,Inserir_Dados!K52,L57)","v":0},{"$f":"+Inserir_Dados!L52","v":0},{"$error":"#DIV/0!"},-23.5,{"$error":"#DIV/0!"}]
[null,null,null,null,null,null,null,null,null,null,null,{"$f":"IF(M59>0,Inserir_Dados!K53,L58)","v":0},{"$f":"+Inserir_Dados!L53","v":0},{"$error":"#DIV/0!"},-23.5,{"$error":"#DIV/0!"}]
[null,null,null,null,null,null,null,null,null,null,null,{"$f":"IF(M60>0,Inserir_Dados!K54,L59)","v":0},{"$f":"+Inserir_Dados!L54","v":0},{"$error":"#DIV/0!"},-23.5,{"$error":"#DIV/0!"}]
[null,null,null,null,null,null,null,null,null,null,null,{"$f":"IF(M61>0,Inserir_Dados!K55,L60)","v":0},{"$f":"+Inserir_Dados!L55","v":0},{"$error":"#DIV/0!"},-23.5,{"$error":"#DIV/0!"}]
[null,null,null,null,null,null,null,null,null,null,null,{"$f":"IF(M62>0,Inserir_Dados!K56,L61)","v":0},{"$f":"+Inserir_Dados!L56","v":0},{"$error":"#DIV/0!"},-23.5,{"$error":"#DIV/0!"}]
[null,null,null,null,null,null,null,null,null,null,null,{"$f":"IF(M63>0,Inserir_Dados!K57,L62)","v":0},{"$f":"+Inserir_Dados!L57","v":0},{"$error":"#DIV/0!"},-23.5,{"$error":"#DIV/0!"}]
[null,null,null,null,null,null,null,null,null,null,null,{"$f":"IF(M64>0,Inserir_Dados!K58,L63)","v":0},{"$f":"+Inserir_Dados!L58","v":0},{"$error":"#DIV/0!"},-23.5,{"$error":"#DIV/0!"}]
[null,null,null,null,null,null,null,null,null,null,null,{"$f":"IF(M65>0,Inserir_Dados!K59,L64)","v":0},{"$f":"+Inserir_Dados!L59","v":0},{"$error":"#DIV/0!"},-23.5,{"$error":"#DIV/0!"}]
[null,null,null,null,null,null,null,null,null,null,null,{"$f":"IF(M66>0,Inserir_Dados!K60,L65)","v":0},{"$f":"+Inserir_Dados!L60","v":0},{"$error":"#DIV/0!"},-23.5,{"$error":"#DIV/0!"}]
[null,null,null,null,null,null,null,null,null,null,null,{"$f":"IF(M67>0,Inserir_Dados!K61,L66)","v":0},{"$f":"+Inserir_Dados!L61","v":0},{"$error":"#DIV/0!"},-23.5,{"$error":"#DIV/0!"}]
[null,null,null,null,null,null,null,null,null,null,null,{"$f":"IF(M68>0,Inserir_Dados!K62,L67)","v":0},{"$f":"+Inserir_Dados!L62","v":0},{"$error":"#DIV/0!"},-23.5,{"$error":"#DIV/0!"}]
[null,null,null,null,null,null,null,null,null,null,null,{"$f":"IF(M69>0,Inserir_Dados!K63,L68)","v":0},{"$f":"+Inserir_Dados!L63","v":0},{"$error":"#DIV/0!"},-23.5,{"$error":"#DIV/0!"}]
[null,null,null,null,null,null,null,null,null,null,null,{"$f":"IF(M70>0,Inserir_Dados!K64,L69)","v":0},{"$f":"+Inserir_Dados!L64","v":0},{"$error":"#DIV/0!"},-23.5,{"$error":"#DIV/0!"}]
[null,null,null,null,null,null,null,null,null,null,null,{"$f":"IF(M71>0,Inserir_Dados!K65,L70)","v":0},{"$f":"+Inserir_Dados!L65","v":0},{"$error":"#DIV/0!"},-23.5,{"$error":"#DIV/0!"}]
[null,null,null,null,null,null,null,null,null,null,null,{"$f":"IF(M72>0,Inserir_Dados!K66,L71)","v":0},{"$f":"+Inserir_Dados!L66","v":0},{"$error":"#DIV/0!"},-23.5,{"$error":"#DIV/0!"}]
[null,null,null,null,null,null,null,null,null,null,null,{"$f":"IF(M73>0,Inserir_Dados!K67,L72)","v":0},{"$f":"+Inserir_Dados!L67","v":0},{"$error":"#DIV/0!"},-23.5,{"$error":"#DIV/0!"}]
[null,null,null,null,null,null,null,null,null,null,null,{"$f":"IF(M74>0,Inserir_Dados!K68,L73)","v":0},{"$f":"+Inserir_Dados!L68","v":0},{"$error":"#DIV/0!"},-23.5,{"$error":"#DIV/0!"}]
[null,null,null,null,null,null,null,null,null,null,null,{"$f":"IF(M75>0,Inserir_Dados!K69,L74)","v":0},{"$f":"+Inserir_Dados!L69","v":0},{"$error":"#DIV/0!"},-23.5,{"$error":"#DIV/0!"}]
[null,null,null,null,null,null,null,null,null,null,null,{"$f":"IF(M76>0,Inserir_Dados!K70,L75)","v":0},{"$f":"+Inserir_Dados!L70","v":0},{"$error":"#DIV/0!"},-23.5,{"$error":"#DIV/0!"}]
[null,null,null,null,null,null,null,null,null,null,null,{"$f":"IF(M77>0,Inserir_Dados!K71,L76)","v":0},{"$f":"+Inserir_Dados!L71","v":0},{"$error":"#DIV/0!"},-23.5,{"$error":"#DIV/0!"}]
[null,null,null,null,null,null,null,null,null,null,null,{"$f":"IF(M78>0,Inserir_Dados!K72,L77)","v":0},{"$f":"+Inserir_Dados!L72","v":0},{"$error":"#DIV/0!"},-23.5,{"$error":"#DIV/0!"}]
[null,null,null,null,null,null,null,null,null,null,null,{"$f":"IF(M79>0,Inserir_Dados!K73,L78)","v":0},{"$f":"+Inserir_Dados!L73","v":0},{"$error":"#DIV/0!"},-23.5,{"$error":"#DIV/0!"}]
[null,null,null,null,null,null,null,null,null,null,null,{"$f":"IF(M80>0,Inserir_Dados!K74,L79)","v":0},{"$f":"+Inserir_Dados!L74","v":0},{"$error":"#DIV/0!"},-23.5,{"$error":"#DIV/0!"}]
[null,null,null,null,null,null,null,null,null,null,null,{"$f":"IF(M81>0,Inserir_Dados!K75,L80)","v":0},{"$f":"+Inserir_Dados!L75","v":0},{"$error":"#DIV/0!"},-23.5,{"$error":"#DIV/0!"}]
[null,null,null,null,null,null,null,null,null,null,null,{"$f":"IF(M82>0,Inserir_Dados!K76,L81)","v":0},{"$f":"+Inserir_Dados!L76","v":0},{"$f":"IF(M82>0,4231/L82,N81)","v":{"$error":"#DIV/0!"}},{"$f":"IF(L82>L81,M82-$N$13,O81)","v":-23.5},{"$error":"#DIV/0!"}]
[null,null,null,null,null,null,null,null,null,null,null,{"$f":"IF(M83>0,Inserir_Dados!K77,L82)","v":0},{"$f":"+Inserir_Dados!L77","v":0},{"$error":"#DIV/0!"},-23.5,{"$error":"#DIV/0!"}]
[null,null,null,null,null,null,null,null,null,null,null,{"$f":"IF(M84>0,Inserir_Dados!K78,L83)","v":0},{"$f":"+Inserir_Dados!L78","v":0},{"$error":"#DIV/0!"},-23.5,{"$error":"#DIV/0!"}]
[null,null,null,null,null,null,null,null,null,null,null,{"$f":"IF(M85>0,Inserir_Dados!K79,L84)","v":0},{"$f":"+Inserir_Dados!L79","v":0},{"$error":"#DIV/0!"},-23.5,{"$error":"#DIV/0!"}]
[null,null,null,null,null,null,null,null,null,null,null,{"$f":"IF(M86>0,Inserir_Dados!K80,L85)","v":0},{"$f":"+Inserir_Dados!L80","v":0},{"$error":"#DIV/0!"},-23.5,{"$error":"#DIV/0!"}]
[null,null,null,null,null,null,null,null,null,null,null,{"$f":"IF(M87>0,Inserir_Dados!K81,L86)","v":0},{"$f":"+Inserir_Dados!L81","v":0},{"$error":"#DIV/0!"},-23.5,{"$error":"#DIV/0!"}]
[null,null,null,null,null,null,null,null,null,null,null,{"$f":"IF(M88>0,Inserir_Dados!K82,L87)","v":0},{"$f":"+Inserir_Dados!L82","v":0},{"$error":"#DIV/0!"},-23.5,{"$error":"#DIV/0!"}]
[null,null,null,null,null,null,null,null,null,null,null,{"$f":"IF(M89>0,Inserir_Dados!K83,L88)","v":0},{"$f":"+Inserir_Dados!L83","v":0},{"$error":"#DIV/0!"},-23.5,{"$error":"#DIV/0!"}]
[null,null,null,null,null,null,null,null,null,null,null,{"$f":"IF(M90>0,Inserir_Dados!K84,L89)","v":0},{"$f":"+Inserir_Dados!L84","v":0},{"$error":"#DIV/0!"},-23.5,{"$error":"#DIV/0!"}]
[null,null,null,null,null,null,null,null,null,null,null,{"$f":"IF(M91>0,Inserir_Dados!K85,L90)","v":0},{"$f":"+Inserir_Dados!L85","v":0},{"$error":"#DIV/0!"},-23.5,{"$error":"#DIV/0!"}]
[null,null,null,null,null,null,null,null,null,null,null,{"$f":"IF(M92>0,Inserir_Dados!K86,L91)","v":0},{"$f":"+Inserir_Dados!L86","v":0},{"$error":"#DIV/0!"},-23.5,{"$error":"#DIV/0!"}]
[null,null,null,null,null,null,null,null,null,null,null,{"$f":"IF(M93>0,Inserir_Dados!K87,L92)","v":0},{"$f":"+Inserir_Dados!L87","v":0},{"$error":"#DIV/0!"},-23.5,{"$error":"#DIV/0!"}]
[null,null,null,null,null,null,null,null,null,null,null,{"$f":"IF(M94>0,Inserir_Dados!K88,L93)","v":0},{"$f":"+Inserir_Dados!L88","v":0},{"$error":"#DIV/0!"},-23.5,{"$error":"#DIV/0!"}]
[null,null,null,null,null,null,null,null,null,null,null,{"$f":"IF(M95>0,Inserir_Dados!K89,L94)","v":0},{"$f":"+Inserir_Dados!L89","v":0},{"$error":"#DIV/0!"},-23.5,{"$error":"#DIV/0!"}]
[null,null,null,null,null,null,null,null,null,null,null,{"$f":"IF(M96>0,Inserir_Dados!K90,L95)","v":0},{"$f":"+Inserir_Dados!L90","v":0},{"$error":"#DIV/0!"},-23.5,{"$error":"#DIV/0!"}]
[null,null,null,null,null,null,null,null,null,null,null,{"$f":"IF(M97>0,Inserir_Dados!K91,L96)","v":0},{"$f":"+Inserir_Dados!L91","v":0},{"$error":"#DIV/0!"},-23.5,{"$error":"#DIV/0!"}]
[null,null,null,null,null,null,null,null,null,null,null,{"$f":"IF(M98>0,Inserir_Dados!K92,L97)","v":0},{"$f":"+Inserir_Dados!L92","v":0},{"$error":"#DIV/0!"},-23.5,{"$error":"#DIV/0!"}]
[null,null,null,null,null,null,null,null,null,null,null,{"$f":"IF(M99>0,Inserir_Dados!K93,L98)","v":0},{"$f":"+Inserir_Dados!L93","v":0},{"$error":"#DIV/0!"},-23.5,{"$error":"#DIV/0!"}]
[null,null,null,null,null,null,null,null,null,null,null,{"$f":"IF(M100>0,Inserir_Dados!K94,L99)","v":0},{"$f":"+Inserir_Dados!L94","v":0},{"$error":"#DIV/0!"},-23.5,{"$error":"#DIV/0!"}]
[null,null,null,null,null,null,null,null,null,null,null,{"$f":"IF(M101>0,Inserir_Dados!K95,L100)","v":0},{"$f":"+Inserir_Dados!L95","v":0},{"$error":"#DIV/0!"},-23.5,{"$error":"#DIV/0!"}]
[null,null,null,null,null,null,null,null,null,null,null,{"$f":"IF(M102>0,Inserir_Dados!K96,L101)","v":0},{"$f":"+Inserir_Dados!L96","v":0},{"$error":"#DIV/0!"},-23.5,{"$error":"#DIV/0!"}]
[null,null,null,null,null,null,null,null,null,null,null,{"$f":"IF(M103>0,Inserir_Dados!K97,L102)","v":0},{"$f":"+Inserir_Dados!L97","v":0},{"$error":"#DIV/0!"},-23.5,{"$error":"#DIV/0!"}]
[null,null,null,null,null,null,null,null,null,null,null,{"$f":"IF(M104>0,Inserir_Dados!K98,L103)","v":0},{"$f":"+Inserir_Dados!L98","v":0},{"$error":"#DIV/0!"},-23.5,{"$error":"#DIV/0!"}]
[null,null,null,null,null,null,null,null,null,null,null,{"$f":"IF(M105>0,Inserir_Dados!K99,L104)","v":0},{"$f":"+Inserir_Dados!L99","v":0},{"$error":"#DIV/0!"},-23.5,{"$f":"((0.183*0.07/$C$30)*LOG10(($N$12+L105)/L105))-0.86","v":{"$error":"#DIV/0!"}}]
[null,null,null,null,null,null,null,null,null,null,null,{"$f":"IF(M106>0,Inserir_Dados!K100,L105)","v":0},{"$f":"+Inserir_Dados!L100","v":0},{"$error":"#DIV/0!"},-23.5,{"$error":"#DIV/0!"}]
[null,null,null,null,null,null,null,null,null,null,null,{"$f":"IF(M107>0,Inserir_Dados!K101,L106)","v":0},{"$f":"+Inserir_Dados!L101","v":0},{"$error":"#DIV/0!"},-23.5,{"$error":"#DIV/0!"}]
[null,null,null,null,null,null,null,null,null,null,null,{"$f":"IF(M108>0,Inserir_Dados!K102,L107)","v":0},{"$f":"+Inserir_Dados!L102","v":0},{"$error":"#DIV/0!"},-23.5,{"$error":"#DIV/0!"}]
[null,null,null,null,null,null,null,null,null,null,null,{"$f":"IF(M109>0,Inserir_Dados!K103,L108)","v":0},{"$f":"+Inserir_Dados!L103","v":0},{"$error":"#DIV/0!"},-23.5,{"$error":"#DIV/0!"}]
[null,null,null,null,null,null,null,null,null,null,null,{"$f":"IF(M110>0,Inserir_Dados!K104,L109)","v":0},{"$f":"+Inserir_Dados!L104","v":0},{"$error":"#DIV/0!"},-23.5,{"$error":"#DIV/0!"}]
[null,null,null,null,null,null,null,null,null,null,null,{"$f":"IF(M111>0,Inserir_Dados!K105,L110)","v":0},{"$f":"+Inserir_Dados!L105","v":0},{"$error":"#DIV/0!"},-23.5,{"$error":"#DIV/0!"}]
[null,null,null,null,null,null,null,null,null,null,null,{"$f":"IF(M112>0,Inserir_Dados!K106,L111)","v":0},{"$f":"+Inserir_Dados!L106","v":0},{"$error":"#DIV/0!"},-23.5,{"$error":"#DIV/0!"}]
[null,null,null,null,null,null,null,null,null,null,null,{"$f":"IF(M113>0,Inserir_Dados!K107,L112)","v":0},{"$f":"+Inserir_Dados!L107","v":0},{"$error":"#DIV/0!"},-23.5,{"$error":"#DIV/0!"}]
[null,null,null,null,null,null,null,null,null,null,null,{"$f":"IF(M114>0,Inserir_Dados!K108,L113)","v":0},{"$f":"+Inserir_Dados!L108","v":0},{"$error":"#DIV/0!"},-23.5,{"$error":"#DIV/0!"}]
[null,null,null,null,null,null,null,null,null,null,null,{"$f":"IF(M115>0,Inserir_Dados!K109,L114)","v":0},{"$f":"+Inserir_Dados!L109","v":0},{"$error":"#DIV/0!"},-23.5,{"$error":"#DIV/0!"}]
[null,null,null,null,null,null,null,null,null,null,null,{"$f":"IF(M116>0,Inserir_Dados!K110,L115)","v":0},{"$f":"+Inserir_Dados!L110","v":0},{"$error":"#DIV/0!"},-23.5,{"$error":"#DIV/0!"}]
[null,null,null,null,null,null,null,null,null,null,null,{"$f":"IF(M117>0,Inserir_Dados!K111,L116)","v":0},{"$f":"+Inserir_Dados!L111","v":0},{"$error":"#DIV/0!"},-23.5,{"$error":"#DIV/0!"}]
[null,null,null,null,null,null,null,null,null,null,null,{"$f":"IF(M118>0,Inserir_Dados!K112,L117)","v":0},{"$f":"+Inserir_Dados!L112","v":0},{"$error":"#DIV/0!"},-23.5,{"$error":"#DIV/0!"}]
[null,null,null,null,null,null,null,null,null,null,null,{"$f":"IF(M119>0,Inserir_Dados!K113,L118)","v":0},{"$f":"+Inserir_Dados!L113","v":0},{"$error":"#DIV/0!"},-23.5,{"$error":"#DIV/0!"}]
[null,null,null,null,null,null,null,null,null,null,null,{"$f":"IF(M120>0,Inserir_Dados!K114,L119)","v":0},{"$f":"+Inserir_Dados!L114","v":0},{"$error":"#DIV/0!"},-23.5,{"$error":"#DIV/0!"}]
[null,null,null,null,null,null,null,null,null,null,null,{"$f":"IF(M121>0,Inserir_Dados!K115,L120)","v":0},{"$f":"+Inserir_Dados!L115","v":0},{"$error":"#DIV/0!"},-23.5,{"$error":"#DIV/0!"}]
[null,null,null,null,null,null,null,null,null,null,null,{"$f":"IF(M122>0,Inserir_Dados!K116,L121)","v":0},{"$f":"+Inserir_Dados!L116","v":0},{"$error":"#DIV/0!"},-23.5,{"$error":"#DIV/0!"}]
[null,null,null,null,null,null,null,null,null,null,null,{"$f":"IF(M123>0,Inserir_Dados!K117,L122)","v":0},{"$f":"+Inserir_Dados!L117","v":0},{"$error":"#DIV/0!"},-23.5,{"$error":"#DIV/0!"}]
[null,null,null,null,null,null,null,null,null,null,null,{"$f":"IF(M124>0,Inserir_Dados!K118,L123)","v":0},{"$f":"+Inserir_Dados!L118","v":0},{"$error":"#DIV/0!"},-23.5,{"$error":"#DIV/0!"}]
[null,null,null,null,null,null,null,null,null,null,null,{"$f":"IF(M125>0,Inserir_Dados!K119,L124)","v":0},{"$f":"+Inserir_Dados!L119","v":0},{"$error":"#DIV/0!"},-23.5,{"$error":"#DIV/0!"}]
[null,null,null,null,null,null,null,null,null,null,null,{"$f":"IF(M126>0,Inserir_Dados!K120,L125)","v":0},{"$f":"+Inserir_Dados!L120","v":0},{"$error":"#DIV/0!"},-23.5,{"$error":"#DIV/0!"}]
[null,null,null,null,null,null,null,null,null,null,null,{"$f":"IF(M127>0,Inserir_Dados!K121,L126)","v":0},{"$f":"+Inserir_Dados!L121","v":0},{"$error":"#DIV/0!"},-23.5,{"$error":"#DIV/0!"}]
[null,null,null,null,null,null,null,null,null,null,null,{"$f":"IF(M128>0,Inserir_Dados!K122,L127)","v":0},{"$f":"+Inserir_Dados!L122","v":0},{"$error":"#DIV/0!"},-23.5,{"$error":"#DIV/0!"}]
[null,null,null,null,null,null,null,null,null,null,null,{"$f":"IF(M129>0,Inserir_Dados!K123,L128)","v":0},{"$f":"+Inserir_Dados!L123","v":0},{"$error":"#DIV/0!"},-23.5,{"$error":"#DIV/0!"}]
[null,null,null,null,null,null,null,null,null,null,null,{"$f":"IF(M130>0,Inserir_Dados!K124,L129)","v":0},{"$f":"+Inserir_Dados!L124","v":0},{"$error":"#DIV/0!"},-23.5,{"$error":"#DIV/0!"}]
[null,null,null,null,null,null,null,null,null,null,null,{"$f":"IF(M131>0,Inserir_Dados!K125,L130)","v":0},{"$f":"+Inserir_Dados!L125","v":0},{"$error":"#DIV/0!"},-23.5,{"$error":"#DIV/0!"}]
[null,null,null,null,null,null,null,null,null,null,null,{"$f":"IF(M132>0,Inserir_Dados!K126,L131)","v":0},{"$f":"+Inserir_Dados!L126","v":0},{"$error":"#DIV/0!"},-23.5,{"$error":"#DIV/0!"}]
[null,null,null,null,null,null,null,null,null,null,null,{"$f":"IF(M133>0,Inserir_Dados!K127,L132)","v":0},{"$f":"+Inserir_Dados!L127","v":0},{"$error":"#DIV/0!"},-23.5,{"$error":"#DIV/0!"}]
[null,null,null,null,null,null,null,null,null,null,null,{"$f":"IF(M134>0,Inserir_Dados!K128,L133)","v":0},{"$f":"+Inserir_Dados!L128","v":0},{"$error":"#DIV/0!"},-23.5,{"$error":"#DIV/0!"}]
[null,null,null,null,null,null,null,null,null,null,null,{"$f":"IF(M135>0,Inserir_Dados!K129,L134)","v":0},{"$f":"+Inserir_Dados!L129","v":0},{"$error":"#DIV/0!"},-23.5,{"$error":"#DIV/0!"}]
[null,null,null,null,null,null,null,null,null,null,null,{"$f":"IF(M136>0,Inserir_Dados!K130,L135)","v":0},{"$f":"+Inserir_Dados!L130","v":0},{"$error":"#DIV/0!"},-23.5,{"$error":"#DIV/0!"}]
[null,null,null,null,null,null,null,null,null,null,null,{"$f":"IF(M137>0,Inserir_Dados!K131,L136)","v":0},{"$f":"+Inserir_Dados!L131","v":0},{"$error":"#DIV/0!"},-23.5,{"$error":"#DIV/0!"}]
[null,null,null,null,null,null,null,null,null,null,null,{"$f":"IF(M138>0,Inserir_Dados!K132,L137)","v":0},{"$f":"+Inserir_Dados!L132","v":0},{"$error":"#DIV/0!"},-23.5,{"$error":"#DIV/0!"}]
[null,null,null,null,null,null,null,null,null,null,null,{"$f":"IF(M139>0,Inserir_Dados!K133,L138)","v":0},{"$f":"+Inserir_Dados!L133","v":0},{"$error":"#DIV/0!"},-23.5,{"$error":"#DIV/0!"}]
[null,null,null,null,null,null,null,null,null,null,null,{"$f":"IF(M140>0,Inserir_Dados!K134,L139)","v":0},{"$f":"+Inserir_Dados!L134","v":0},{"$error":"#DIV/0!"},-23.5,{"$error":"#DIV/0!"}]
[null,null,null,null,null,null,null,null,null,null,null,{"$f":"IF(M141>0,Inserir_Dados!K135,L140)","v":0},{"$f":"+Inserir_Dados!L135","v":0},{"$error":"#DIV/0!"},-23.5,{"$error":"#DIV/0!"}]
[null,null,null,null,null,null,null,null,null,null,null,{"$f":"IF(M142>0,Inserir_Dados!K136,L141)","v":0},{"$f":"+Inserir_Dados!L136","v":0},{"$error":"#DIV/0!"},-23.5,{"$error":"#DIV/0!"}]
[null,null,null,null,null,null,null,null,null,null,null,{"$f":"IF(M143>0,Inserir_Dados!K137,L142)","v":0},{"$f":"+Inserir_Dados!L137","v":0},{"$error":"#DIV/0!"},-23.5,{"$error":"#DIV/0!"}]
[null,null,null,null,null,null,null,null,null,null,null,{"$f":"IF(M144>0,Inserir_Dados!K138,L143)","v":0},{"$f":"+Inserir_Dados!L138","v":0},{"$error":"#DIV/0!"},-23.5,{"$error":"#DIV/0!"}]
[null,null,null,null,null,null,null,null,null,null,null,{"$f":"IF(M145>0,Inserir_Dados!K139,L144)","v":0},{"$f":"+Inserir_Dados!L139","v":0},{"$error":"#DIV/0!"},-23.5,{"$error":"#DIV/0!"}]
[null,null,null,null,null,null,null,null,null,null,null,{"$f":"IF(M146>0,Inserir_Dados!K140,L145)","v":0},{"$f":"+Inserir_Dados!L140","v":0},{"$f":"IF(M146>0,4231/L146,N145)","v":{"$error":"#DIV/0!"}},{"$f":"IF(L146>L145,M146-$N$13,O145)","v":-23.5},{"$error":"#DIV/0!"}]
[null,null,null,null,null,null,null,null,null,null,null,{"$f":"IF(M147>0,Inserir_Dados!K141,L146)","v":0},{"$f":"+Inserir_Dados!L141","v":0},{"$error":"#DIV/0!"},-23.5,{"$error":"#DIV/0!"}]
[null,null,null,null,null,null,null,null,null,null,null,{"$f":"IF(M148>0,Inserir_Dados!K142,L147)","v":0},{"$f":"+Inserir_Dados!L142","v":0},{"$error":"#DIV/0!"},-23.5,{"$error":"#DIV/0!"}]
[null,null,null,null,null,null,null,null,null,null,null,{"$f":"IF(M149>0,Inserir_Dados!K143,L148)","v":0},{"$f":"+Inserir_Dados!L143","v":0},{"$error":"#DIV/0!"},-23.5,{"$error":"#DIV/0!"}]
[null,null,null,null,null,null,null,null,null,null,null,{"$f":"IF(M150>0,Inserir_Dados!K144,L149)","v":0},{"$f":"+Inserir_Dados!L144","v":0},{"$error":"#DIV/0!"},-23.5,{"$error":"#DIV/0!"}]
[null,null,null,null,null,null,null,null,null,null,null,{"$f":"IF(M151>0,Inserir_Dados!K145,L150)","v":0},{"$f":"+Inserir_Dados!L145","v":0},{"$error":"#DIV/0!"},-23.5,{"$error":"#DIV/0!"}]
[null,null,null,null,null,null,null,null,null,null,null,{"$f":"IF(M152>0,Inserir_Dados!K146,L151)","v":0},{"$f":"+Inserir_Dados!L146","v":0},{"$error":"#DIV/0!"},-23.5,{"$error":"#DIV/0!"}]
[null,null,null,null,null,null,null,null,null,null,null,{"$f":"IF(M153>0,Inserir_Dados!K147,L152)","v":0},{"$f":"+Inserir_Dados!L147","v":0},{"$error":"#DIV/0!"},-23.5,{"$error":"#DIV/0!"}]
[null,null,null,null,null,null,null,null,null,null,null,{"$f":"IF(M154>0,Inserir_Dados!K148,L153)","v":0},{"$f":"+Inserir_Dados!L148","v":0},{"$error":"#DIV/0!"},-23.5,{"$error":"#DIV/0!"}]
[null,null,null,null,null,null,null,null,null,null,null,{"$f":"IF(M155>0,Inserir_Dados!K149,L154)","v":0},{"$f":"+Inserir_Dados!L149","v":0},{"$error":"#DIV/0!"},-23.5,{"$error":"#DIV/0!"}]
[null,null,null,null,null,null,null,null,null,null,null,{"$f":"IF(M156>0,Inserir_Dados!K150,L155)","v":0},{"$f":"+Inserir_Dados!L150","v":0},{"$error":"#DIV/0!"},-23.5,{"$error":"#DIV/0!"}]
[null,null,null,null,null,null,null,null,null,null,null,{"$f":"IF(M157>0,Inserir_Dados!K151,L156)","v":0},{"$f":"+Inserir_Dados!L151","v":0},{"$error":"#DIV/0!"},-23.5,{"$error":"#DIV/0!"}]
[null,null,null,null,null,null,null,null,null,null,null,{"$f":"IF(M158>0,Inserir_Dados!K152,L157)","v":0},{"$f":"+Inserir_Dados!L152","v":0},{"$error":"#DIV/0!"},-23.5,{"$error":"#DIV/0!"}]
[null,null,null,null,null,null,null,null,null,null,null,{"$f":"IF(M159>0,Inserir_Dados!K153,L158)","v":0},{"$f":"+Inserir_Dados!L153","v":0},{"$error":"#DIV/0!"},-23.5,{"$error":"#DIV/0!"}]
[null,null,null,null,null,null,null,null,null,null,null,{"$f":"IF(M160>0,Inserir_Dados!K154,L159)","v":0},{"$f":"+Inserir_Dados!L154","v":0},{"$error":"#DIV/0!"},-23.5,{"$error":"#DIV/0!"}]
[null,null,null,null,null,null,null,null,null,null,null,{"$f":"IF(M161>0,Inserir_Dados!K155,L160)","v":0},{"$f":"+Inserir_Dados!L155","v":0},{"$error":"#DIV/0!"},-23.5,{"$error":"#DIV/0!"}]
[null,null,null,null,null,null,null,null,null,null,null,{"$f":"IF(M162>0,Inserir_Dados!K156,L161)","v":0},{"$f":"+Inserir_Dados!L156","v":0},{"$error":"#DIV/0!"},-23.5,{"$error":"#DIV/0!"}]
[null,null,null,null,null,null,null,null,null,null,null,{"$f":"IF(M163>0,Inserir_Dados!K157,L162)","v":0},{"$f":"+Inserir_Dados!L157","v":0},{"$error":"#DIV/0!"},-23.5,{"$error":"#DIV/0!"}]
[null,null,null,null,null,null,null,null,null,null,null,{"$f":"IF(M164>0,Inserir_Dados!K158,L163)","v":0},{"$f":"+Inserir_Dados!L158","v":0},{"$error":"#DIV/0!"},-23.5,{"$error":"#DIV/0!"}]
[null,null,null,null,null,null,null,null,null,null,null,{"$f":"IF(M165>0,Inserir_Dados!K159,L164)","v":0},{"$f":"+Inserir_Dados!L159","v":0},{"$error":"#DIV/0!"},-23.5,{"$error":"#DIV/0!"}]
[null,null,null,null,null,null,null,null,null,null,null,{"$f":"IF(M166>0,Inserir_Dados!K160,L165)","v":0},{"$f":"+Inserir_Dados!L160","v":0},{"$error":"#DIV/0!"},-23.5,{"$error":"#DIV/0!"}]
[null,null,null,null,null,null,null,null,null,null,null,{"$f":"IF(M167>0,Inserir_Dados!K161,L166)","v":0},{"$f":"+Inserir_Dados!L161","v":0},{"$error":"#DIV/0!"},-23.5,{"$error":"#DIV/0!"}]
[null,null,null,null,null,null,null,null,null,null,null,{"$f":"IF(M168>0,Inserir_Dados!K162,L167)","v":0},{"$f":"+Inserir_Dados!L162","v":0},{"$error":"#DIV/0!"},-23.5,{"$error":"#DIV/0!"}]
[null,null,null,null,null,null,null,null,null,null,null,{"$f":"IF(M169>0,Inserir_Dados!K163,L168)","v":0},{"$f":"+Inserir_Dados!L163","v":0},{"$error":"#DIV/0!"},-23.5,{"$f":"((0.183*0.07/$C$30)*LOG10(($N$12+L169)/L169))-0.86","v":{"$error":"#DIV/0!"}}]
[null,null,null,null,null,null,null,null,null,null,null,{"$f":"IF(M170>0,Inserir_Dados!K164,L169)","v":0},{"$f":"+Inserir_Dados!L164","v":0},{"$error":"#DIV/0!"},-23.5,{"$error":"#DIV/0!"}]
[null,null,null,null,null,null,null,null,null,null,null,{"$f":"IF(M171>0,Inserir_Dados!K165,L170)","v":0},{"$f":"+Inserir_Dados!L165","v":0},{"$error":"#DIV/0!"},-23.5,{"$error":"#DIV/0!"}]
[null,null,null,null,null,null,null,null,null,null,null,{"$f":"IF(M172>0,Inserir_Dados!K166,L171)","v":0},{"$f":"+Inserir_Dados!L166","v":0},{"$error":"#DIV/0!"},-23.5,{"$error":"#DIV/0!"}]
[null,null,null,null,null,null,null,null,null,null,null,{"$f":"IF(M173>0,Inserir_Dados!K167,L172)","v":0},{"$f":"+Inserir_Dados!L167","v":0},{"$error":"#DIV/0!"},-23.5,{"$error":"#DIV/0!"}]
[null,null,null,null,null,null,null,null,null,null,null,{"$f":"IF(M174>0,Inserir_Dados!K168,L173)","v":0},{"$f":"+Inserir_Dados!L168","v":0},{"$error":"#DIV/0!"},-23.5,{"$error":"#DIV/0!"}]
[null,null,null,null,null,null,null,null,null,null,null,{"$f":"IF(M175>0,Inserir_Dados!K169,L174)","v":0},{"$f":"+Inserir_Dados!L169","v":0},{"$error":"#DIV/0!"},-23.5,{"$error":"#DIV/0!"}]
[null,null,null,null,null,null,null,null,null,null,null,{"$f":"IF(M176>0,Inserir_Dados!K170,L175)","v":0},{"$f":"+Inserir_Dados!L170","v":0},{"$error":"#DIV/0!"},-23.5,{"$error":"#DIV/0!"}]
[null,null,null,null,null,null,null,null,null,null,null,{"$f":"IF(M177>0,Inserir_Dados!K171,L176)","v":0},{"$f":"+Inserir_Dados!L171","v":0},{"$error":"#DIV/0!"},-23.5,{"$error":"#DIV/0!"}]
[null,null,null,null,null,null,null,null,null,null,null,{"$f":"IF(M178>0,Inserir_Dados!K172,L177)","v":0},{"$f":"+Inserir_Dados!L172","v":0},{"$error":"#DIV/0!"},-23.5,{"$error":"#DIV/0!"}]
[null,null,null,null,null,null,null,null,null,null,null,{"$f":"IF(M179>0,Inserir_Dados!K173,L178)","v":0},{"$f":"+Inserir_Dados!L173","v":0},{"$error":"#DIV/0!"},-23.5,{"$error":"#DIV/0!"}]
[null,null,null,null,null,null,null,null,null,null,null,{"$f":"IF(M180>0,Inserir_Dados!K174,L179)","v":0},{"$f":"+Inserir_Dados!L174","v":0},{"$error":"#DIV/0!"},-23.5,{"$error":"#DIV/0!"}]
[null,null,null,null,null,null,null,null,null,null,null,{"$f":"IF(M181>0,Inserir_Dados!K175,L180)","v":0},{"$f":"+Inserir_Dados!L175","v":0},{"$error":"#DIV/0!"},-23.5,{"$error":"#DIV/0!"}]
[null,null,null,null,null,null,null,null,null,null,null,{"$f":"IF(M182>0,Inserir_Dados!K176,L181)","v":0},{"$f":"+Inserir_Dados!L176","v":0},{"$error":"#DIV/0!"},-23.5,{"$error":"#DIV/0!"}]
[null,null,null,null,null,null,null,null,null,null,null,{"$f":"IF(M183>0,Inserir_Dados!K177,L182)","v":0},{"$f":"+Inserir_Dados!L177","v":0},{"$error":"#DIV/0!"},-23.5,{"$error":"#DIV/0!"}]
[null,null,null,null,null,null,null,null,null,null,null,{"$f":"IF(M184>0,Inserir_Dados!K178,L183)","v":0},{"$f":"+Inserir_Dados!L178","v":0},{"$error":"#DIV/0!"},-23.5,{"$error":"#DIV/0!"}]
[null,null,null,null,null,null,null,null,null,null,null,{"$f":"IF(M185>0,Inserir_Dados!K179,L184)","v":0},{"$f":"+Inserir_Dados!L179","v":0},{"$error":"#DIV/0!"},-23.5,{"$error":"#DIV/0!"}]
[null,null,null,null,null,null,null,null,null,null,null,{"$f":"IF(M186>0,Inserir_Dados!K180,L185)","v":0},{"$f":"+Inserir_Dados!L180","v":0},{"$error":"#DIV/0!"},-23.5,{"$error":"#DIV/0!"}]
[null,null,null,null,null,null,null,null,null,null,null,{"$f":"IF(M187>0,Inserir_Dados!K181,L186)","v":0},{"$f":"+Inserir_Dados!L181","v":0},{"$error":"#DIV/0!"},-23.5,{"$error":"#DIV/0!"}]
[null,null,null,null,null,null,null,null,null,null,null,{"$f":"IF(M188>0,Inserir_Dados!K182,L187)","v":0},{"$f":"+Inserir_Dados!L182","v":0},{"$error":"#DIV/0!"},-23.5,{"$error":"#DIV/0!"}]
[null,null,null,null,null,null,null,null,null,null,null,{"$f":"IF(M189>0,Inserir_Dados!K183,L188)","v":0},{"$f":"+Inserir_Dados!L183","v":0},{"$error":"#DIV/0!"},-23.5,{"$error":"#DIV/0!"}]
[null,null,null,null,null,null,null,null,null,null,null,{"$f":"IF(M190>0,Inserir_Dados!K184,L189)","v":0},{"$f":"+Inserir_Dados!L184","v":0},{"$error":"#DIV/0!"},-23.5,{"$error":"#DIV/0!"}]
[null,null,null,null,null,null,null,null,null,null,null,{"$f":"IF(M191>0,Inserir_Dados!K185,L190)","v":0},{"$f":"+Inserir_Dados!L185","v":0},{"$error":"#DIV/0!"},-23.5,{"$error":"#DIV/0!"}]
[null,null,null,null,null,null,null,null,null,null,null,{"$f":"IF(M192>0,Inserir_Dados!K186,L191)","v":0},{"$f":"+Inserir_Dados!L186","v":0},{"$error":"#DIV/0!"},-23.5,{"$error":"#DIV/0!"}]
[null,null,null,null,null,null,null,null,null,null,null,{"$f":"IF(M193>0,Inserir_Dados!K187,L192)","v":0},{"$f":"+Inserir_Dados!L187","v":0},{"$error":"#DIV/0!"},-23.5,{"$error":"#DIV/0!"}]
[null,null,null,null,null,null,null,null,null,null,null,{"$f":"IF(M194>0,Inserir_Dados!K188,L193)","v":0},{"$f":"+Inserir_Dados!L188","v":0},{"$error":"#DIV/0!"},-23.5,{"$error":"#DIV/0!"}]
[null,null,null,null,null,null,null,null,null,null,null,{"$f":"IF(M195>0,Inserir_Dados!K189,L194)","v":0},{"$f":"+Inserir_Dados!L189","v":0},{"$error":"#DIV/0!"},-23.5,{"$error":"#DIV/0!"}]
[null,null,null,null,null,null,null,null,null,null,null,{"$f":"IF(M196>0,Inserir_Dados!K190,L195)","v":0},{"$f":"+Inserir_Dados!L190","v":0},{"$error":"#DIV/0!"},-23.5,{"$error":"#DIV/0!"}]
[null,null,null,null,null,null,null,null,null,null,null,{"$f":"IF(M197>0,Inserir_Dados!K191,L196)","v":0},{"$f":"+Inserir_Dados!L191","v":0},{"$error":"#DIV/0!"},-23.5,{"$error":"#DIV/0!"}]
[null,null,null,null,null,null,null,null,null,null,null,{"$f":"IF(M198>0,Inserir_Dados!K192,L197)","v":0},{"$f":"+Inserir_Dados!L192","v":0},{"$error":"#DIV/0!"},-23.5,{"$error":"#DIV/0!"}]
[null,null,null,null,null,null,null,null,null,null,null,{"$f":"IF(M199>0,Inserir_Dados!K193,L198)","v":0},{"$f":"+Inserir_Dados!L193","v":0},{"$error":"#DIV/0!"},-23.5,{"$error":"#DIV/0!"}]
[null,null,null,null,null,null,null,null,null,null,null,{"$f":"IF(M200>0,Inserir_Dados!K194,L199)","v":0},{"$f":"+Inserir_Dados!L194","v":0},{"$error":"#DIV/0!"},-23.5,{"$error":"#DIV/0!"}]
[null,null,null,null,null,null,null,null,null,null,null,{"$f":"IF(M201>0,Inserir_Dados!K195,L200)","v":0},{"$f":"+Inserir_Dados!L195","v":0},{"$error":"#DIV/0!"},-23.5,{"$error":"#DIV/0!"}]
[null,null,null,null,null,null,null,null,null,null,null,{"$f":"IF(M202>0,Inserir_Dados!K196,L201)","v":0},{"$f":"+Inserir_Dados!L196","v":0},{"$error":"#DIV/0!"},-23.5,{"$error":"#DIV/0!"}]
[null,null,null,null,null,null,null,null,null,null,null,{"$f":"IF(M203>0,Inserir_Dados!K197,L202)","v":0},{"$f":"+Inserir_Dados!L197","v":0},{"$error":"#DIV/0!"},-23.5,{"$error":"#DIV/0!"}]
[null,null,null,null,null,null,null,null,null,null,null,{"$f":"IF(M204>0,Inserir_Dados!K198,L203)","v":0},{"$f":"+Inserir_Dados!L198","v":0},{"$error":"#DIV/0!"},-23.5,{"$error":"#DIV/0!"}]
[null,null,null,null,null,null,null,null,null,null,null,{"$f":"IF(M205>0,Inserir_Dados!K199,L204)","v":0},{"$f":"+Inserir_Dados!L199","v":0},{"$error":"#DIV/0!"},-23.5,{"$error":"#DIV/0!"}]
[null,null,null,null,null,null,null,null,null,null,null,{"$f":"IF(M206>0,Inserir_Dados!K200,L205)","v":0},{"$f":"+Inserir_Dados!L200","v":0},{"$error":"#DIV/0!"},-23.5,{"$error":"#DIV/0!"}]
[null,null,null,null,null,null,null,null,null,null,null,{"$f":"IF(M207>0,Inserir_Dados!K201,L206)","v":0},{"$f":"+Inserir_Dados!L201","v":0},{"$error":"#DIV/0!"},-23.5,{"$error":"#DIV/0!"}]
[null,null,null,null,null,null,null,null,null,null,null,{"$f":"IF(M208>0,Inserir_Dados!K202,L207)","v":0},{"$f":"+Inserir_Dados!L202","v":0},{"$error":"#DIV/0!"},-23.5,{"$error":"#DIV/0!"}]
[null,null,null,null,null,null,null,null,null,null,null,{"$f":"IF(M209>0,Inserir_Dados!K203,L208)","v":0},{"$f":"+Inserir_Dados!L203","v":0},{"$error":"#DIV/0!"},-23.5,{"$error":"#DIV/0!"}]
[null,null,null,null,null,null,null,null,null,null,null,{"$f":"IF(M210>0,Inserir_Dados!K204,L209)","v":0},{"$f":"+Inserir_Dados!L204","v":0},{"$f":"IF(M210>0,4231/L210,N209)","v":{"$error":"#DIV/0!"}},{"$f":"IF(L210>L209,M210-$N$13,O209)","v":-23.5},{"$error":"#DIV/0!"}]
[null,null,null,null,null,null,null,null,null,null,null,{"$f":"IF(M211>0,Inserir_Dados!K205,L210)","v":0},{"$f":"+Inserir_Dados!L205","v":0},{"$f":"IF(M211>0,4231/L211,N210)","v":{"$error":"#DIV/0!"}},{"$f":"IF(L211>L210,M211-$N$13,O210)","v":-23.5},{"$error":"#DIV/0!"}]

{"sheet":"Cooper_Jacob","index":2,"n_rows":217,"n_cols":14,"rows_kept":217,"cut":false,"hidden":false,"merged":[]}
[]
[]
[]
[]
[]
[]
[]
[]
[]
[null,null,"Determinação da Transmissividade e do Coeficiente ",null,null,null,null,null,null,null,null,"Estas colunas realizam os cálculos da planilha, não as utilize "]
[null,null,"de Armazenamento Pelo Método de Cooper-Jacob",null,null,null,null,null,null,null,null,"se não souber o que está fazendo"]
[]
[null,null,null,"IDENTIFICAÇÃO DO POÇO:",{"$f":"Inserir_Dados!D7","v":"Poço de Bombeamento XXXXXXXXX"}]
[]
[null,"INSERIR DADOS DO POÇO E DO AQUÍFERO",null,null,null,"Localização:",{"$f":"Inserir_Dados!D8","v":"%%%%%%%%"},null,null,null,null,"Tempo","Rebaixamento ","Rebaixamento"]
[null,"Detalhes da Construção:",null,null,null,"Data:",{"$f":"Inserir_Dados!D9","v":"&&&&&&&"},null,null,null,null,null,"s (m)","s' (m)"]
[null,"Diâmetro do Revestimento:",{"$f":"Inserir_Dados!D19","v":10},"Polegadas",null,"Coordenadas",{"$f":"Inserir_Dados!D10","v":0},null,null,null,null,{"$f":"(Inserir_Dados!H10*60)","v":0},{"$f":"+Inserir_Dados!I10","v":0},{"$f":"+((0.07/(4*PI()*$C$31))*LN((2.25*$C$31*(L17))/((Inserir_Dados!$D$13^2)*$G$31)))","v":{"$error":"#NUM!"}}]
[null,"Diâmetro de Perfuração:",{"$f":"Inserir_Dados!D20","v":14},"Polegadas",null,null,{"$f":"Inserir_Dados!D11","v":0},null,null,null,null,{"$f":"IF(M18>0,Inserir_Dados!H11*60,L17)","v":0},{"$f":"+Inserir_Dados!I11","v":0},{"$f":"+((0.07/(4*PI()*$C$31))*LN((2.25*$C$31*(L18))/((Inserir_Dados!$D$13^2)*$G$31)))","v":{"$error":"#NUM!"}}]
[null,"Profundidade do Poço:",{"$f":"Inserir_Dados!D21","v":260},"metros",null,null,null,null,null,null,null,{"$f":"IF(M19>0,Inserir_Dados!H12*60,L18)","v":0},{"$f":"+Inserir_Dados!I12","v":0},{"$f":"+((0.07/(4*PI()*$C$31))*LN((2.25*$C$31*(L19))/((Inserir_Dados!$D$13^2)*$G$31)))","v":{"$error":"#NUM!"}}]
[null,"Profundidades:",null,null,null,null,"RESULTADOS",null,null,null,null,{"$f":"IF(M20>0,Inserir_Dados!H13*60,L19)","v":0},{"$f":"+Inserir_Dados!I13","v":0},{"$f":"+((0.07/(4*PI()*$C$31))*LN((2.25*$C$31*(L20))/((Inserir_Dados!$D$13^2)*$G$31)))","v":{"$error":"#NUM!"}}]
[null,"Nível Estático:",{"$f":"Inserir_Dados!D16","v":23.5},"metros",null,"B (espessura aqüífero) =",{"$f":"+C23-C22","v":326.5},"m",null,null,null,{"$f":"IF(M21>0,Inserir_Dados!H14*60,L20)","v":0},{"$f":"+Inserir_Dados!I14","v":0},{"$f":"+((0.07/(4*PI()*$C$31))*LN((2.25*$C$31*(L21))/((Inserir_Dados!$D$13^2)*$G$31)))","v":{"$error":"#NUM!"}}]
[null,"Topo do Aquifero:",{"$f":"Inserir_Dados!D17","v":23.5},"metros",null,"Q (vazão) =",{"$f":"+Inserir_Dados!D12","v":250},"m³/h",null,null,null,{"$f":"IF(M22>0,Inserir_Dados!H15*60,L21)","v":0},{"$f":"+Inserir_Dados!I15","v":0},{"$f":"+((0.07/(4*PI()*$C$31))*LN((2.25*$C$31*(L22))/((Inserir_Dados!$D$13^2)*$G$31)))","v":{"$error":"#NUM!"}}]
[null,"Base do Aquifero:",{"$f":"Inserir_Dados!D18","v":350},"metros",null,"R (dist. do piezômetro) =",{"$f":"+Inserir_Dados!D13","v":20},"m",null,null,null,{"$f":"IF(M23>0,Inserir_Dados!H16*60,L22)","v":0},{"$f":"+Inserir_Dados!I16","v":0},{"$f":"+((0.07/(4*PI()*$C$31))*LN((2.25*$C$31*(L23))/((Inserir_Dados!$D$13^2)*$G$31)))","v":{"$error":"#NUM!"}}]
[null,"Espaço Anular:",null,null,null,"T (Transmissividade) =",{"$f":"+C31*3600","v":45.951797117208343},"m²/h",null,null,null,{"$f":"IF(M24>0,Inserir_Dados!H17*60,L23)","v":0},{"$f":"+Inserir_Dados!I17","v":0},{"$f":"+((0.07/(4*PI()*$C$31))*LN((2.25*$C$31*(L24))/((Inserir_Dados!$D$13^2)*$G$31)))","v":{"$error":"#NUM!"}}]
[null,"Material do Pré-Filtro:",null,null,null,"k (permeabilidade) =",{"$f":"G24/(C23-C22)","v":0.14074057310017871},"m/h",null,null,null,{"$f":"IF(M25>0,Inserir_Dados!H18*60,L24)","v":0},{"$f":"+Inserir_Dados!I18","v":0},{"$f":"+((0.07/(4*PI()*$C$31))*LN((2.25*$C$31*(L25))/((Inserir_Dados!$D$13^2)*$G$31)))","v":{"$error":"#NUM!"}}]
[null,"Selo do Poço:",null,null,null,"S (coef. de armazenamento) =",{"$f":"+G31","v":1.62929603263972E-4},null,null,null,null,{"$f":"IF(M26>0,Inserir_Dados!H19*60,L25)","v":0},{"$f":"+Inserir_Dados!I19","v":0},{"$f":"+((0.07/(4*PI()*$C$31))*LN((2.25*$C$31*(L26))/((Inserir_Dados!$D$13^2)*$G$31)))","v":{"$error":"#NUM!"}}]
[null,"Material da Formação:",null,null,null,null,null,null,null,null,null,{"$f":"IF(M27>0,Inserir_Dados!H20*60,L26)","v":0},{"$f":"+Inserir_Dados!I20","v":0},{"$f":"+((0.07/(4*PI()*$C$31))*LN((2.25*$C$31*(L27))/((Inserir_Dados!$D$13^2)*$G$31)))","v":{"$error":"#NUM!"}}]
[null,"Vazão de Bombeamento:",{"$f":"Inserir_Dados!D12","v":250},"m³/h",null,null,null,null,null,null,null,{"$f":"IF(M28>0,Inserir_Dados!H21*60,L27)","v":0},{"$f":"+Inserir_Dados!I21","v":0},{"$f":"+((0.07/(4*PI()*$C$31))*LN((2.25*$C$31*(L28))/((Inserir_Dados!$D$13^2)*$G$31)))","v":{"$error":"#NUM!"}}]
[null,null,null,null,null,null,null,null,null,null,null,{"$f":"IF(M29>0,Inserir_Dados!H22*60,L28)","v":0},{"$f":"+Inserir_Dados!I22","v":0},{"$f":"+((0.07/(4*PI()*$C$31))*LN((2.25*$C$31*(L29))/((Inserir_Dados!$D$13^2)*$G$31)))","v":{"$error":"#NUM!"}}]
[null,null,null,null,null,null,null,null,null,null,null,{"$f":"IF(M30>0,Inserir_Dados!H23*60,L29)","v":0},{"$f":"+Inserir_Dados!I23","v":0},{"$f":"+((0.07/(4*PI()*$C$31))*LN((2.25*$C$31*(L30))/((Inserir_Dados!$D$13^2)*$G$31)))","v":{"$error":"#NUM!"}}]
[null,"T =",{"$f":"10^((D31/1000)-10)","v":1.276438808811343E-2},8106,null,"S ",{"$f":"10^((I31/1000)-10)","v":1.62929603263972E-4},null,6212,null,null,{"$f":"IF(M31>0,Inserir_Dados!H24*60,L30)","v":0},{"$f":"+Inserir_Dados!I24","v":0},{"$f":"+((0.07/(4*PI()*$C$31))*LN((2.25*$C$31*(L31))/((Inserir_Dados!$D$13^2)*$G$31)))","v":{"$error":"#NUM!"}}]
[null,null,null,null,null,null,null,null,null,null,null,{"$f":"IF(M32>0,Inserir_Dados!H25*60,L31)","v":0},{"$f":"+Inserir_Dados!I25","v":0},{"$f":"+((0.07/(4*PI()*$C$31))*LN((2.25*$C$31*(L32))/((Inserir_Dados!$D$13^2)*$G$31)))","v":{"$error":"#NUM!"}}]
[null,null,null,null,null,null,null,null,null,null,null,{"$f":"IF(M33>0,Inserir_Dados!H26*60,L32)","v":0},{"$f":"+Inserir_Dados!I26","v":0},{"$f":"+((0.07/(4*PI()*$C$31))*LN((2.25*$C$31*(L33))/((Inserir_Dados!$D$13^2)*$G$31)))","v":{"$error":"#NUM!"}}]
[null,null,{"$f":"+C31*3600*24","v":1102.8431308130002},null,null,null,null,null,null,null,null,{"$f":"IF(M34>0,Inserir_Dados!H27*60,L33)","v":0},{"$f":"+Inserir_Dados!I27","v":0},{"$f":"+((0.07/(4*PI()*$C$31))*LN((2.25*$C$31*(L34))/((Inserir_Dados!$D$13^2)*$G$31)))","v":{"$error":"#NUM!"}}]
[null,null,null,null,null,null,null,null,null,null,null,{"$f":"IF(M35>0,Inserir_Dados!H28*60,L34)","v":0},{"$f":"+Inserir_Dados!I28","v":0},{"$f":"+((0.07/(4*PI()*$C$31))*LN((2.25*$C$31*(L35))/((Inserir_Dados!$D$13^2)*$G$31)))","v":{"$error":"#NUM!"}}]
[null,null,null,null,null,null,null,null,null,null,null,{"$f":"IF(M36>0,Inserir_Dados!H29*60,L35)","v":0},{"$f":"+Inserir_Dados!I29","v":0},{"$f":"+((0.07/(4*PI()*$C$31))*LN((2.25*$C$31*(L36))/((Inserir_Dados!$D$13^2)*$G$31)))","v":{"$error":"#NUM!"}}]
[null,null,null,null,null,null,null,null,null,null,null,{"$f":"IF(M37>0,Inserir_Dados!H30*60,L36)","v":0},{"$f":"+Inserir_Dados!I30","v":0},{"$f":"+((0.07/(4*PI()*$C$31))*LN((2.25*$C$31*(L37))/((Inserir_Dados!$D$13^2)*$G$31)))","v":{"$error":"#NUM!"}}]
[null,null,null,null,null,null,null,null,null,null,null,{"$f":"IF(M38>0,Inserir_Dados!H31*60,L37)","v":0},{"$f":"+Inserir_Dados!I31","v":0},{"$f":"+((0.07/(4*PI()*$C$31))*LN((2.25*$C$31*(L38))/((Inserir_Dados!$D$13^2)*$G$31)))","v":{"$error":"#NUM!"}}]
[null,null,null,null,null,null,null,null,null,null,null,{"$f":"IF(M39>0,Inserir_Dados!H32*60,L38)","v":0},{"$f":"+Inserir_Dados!I32","v":0},{"$f":"+((0.07/(4*PI()*$C$31))*LN((2.25*$C$31*(L39))/((Inserir_Dados!$D$13^2)*$G$31)))","v":{"$error":"#NUM!"}}]
[null,null,null,null,null,null,null,null,null,null,null,{"$f":"IF(M40>0,Inserir_Dados!H33*60,L39)","v":0},{"$f":"+Inserir_Dados!I33","v":0},{"$f":"+((0.07/(4*PI()*$C$31))*LN((2.25*$C$31*(L40))/((Inserir_Dados!$D$13^2)*$G$31)))","v":{"$error":"#NUM!"}}]
[null,null,null,null,null,null,null,null,null,null,null,{"$f":"IF(M41>0,Inserir_Dados!H34*60,L40)","v":0},{"$f":"+Inserir_Dados!I34","v":0},{"$f":"+((0.07/(4*PI()*$C$31))*LN((2.25*$C$31*(L41))/((Inserir_Dados!$D$13^2)*$G$31)))","v":{"$error":"#NUM!"}}]
[null,null,null,null,null,null,null,null,null,null,null,{"$f":"IF(M42>0,Inserir_Dados!H35*60,L41)","v":0},{"$f":"+Inserir_Dados!I35","v":0},{"$f":"+((0.07/(4*PI()*$C$31))*LN((2.25*$C$31*(L42))/((Inserir_Dados!$D$13^2)*$G$31)))","v":{"$error":"#NUM!"}}]
[null,null,null,null,null,null,null,null,null,null,null,{"$f":"IF(M43>0,Inserir_Dados!H36*60,L42)","v":0},{"$f":"+Inserir_Dados!I36","v":0},{"$f":"+((0.07/(4*PI()*$C$31))*LN((2.25*$C$31*(L43))/((Inserir_Dados!$D$13^2)*$G$31)))","v":{"$error":"#NUM!"}}]
[null,null,20,null,null,null,null,10,null,null,null,{"$f":"IF(M44>0,Inserir_Dados!H37*60,L43)","v":0},{"$f":"+Inserir_Dados!I37","v":0},{"$f":"+((0.07/(4*PI()*$C$31))*LN((2.25*$C$31*(L44))/((Inserir_Dados!$D$13^2)*$G$31)))","v":{"$error":"#NUM!"}}]
[null,null,null,null,null,null,null,null,null,null,null,{"$f":"IF(M45>0,Inserir_Dados!H38*60,L44)","v":0},{"$f":"+Inserir_Dados!I38","v":0},{"$f":"+((0.07/(4*PI()*$C$31))*LN((2.25*$C$31*(L45))/((Inserir_Dados!$D$13^2)*$G$31)))","v":{"$error":"#NUM!"}}]
[null,null,null,null,null,null,null,null,null,null,null,{"$f":"IF(M46>0,Inserir_Dados!H39*60,L45)","v":0},{"$f":"+Inserir_Dados!I39","v":0},{"$f":"+((0.07/(4*PI()*$C$31))*LN((2.25*$C$31*(L46))/((Inserir_Dados!$D$13^2)*$G$31)))","v":{"$error":"#NUM!"}}]
[null,null,null,null,null,null,null,null,null,null,null,{"$f":"IF(M47>0,Inserir_Dados!H40*60,L46)","v":0},{"$f":"+Inserir_Dados!I40","v":0},{"$f":"+((0.07/(4*PI()*$C$31))*LN((2.25*$C$31*(L47))/((Inserir_Dados!$D$13^2)*$G$31)))","v":{"$error":"#NUM!"}}]
[null,null,null,null,null,null,null,null,null,null,null,{"$f":"IF(M48>0,Inserir_Dados!H41*60,L47)","v":0},{"$f":"+Inserir_Dados!I41","v":0},{"$f":"+((0.07/(4*PI()*$C$31))*LN((2.25*$C$31*(L48))/((Inserir_Dados!$D$13^2)*$G$31)))","v":{"$error":"#NUM!"}}]
[null,null,null,null,null,null,null,null,null,null,null,{"$f":"IF(M49>0,Inserir_Dados!H42*60,L48)","v":0},{"$f":"+Inserir_Dados!I42","v":0},{"$f":"+((0.07/(4*PI()*$C$31))*LN((2.25*$C$31*(L49))/((Inserir_Dados!$D$13^2)*$G$31)))","v":{"$error":"#NUM!"}}]
[null,null,null,null,null,null,null,null,null,null,null,{"$f":"IF(M50>0,Inserir_Dados!H43*60,L49)","v":0},{"$f":"+Inserir_Dados!I43","v":0},{"$f":"+((0.07/(4*PI()*$C$31))*LN((2.25*$C$31*(L50))/((Inserir_Dados!$D$13^2)*$G$31)))","v":{"$error":"#NUM!"}}]
[null,null,null,null,null,null,null,null,null,null,null,{"$f":"IF(M51>0,Inserir_Dados!H44*60,L50)","v":0},{"$f":"+Inserir_Dados!I44","v":0},{"$f":"+((0.07/(4*PI()*$C$31))*LN((2.25*$C$31*(L51))/((Inserir_Dados!$D$13^2)*$G$31)))","v":{"$error":"#NUM!"}}]
[null,null,null,null,null,null,null,null,null,null,null,{"$f":"IF(M52>0,Inserir_Dados!H45*60,L51)","v":0},{"$f":"+Inserir_Dados!I45","v":0},{"$f":"+((0.07/(4*PI()*$C$31))*LN((2.25*$C$31*(L52))/((Inserir_Dados!$D$13^2)*$G$31)))","v":{"$error":"#NUM!"}}]
[null,null,null,null,null,null,null,null,null,null,null,{"$f":"IF(M53>0,Inserir_Dados!H46*60,L52)","v":0},{"$f":"+Inserir_Dados!I46","v":0},{"$f":"+((0.07/(4*PI()*$C$31))*LN((2.25*$C$31*(L53))/((Inserir_Dados!$D$13^2)*$G$31)))","v":{"$error":"#NUM!"}}]
[null,null,null,null,null,null,null,null,null,null,null,{"$f":"IF(M54>0,Inserir_Dados!H47*60,L53)","v":0},{"$f":"+Inserir_Dados!I47","v":0},{"$f":"+((0.07/(4*PI()*$C$31))*LN((2.25*$C$31*(L54))/((Inserir_Dados!$D$13^2)*$G$31)))","v":{"$error":"#NUM!"}}]
[null,null,null,null,null,null,null,null,null,null,null,{"$f":"IF(M55>0,Inserir_Dados!H48*60,L54)","v":0},{"$f":"+Inserir_Dados!I48","v":0},{"$f":"+((0.07/(4*PI()*$C$31))*LN((2.25*$C$31*(L55))/((Inserir_Dados!$D$13^2)*$G$31)))","v":{"$error":"#NUM!"}}]
[null,null,null,null,null,null,null,null,null,null,null,{"$f":"IF(M56>0,Inserir_Dados!H49*60,L55)","v":0},{"$f":"+Inserir_Dados!I49","v":0},{"$f":"+((0.07/(4*PI()*$C$31))*LN((2.25*$C$31*(L56))/((Inserir_Dados!$D$13^2)*$G$31)))","v":{"$error":"#NUM!"}}]
[null,null,null,null,null,null,null,null,null,null,null,{"$f":"IF(M57>0,Inserir_Dados!H50*60,L56)","v":0},{"$f":"+Inserir_Dados!I50","v":0},{"$f":"+((0.07/(4*PI()*$C$31))*LN((2.25*$C$31*(L57))/((Inserir_Dados!$D$13^2)*$G$31)))","v":{"$error":"#NUM!"}}]
[null,null,null,null,null,null,null,null,null,null,null,{"$f":"IF(M58>0,Inserir_Dados!H51*60,L57)","v":0},{"$f":"+Inserir_Dados!I51","v":0},{"$f":"+((0.07/(4*PI()*$C$31))*LN((2.25*$C$31*(L58))/((Inserir_Dados!$D$13^2)*$G$31)))","v":{"$error":"#NUM!"}}]
[null,null,null,null,null,null,null,null,null,null,null,{"$f":"IF(M59>0,Inserir_Dados!H52*60,L58)","v":0},{"$f":"+Inserir_Dados!I52","v":0},{"$f":"+((0.07/(4*PI()*$C$31))*LN((2.25*$C$31*(L59))/((Inserir_Dados!$D$13^2)*$G$31)))","v":{"$error":"#NUM!"}}]
[null,null,null,null,null,null,null,null,null,null,null,{"$f":"IF(M60>0,Inserir_Dados!H53*60,L59)","v":0},{"$f":"+Inserir_Dados!I53","v":0},{"$f":"+((0.07/(4*PI()*$C$31))*LN((2.25*$C$31*(L60))/((Inserir_Dados!$D$13^2)*$G$31)))","v":{"$error":"#NUM!"}}]
[null,null,null,null,null,null,null,null,null,null,null,{"$f":"IF(M61>0,Inserir_Dados!H54*60,L60)","v":0},{"$f":"+Inserir_Dados!I54","v":0},{"$f":"+((0.07/(4*PI()*$C$31))*LN((2.25*$C$31*(L61))/((Inserir_Dados!$D$13^2)*$G$31)))","v":{"$error":"#NUM!"}}]
[null,null,null,null,null,null,null,null,null,null,null,{"$f":"IF(M62>0,Inserir_Dados!H55*60,L61)","v":0},{"$f":"+Inserir_Dados!I55","v":0},{"$f":"+((0.07/(4*PI()*$C$31))*LN((2.25*$C$31*(L62))/((Inserir_Dados!$D$13^2)*$G$31)))","v":{"$error":"#NUM!"}}]
[null,null,null,null,null,null,null,null,null,null,null,{"$f":"IF(M63>0,Inserir_Dados!H56*60,L62)","v":0},{"$f":"+Inserir_Dados!I56","v":0},{"$f":"+((0.07/(4*PI()*$C$31))*LN((2.25*$C$31*(L63))/((Inserir_Dados!$D$13^2)*$G$31)))","v":{"$error":"#NUM!"}}]
[null,null,null,null,null,null,null,null,null,null,null,{"$f":"IF(M64>0,Inserir_Dados!H57*60,L63)","v":0},{"$f":"+Inserir_Dados!I57","v":0},{"$f":"+((0.07/(4*PI()*$C$31))*LN((2.25*$C$31*(L64))/((Inserir_Dados!$D$13^2)*$G$31)))","v":{"$error":"#NUM!"}}]
[null,null,null,null,null,null,null,null,null,null,null,{"$f":"IF(M65>0,Inserir_Dados!H58*60,L64)","v":0},{"$f":"+Inserir_Dados!I58","v":0},{"$f":"+((0.07/(4*PI()*$C$31))*LN((2.25*$C$31*(L65))/((Inserir_Dados!$D$13^2)*$G$31)))","v":{"$error":"#NUM!"}}]
[null,null,null,null,null,null,null,null,null,null,null,{"$f":"IF(M66>0,Inserir_Dados!H59*60,L65)","v":0},{"$f":"+Inserir_Dados!I59","v":0},{"$f":"+((0.07/(4*PI()*$C$31))*LN((2.25*$C$31*(L66))/((Inserir_Dados!$D$13^2)*$G$31)))","v":{"$error":"#NUM!"}}]
[null,null,null,null,null,null,null,null,null,null,null,{"$f":"IF(M67>0,Inserir_Dados!H60*60,L66)","v":0},{"$f":"+Inserir_Dados!I60","v":0},{"$f":"+((0.07/(4*PI()*$C$31))*LN((2.25*$C$31*(L67))/((Inserir_Dados!$D$13^2)*$G$31)))","v":{"$error":"#NUM!"}}]
[null,null,null,null,null,null,null,null,null,null,null,{"$f":"IF(M68>0,Inserir_Dados!H61*60,L67)","v":0},{"$f":"+Inserir_Dados!I61","v":0},{"$f":"+((0.07/(4*PI()*$C$31))*LN((2.25*$C$31*(L68))/((Inserir_Dados!$D$13^2)*$G$31)))","v":{"$error":"#NUM!"}}]
[null,null,null,null,null,null,null,null,null,null,null,{"$f":"IF(M69>0,Inserir_Dados!H62*60,L68)","v":0},{"$f":"+Inserir_Dados!I62","v":0},{"$f":"+((0.07/(4*PI()*$C$31))*LN((2.25*$C$31*(L69))/((Inserir_Dados!$D$13^2)*$G$31)))","v":{"$error":"#NUM!"}}]
[null,null,null,null,null,null,null,null,null,null,null,{"$f":"IF(M70>0,Inserir_Dados!H63*60,L69)","v":0},{"$f":"+Inserir_Dados!I63","v":0},{"$f":"+((0.07/(4*PI()*$C$31))*LN((2.25*$C$31*(L70))/((Inserir_Dados!$D$13^2)*$G$31)))","v":{"$error":"#NUM!"}}]
[null,null,null,null,null,null,null,null,null,null,null,{"$f":"IF(M71>0,Inserir_Dados!H64*60,L70)","v":0},{"$f":"+Inserir_Dados!I64","v":0},{"$f":"+((0.07/(4*PI()*$C$31))*LN((2.25*$C$31*(L71))/((Inserir_Dados!$D$13^2)*$G$31)))","v":{"$error":"#NUM!"}}]
[null,null,null,null,null,null,null,null,null,null,null,{"$f":"IF(M72>0,Inserir_Dados!H65*60,L71)","v":0},{"$f":"+Inserir_Dados!I65","v":0},{"$f":"+((0.07/(4*PI()*$C$31))*LN((2.25*$C$31*(L72))/((Inserir_Dados!$D$13^2)*$G$31)))","v":{"$error":"#NUM!"}}]
[null,null,null,null,null,null,null,null,null,null,null,{"$f":"IF(M73>0,Inserir_Dados!H66*60,L72)","v":0},{"$f":"+Inserir_Dados!I66","v":0},{"$f":"+((0.07/(4*PI()*$C$31))*LN((2.25*$C$31*(L73))/((Inserir_Dados!$D$13^2)*$G$31)))","v":{"$error":"#NUM!"}}]
[null,null,null,null,null,null,null,null,null,null,null,{"$f":"IF(M74>0,Inserir_Dados!H67*60,L73)","v":0},{"$f":"+Inserir_Dados!I67","v":0},{"$f":"+((0.07/(4*PI()*$C$31))*LN((2.25*$C$31*(L74))/((Inserir_Dados!$D$13^2)*$G$31)))","v":{"$error":"#NUM!"}}]
[null,null,null,null,null,null,null,null,null,null,null,{"$f":"IF(M75>0,Inserir_Dados!H68*60,L74)","v":0},{"$f":"+Inserir_Dados!I68","v":0},{"$f":"+((0.07/(4*PI()*$C$31))*LN((2.25*$C$31*(L75))/((Inserir_Dados!$D$13^2)*$G$31)))","v":{"$error":"#NUM!"}}]
[null,null,null,null,null,null,null,null,null,null,null,{"$f":"IF(M76>0,Inserir_Dados!H69*60,L75)","v":0},{"$f":"+Inserir_Dados!I69","v":0},{"$f":"+((0.07/(4*PI()*$C$31))*LN((2.25*$C$31*(L76))/((Inserir_Dados!$D$13^2)*$G$31)))","v":{"$error":"#NUM!"}}]
[null,null,null,null,null,null,null,null,null,null,null,{"$f":"IF(M77>0,Inserir_Dados!H70*60,L76)","v":0},{"$f":"+Inserir_Dados!I70","v":0},{"$f":"+((0.07/(4*PI()*$C$31))*LN((2.25*$C$31*(L77))/((Inserir_Dados!$D$13^2)*$G$31)))","v":{"$error":"#NUM!"}}]
[null,null,null,null,null,null,null,null,null,null,null,{"$f":"IF(M78>0,Inserir_Dados!H71*60,L77)","v":0},{"$f":"+Inserir_Dados!I71","v":0},{"$f":"+((0.07/(4*PI()*$C$31))*LN((2.25*$C$31*(L78))/((Inserir_Dados!$D$13^2)*$G$31)))","v":{"$error":"#NUM!"}}]
[null,null,null,null,null,null,null,null,null,null,null,{"$f":"IF(M79>0,Inserir_Dados!H72*60,L78)","v":0},{"$f":"+Inserir_Dados!I72","v":0},{"$f":"+((0.07/(4*PI()*$C$31))*LN((2.25*$C$31*(L79))/((Inserir_Dados!$D$13^2)*$G$31)))","v":{"$error":"#NUM!"}}]
[null,null,null,null,null,null,null,null,null,null,null,{"$f":"IF(M80>0,Inserir_Dados!H73*60,L79)","v":0},{"$f":"+Inserir_Dados!I73","v":0},{"$f":"+((0.07/(4*PI()*$C$31))*LN((2.25*$C$31*(L80))/((Inserir_Dados!$D$13^2)*$G$31)))","v":{"$error":"#NUM!"}}]
[null,null,null,null,null,null,null,null,null,null,null,{"$f":"IF(M81>0,Inserir_Dados!H74*60,L80)","v":0},{"$f":"+Inserir_Dados!I74","v":0},{"$f":"+((0.07/(4*PI()*$C$31))*LN((2.25*$C$31*(L81))/((Inserir_Dados!$D$13^2)*$G$31)))","v":{"$error":"#NUM!"}}]
[null,null,null,null,null,null,null,null,null,null,null,{"$f":"IF(M82>0,Inserir_Dados!H75*60,L81)","v":0},{"$f":"+Inserir_Dados!I75","v":0},{"$f":"+((0.07/(4*PI()*$C$31))*LN((2.25*$C$31*(L82))/((Inserir_Dados!$D$13^2)*$G$31)))","v":{"$error":"#NUM!"}}]
[null,null,null,null,null,null,null,null,null,null,null,{"$f":"IF(M83>0,Inserir_Dados!H76*60,L82)","v":0},{"$f":"+Inserir_Dados!I76","v":0},{"$f":"+((0.07/(4*PI()*$C$31))*LN((2.25*$C$31*(L83))/((Inserir_Dados!$D$13^2)*$G$31)))","v":{"$error":"#NUM!"}}]
[null,null,null,null,null,null,null,null,null,null,null,{"$f":"IF(M84>0,Inserir_Dados!H77*60,L83)","v":0},{"$f":"+Inserir_Dados!I77","v":0},{"$f":"+((0.07/(4*PI()*$C$31))*LN((2.25*$C$31*(L84))/((Inserir_Dados!$D$13^2)*$G$31)))","v":{"$error":"#NUM!"}}]
[null,null,null,null,null,null,null,null,null,null,null,{"$f":"IF(M85>0,Inserir_Dados!H78*60,L84)","v":0},{"$f":"+Inserir_Dados!I78","v":0},{"$f":"+((0.07/(4*PI()*$C$31))*LN((2.25*$C$31*(L85))/((Inserir_Dados!$D$13^2)*$G$31)))","v":{"$error":"#NUM!"}}]
[null,null,null,null,null,null,null,null,null,null,null,{"$f":"IF(M86>0,Inserir_Dados!H79*60,L85)","v":0},{"$f":"+Inserir_Dados!I79","v":0},{"$f":"+((0.07/(4*PI()*$C$31))*LN((2.25*$C$31*(L86))/((Inserir_Dados!$D$13^2)*$G$31)))","v":{"$error":"#NUM!"}}]
[null,null,null,null,null,null,null,null,null,null,null,{"$f":"IF(M87>0,Inserir_Dados!H80*60,L86)","v":0},{"$f":"+Inserir_Dados!I80","v":0},{"$f":"+((0.07/(4*PI()*$C$31))*LN((2.25*$C$31*(L87))/((Inserir_Dados!$D$13^2)*$G$31)))","v":{"$error":"#NUM!"}}]
[null,null,null,null,null,null,null,null,null,null,null,{"$f":"IF(M88>0,Inserir_Dados!H81*60,L87)","v":0},{"$f":"+Inserir_Dados!I81","v":0},{"$f":"+((0.07/(4*PI()*$C$31))*LN((2.25*$C$31*(L88))/((Inserir_Dados!$D$13^2)*$G$31)))","v":{"$error":"#NUM!"}}]
[null,null,null,null,null,null,null,null,null,null,null,{"$f":"IF(M89>0,Inserir_Dados!H82*60,L88)","v":0},{"$f":"+Inserir_Dados!I82","v":0},{"$f":"+((0.07/(4*PI()*$C$31))*LN((2.25*$C$31*(L89))/((Inserir_Dados!$D$13^2)*$G$31)))","v":{"$error":"#NUM!"}}]
[null,null,null,null,null,null,null,null,null,null,null,{"$f":"IF(M90>0,Inserir_Dados!H83*60,L89)","v":0},{"$f":"+Inserir_Dados!I83","v":0},{"$f":"+((0.07/(4*PI()*$C$31))*LN((2.25*$C$31*(L90))/((Inserir_Dados!$D$13^2)*$G$31)))","v":{"$error":"#NUM!"}}]
[null,null,null,null,null,null,null,null,null,null,null,{"$f":"IF(M91>0,Inserir_Dados!H84*60,L90)","v":0},{"$f":"+Inserir_Dados!I84","v":0},{"$f":"+((0.07/(4*PI()*$C$31))*LN((2.25*$C$31*(L91))/((Inserir_Dados!$D$13^2)*$G$31)))","v":{"$error":"#NUM!"}}]
[null,null,null,null,null,null,null,null,null,null,null,{"$f":"IF(M92>0,Inserir_Dados!H85*60,L91)","v":0},{"$f":"+Inserir_Dados!I85","v":0},{"$f":"+((0.07/(4*PI()*$C$31))*LN((2.25*$C$31*(L92))/((Inserir_Dados!$D$13^2)*$G$31)))","v":{"$error":"#NUM!"}}]
[null,null,null,null,null,null,null,null,null,null,null,{"$f":"IF(M93>0,Inserir_Dados!H86*60,L92)","v":0},{"$f":"+Inserir_Dados!I86","v":0},{"$f":"+((0.07/(4*PI()*$C$31))*LN((2.25*$C$31*(L93))/((Inserir_Dados!$D$13^2)*$G$31)))","v":{"$error":"#NUM!"}}]
[null,null,null,null,null,null,null,null,null,null,null,{"$f":"IF(M94>0,Inserir_Dados!H87*60,L93)","v":0},{"$f":"+Inserir_Dados!I87","v":0},{"$f":"+((0.07/(4*PI()*$C$31))*LN((2.25*$C$31*(L94))/((Inserir_Dados!$D$13^2)*$G$31)))","v":{"$error":"#NUM!"}}]
[null,null,null,null,null,null,null,null,null,null,null,{"$f":"IF(M95>0,Inserir_Dados!H88*60,L94)","v":0},{"$f":"+Inserir_Dados!I88","v":0},{"$f":"+((0.07/(4*PI()*$C$31))*LN((2.25*$C$31*(L95))/((Inserir_Dados!$D$13^2)*$G$31)))","v":{"$error":"#NUM!"}}]
[null,null,null,null,null,null,null,null,null,null,null,{"$f":"IF(M96>0,Inserir_Dados!H89*60,L95)","v":0},{"$f":"+Inserir_Dados!I89","v":0},{"$f":"+((0.07/(4*PI()*$C$31))*LN((2.25*$C$31*(L96))/((Inserir_Dados!$D$13^2)*$G$31)))","v":{"$error":"#NUM!"}}]
[null,null,null,null,null,null,null,null,null,null,null,{"$f":"IF(M97>0,Inserir_Dados!H90*60,L96)","v":0},{"$f":"+Inserir_Dados!I90","v":0},{"$f":"+((0.07/(4*PI()*$C$31))*LN((2.25*$C$31*(L97))/((Inserir_Dados!$D$13^2)*$G$31)))","v":{"$error":"#NUM!"}}]
[null,null,null,null,null,null,null,null,null,null,null,{"$f":"IF(M98>0,Inserir_Dados!H91*60,L97)","v":0},{"$f":"+Inserir_Dados!I91","v":0},{"$f":"+((0.07/(4*PI()*$C$31))*LN((2.25*$C$31*(L98))/((Inserir_Dados!$D$13^2)*$G$31)))","v":{"$error":"#NUM!"}}]
[null,null,null,null,null,null,null,null,null,null,null,{"$f":"IF(M99>0,Inserir_Dados!H92*60,L98)","v":0},{"$f":"+Inserir_Dados!I92","v":0},{"$f":"+((0.07/(4*PI()*$C$31))*LN((2.25*$C$31*(L99))/((Inserir_Dados!$D$13^2)*$G$31)))","v":{"$error":"#NUM!"}}]
[null,null,null,null,null,null,null,null,null,null,null,{"$f":"IF(M100>0,Inserir_Dados!H93*60,L99)","v":0},{"$f":"+Inserir_Dados!I93","v":0},{"$f":"+((0.07/(4*PI()*$C$31))*LN((2.25*$C$31*(L100))/((Inserir_Dados!$D$13^2)*$G$31)))","v":{"$error":"#NUM!"}}]
[null,null,null,null,null,null,null,null,null,null,null,{"$f":"IF(M101>0,Inserir_Dados!H94*60,L100)","v":0},{"$f":"+Inserir_Dados!I94","v":0},{"$f":"+((0.07/(4*PI()*$C$31))*LN((2.25*$C$31*(L101))/((Inserir_Dados!$D$13^2)*$G$31)))","v":{"$error":"#NUM!"}}]
[null,null,null,null,null,null,null,null,null,null,null,{"$f":"IF(M102>0,Inserir_Dados!H95*60,L101)","v":0},{"$f":"+Inserir_Dados!I95","v":0},{"$f":"+((0.07/(4*PI()*$C$31))*LN((2.25*$C$31*(L102))/((Inserir_Dados!$D$13^2)*$G$31)))","v":{"$error":"#NUM!"}}]
[null,null,null,null,null,null,null,null,null,null,null,{"$f":"IF(M103>0,Inserir_Dados!H96*60,L102)","v":0},{"$f":"+Inserir_Dados!I96","v":0},{"$f":"+((0.07/(4*PI()*$C$31))*LN((2.25*$C$31*(L103))/((Inserir_Dados!$D$13^2)*$G$31)))","v":{"$error":"#NUM!"}}]
[null,null,null,null,null,null,null,null,null,null,null,{"$f":"IF(M104>0,Inserir_Dados!H97*60,L103)","v":0},{"$f":"+Inserir_Dados!I97","v":0},{"$f":"+((0.07/(4*PI()*$C$31))*LN((2.25*$C$31*(L104))/((Inserir_Dados!$D$13^2)*$G$31)))","v":{"$error":"#NUM!"}}]
[null,null,null,null,null,null,null,null,null,null,null,{"$f":"IF(M105>0,Inserir_Dados!H98*60,L104)","v":0},{"$f":"+Inserir_Dados!I98","v":0},{"$f":"+((0.07/(4*PI()*$C$31))*LN((2.25*$C$31*(L105))/((Inserir_Dados!$D$13^2)*$G$31)))","v":{"$error":"#NUM!"}}]
[null,null,null,null,null,null,null,null,null,null,null,{"$f":"IF(M106>0,Inserir_Dados!H99*60,L105)","v":0},{"$f":"+Inserir_Dados!I99","v":0},{"$f":"+((0.07/(4*PI()*$C$31))*LN((2.25*$C$31*(L106))/((Inserir_Dados!$D$13^2)*$G$31)))","v":{"$error":"#NUM!"}}]
[null,null,null,null,null,null,null,null,null,null,null,{"$f":"IF(M107>0,Inserir_Dados!H100*60,L106)","v":0},{"$f":"+Inserir_Dados!I100","v":0},{"$f":"+((0.07/(4*PI()*$C$31))*LN((2.25*$C$31*(L107))/((Inserir_Dados!$D$13^2)*$G$31)))","v":{"$error":"#NUM!"}}]
[null,null,null,null,null,null,null,null,null,null,null,{"$f":"IF(M108>0,Inserir_Dados!H101*60,L107)","v":0},{"$f":"+Inserir_Dados!I101","v":0},{"$f":"+((0.07/(4*PI()*$C$31))*LN((2.25*$C$31*(L108))/((Inserir_Dados!$D$13^2)*$G$31)))","v":{"$error":"#NUM!"}}]
[null,null,null,null,null,null,null,null,null,null,null,{"$f":"IF(M109>0,Inserir_Dados!H102*60,L108)","v":0},{"$f":"+Inserir_Dados!I102","v":0},{"$f":"+((0.07/(4*PI()*$C$31))*LN((2.25*$C$31*(L109))/((Inserir_Dados!$D$13^2)*$G$31)))","v":{"$error":"#NUM!"}}]
[null,null,null,null,null,null,null,null,null,null,null,{"$f":"IF(M110>0,Inserir_Dados!H103*60,L109)","v":0},{"$f":"+Inserir_Dados!I103","v":0},{"$f":"+((0.07/(4*PI()*$C$31))*LN((2.25*$C$31*(L110))/((Inserir_Dados!$D$13^2)*$G$31)))","v":{"$error":"#NUM!"}}]
[null,null,null,null,null,null,null,null,null,null,null,{"$f":"IF(M111>0,Inserir_Dados!H104*60,L110)","v":0},{"$f":"+Inserir_Dados!I104","v":0},{"$f":"+((0.07/(4*PI()*$C$31))*LN((2.25*$C$31*(L111))/((Inserir_Dados!$D$13^2)*$G$31)))","v":{"$error":"#NUM!"}}]
[null,null,null,null,null,null,null,null,null,null,null,{"$f":"IF(M112>0,Inserir_Dados!H105*60,L111)","v":0},{"$f":"+Inserir_Dados!I105","v":0},{"$f":"+((0.07/(4*PI()*$C$31))*LN((2.25*$C$31*(L112))/((Inserir_Dados!$D$13^2)*$G$31)))","v":{"$error":"#NUM!"}}]
[null,null,null,null,null,null,null,null,null,null,null,{"$f":"IF(M113>0,Inserir_Dados!H106*60,L112)","v":0},{"$f":"+Inserir_Dados!I106","v":0},{"$f":"+((0.07/(4*PI()*$C$31))*LN((2.25*$C$31*(L113))/((Inserir_Dados!$D$13^2)*$G$31)))","v":{"$error":"#NUM!"}}]
[null,null,null,null,null,null,null,null,null,null,null,{"$f":"IF(M114>0,Inserir_Dados!H107*60,L113)","v":0},{"$f":"+Inserir_Dados!I107","v":0},{"$f":"+((0.07/(4*PI()*$C$31))*LN((2.25*$C$31*(L114))/((Inserir_Dados!$D$13^2)*$G$31)))","v":{"$error":"#NUM!"}}]
[null,null,null,null,null,null,null,null,null,null,null,{"$f":"IF(M115>0,Inserir_Dados!H108*60,L114)","v":0},{"$f":"+Inserir_Dados!I108","v":0},{"$f":"+((0.07/(4*PI()*$C$31))*LN((2.25*$C$31*(L115))/((Inserir_Dados!$D$13^2)*$G$31)))","v":{"$error":"#NUM!"}}]
[null,null,null,null,null,null,null,null,null,null,null,{"$f":"IF(M116>0,Inserir_Dados!H109*60,L115)","v":0},{"$f":"+Inserir_Dados!I109","v":0},{"$f":"+((0.07/(4*PI()*$C$31))*LN((2.25*$C$31*(L116))/((Inserir_Dados!$D$13^2)*$G$31)))","v":{"$error":"#NUM!"}}]
[null,null,null,null,null,null,null,null,null,null,null,{"$f":"IF(M117>0,Inserir_Dados!H110*60,L116)","v":0},{"$f":"+Inserir_Dados!I110","v":0},{"$f":"+((0.07/(4*PI()*$C$31))*LN((2.25*$C$31*(L117))/((Inserir_Dados!$D$13^2)*$G$31)))","v":{"$error":"#NUM!"}}]
[null,null,null,null,null,null,null,null,null,null,null,{"$f":"IF(M118>0,Inserir_Dados!H111*60,L117)","v":0},{"$f":"+Inserir_Dados!I111","v":0},{"$f":"+((0.07/(4*PI()*$C$31))*LN((2.25*$C$31*(L118))/((Inserir_Dados!$D$13^2)*$G$31)))","v":{"$error":"#NUM!"}}]
[null,null,null,null,null,null,null,null,null,null,null,{"$f":"IF(M119>0,Inserir_Dados!H112*60,L118)","v":0},{"$f":"+Inserir_Dados!I112","v":0},{"$f":"+((0.07/(4*PI()*$C$31))*LN((2.25*$C$31*(L119))/((Inserir_Dados!$D$13^2)*$G$31)))","v":{"$error":"#NUM!"}}]
[null,null,null,null,null,null,null,null,null,null,null,{"$f":"IF(M120>0,Inserir_Dados!H113*60,L119)","v":0},{"$f":"+Inserir_Dados!I113","v":0},{"$f":"+((0.07/(4*PI()*$C$31))*LN((2.25*$C$31*(L120))/((Inserir_Dados!$D$13^2)*$G$31)))","v":{"$error":"#NUM!"}}]
[null,null,null,null,null,null,null,null,null,null,null,{"$f":"IF(M121>0,Inserir_Dados!H114*60,L120)","v":0},{"$f":"+Inserir_Dados!I114","v":0},{"$f":"+((0.07/(4*PI()*$C$31))*LN((2.25*$C$31*(L121))/((Inserir_Dados!$D$13^2)*$G$31)))","v":{"$error":"#NUM!"}}]
[null,null,null,null,null,null,null,null,null,null,null,{"$f":"IF(M122>0,Inserir_Dados!H115*60,L121)","v":0},{"$f":"+Inserir_Dados!I115","v":0},{"$f":"+((0.07/(4*PI()*$C$31))*LN((2.25*$C$31*(L122))/((Inserir_Dados!$D$13^2)*$G$31)))","v":{"$error":"#NUM!"}}]
[null,null,null,null,null,null,null,null,null,null,null,{"$f":"IF(M123>0,Inserir_Dados!H116*60,L122)","v":0},{"$f":"+Inserir_Dados!I116","v":0},{"$f":"+((0.07/(4*PI()*$C$31))*LN((2.25*$C$31*(L123))/((Inserir_Dados!$D$13^2)*$G$31)))","v":{"$error":"#NUM!"}}]
[null,null,null,null,null,null,null,null,null,null,null,{"$f":"IF(M124>0,Inserir_Dados!H117*60,L123)","v":0},{"$f":"+Inserir_Dados!I117","v":0},{"$f":"+((0.07/(4*PI()*$C$31))*LN((2.25*$C$31*(L124))/((Inserir_Dados!$D$13^2)*$G$31)))","v":{"$error":"#NUM!"}}]
[null,null,null,null,null,null,null,null,null,null,null,{"$f":"IF(M125>0,Inserir_Dados!H118*60,L124)","v":0},{"$f":"+Inserir_Dados!I118","v":0},{"$f":"+((0.07/(4*PI()*$C$31))*LN((2.25*$C$31*(L125))/((Inserir_Dados!$D$13^2)*$G$31)))","v":{"$error":"#NUM!"}}]
[null,null,null,null,null,null,null,null,null,null,null,{"$f":"IF(M126>0,Inserir_Dados!H119*60,L125)","v":0},{"$f":"+Inserir_Dados!I119","v":0},{"$f":"+((0.07/(4*PI()*$C$31))*LN((2.25*$C$31*(L126))/((Inserir_Dados!$D$13^2)*$G$31)))","v":{"$error":"#NUM!"}}]
[null,null,null,null,null,null,null,null,null,null,null,{"$f":"IF(M127>0,Inserir_Dados!H120*60,L126)","v":0},{"$f":"+Inserir_Dados!I120","v":0},{"$f":"+((0.07/(4*PI()*$C$31))*LN((2.25*$C$31*(L127))/((Inserir_Dados!$D$13^2)*$G$31)))","v":{"$error":"#NUM!"}}]
[null,null,null,null,null,null,null,null,null,null,null,{"$f":"IF(M128>0,Inserir_Dados!H121*60,L127)","v":0},{"$f":"+Inserir_Dados!I121","v":0},{"$f":"+((0.07/(4*PI()*$C$31))*LN((2.25*$C$31*(L128))/((Inserir_Dados!$D$13^2)*$G$31)))","v":{"$error":"#NUM!"}}]
[null,null,null,null,null,null,null,null,null,null,null,{"$f":"IF(M129>0,Inserir_Dados!H122*60,L128)","v":0},{"$f":"+Inserir_Dados!I122","v":0},{"$f":"+((0.07/(4*PI()*$C$31))*LN((2.25*$C$31*(L129))/((Inserir_Dados!$D$13^2)*$G$31)))","v":{"$error":"#NUM!"}}]
[null,null,null,null,null,null,null,null,null,null,null,{"$f":"IF(M130>0,Inserir_Dados!H123*60,L129)","v":0},{"$f":"+Inserir_Dados!I123","v":0},{"$f":"+((0.07/(4*PI()*$C$31))*LN((2.25*$C$31*(L130))/((Inserir_Dados!$D$13^2)*$G$31)))","v":{"$error":"#NUM!"}}]
[null,null,null,null,null,null,null,null,null,null,null,{"$f":"IF(M131>0,Inserir_Dados!H124*60,L130)","v":0},{"$f":"+Inserir_Dados!I124","v":0},{"$f":"+((0.07/(4*PI()*$C$31))*LN((2.25*$C$31*(L131))/((Inserir_Dados!$D$13^2)*$G$31)))","v":{"$error":"#NUM!"}}]
[null,null,null,null,null,null,null,null,null,null,null,{"$f":"IF(M132>0,Inserir_Dados!H125*60,L131)","v":0},{"$f":"+Inserir_Dados!I125","v":0},{"$f":"+((0.07/(4*PI()*$C$31))*LN((2.25*$C$31*(L132))/((Inserir_Dados!$D$13^2)*$G$31)))","v":{"$error":"#NUM!"}}]
[null,null,null,null,null,null,null,null,null,null,null,{"$f":"IF(M133>0,Inserir_Dados!H126*60,L132)","v":0},{"$f":"+Inserir_Dados!I126","v":0},{"$f":"+((0.07/(4*PI()*$C$31))*LN((2.25*$C$31*(L133))/((Inserir_Dados!$D$13^2)*$G$31)))","v":{"$error":"#NUM!"}}]
[null,null,null,null,null,null,null,null,null,null,null,{"$f":"IF(M134>0,Inserir_Dados!H127*60,L133)","v":0},{"$f":"+Inserir_Dados!I127","v":0},{"$f":"+((0.07/(4*PI()*$C$31))*LN((2.25*$C$31*(L134))/((Inserir_Dados!$D$13^2)*$G$31)))","v":{"$error":"#NUM!"}}]
[null,null,null,null,null,null,null,null,null,null,null,{"$f":"IF(M135>0,Inserir_Dados!H128*60,L134)","v":0},{"$f":"+Inserir_Dados!I128","v":0},{"$f":"+((0.07/(4*PI()*$C$31))*LN((2.25*$C$31*(L135))/((Inserir_Dados!$D$13^2)*$G$31)))","v":{"$error":"#NUM!"}}]
[null,null,null,null,null,null,null,null,null,null,null,{"$f":"IF(M136>0,Inserir_Dados!H129*60,L135)","v":0},{"$f":"+Inserir_Dados!I129","v":0},{"$f":"+((0.07/(4*PI()*$C$31))*LN((2.25*$C$31*(L136))/((Inserir_Dados!$D$13^2)*$G$31)))","v":{"$error":"#NUM!"}}]
[null,null,null,null,null,null,null,null,null,null,null,{"$f":"IF(M137>0,Inserir_Dados!H130*60,L136)","v":0},{"$f":"+Inserir_Dados!I130","v":0},{"$f":"+((0.07/(4*PI()*$C$31))*LN((2.25*$C$31*(L137))/((Inserir_Dados!$D$13^2)*$G$31)))","v":{"$error":"#NUM!"}}]
[null,null,null,null,null,null,null,null,null,null,null,{"$f":"IF(M138>0,Inserir_Dados!H131*60,L137)","v":0},{"$f":"+Inserir_Dados!I131","v":0},{"$f":"+((0.07/(4*PI()*$C$31))*LN((2.25*$C$31*(L138))/((Inserir_Dados!$D$13^2)*$G$31)))","v":{"$error":"#NUM!"}}]
[null,null,null,null,null,null,null,null,null,null,null,{"$f":"IF(M139>0,Inserir_Dados!H132*60,L138)","v":0},{"$f":"+Inserir_Dados!I132","v":0},{"$f":"+((0.07/(4*PI()*$C$31))*LN((2.25*$C$31*(L139))/((Inserir_Dados!$D$13^2)*$G$31)))","v":{"$error":"#NUM!"}}]
[null,null,null,null,null,null,null,null,null,null,null,{"$f":"IF(M140>0,Inserir_Dados!H133*60,L139)","v":0},{"$f":"+Inserir_Dados!I133","v":0},{"$f":"+((0.07/(4*PI()*$C$31))*LN((2.25*$C$31*(L140))/((Inserir_Dados!$D$13^2)*$G$31)))","v":{"$error":"#NUM!"}}]
[null,null,null,null,null,null,null,null,null,null,null,{"$f":"IF(M141>0,Inserir_Dados!H134*60,L140)","v":0},{"$f":"+Inserir_Dados!I134","v":0},{"$f":"+((0.07/(4*PI()*$C$31))*LN((2.25*$C$31*(L141))/((Inserir_Dados!$D$13^2)*$G$31)))","v":{"$error":"#NUM!"}}]
[null,null,null,null,null,null,null,null,null,null,null,{"$f":"IF(M142>0,Inserir_Dados!H135*60,L141)","v":0},{"$f":"+Inserir_Dados!I135","v":0},{"$f":"+((0.07/(4*PI()*$C$31))*LN((2.25*$C$31*(L142))/((Inserir_Dados!$D$13^2)*$G$31)))","v":{"$error":"#NUM!"}}]
[null,null,null,null,null,null,null,null,null,null,null,{"$f":"IF(M143>0,Inserir_Dados!H136*60,L142)","v":0},{"$f":"+Inserir_Dados!I136","v":0},{"$f":"+((0.07/(4*PI()*$C$31))*LN((2.25*$C$31*(L143))/((Inserir_Dados!$D$13^2)*$G$31)))","v":{"$error":"#NUM!"}}]
[null,null,null,null,null,null,null,null,null,null,null,{"$f":"IF(M144>0,Inserir_Dados!H137*60,L143)","v":0},{"$f":"+Inserir_Dados!I137","v":0},{"$f":"+((0.07/(4*PI()*$C$31))*LN((2.25*$C$31*(L144))/((Inserir_Dados!$D$13^2)*$G$31)))","v":{"$error":"#NUM!"}}]
[null,null,null,null,null,null,null,null,null,null,null,{"$f":"IF(M145>0,Inserir_Dados!H138*60,L144)","v":0},{"$f":"+Inserir_Dados!I138","v":0},{"$f":"+((0.07/(4*PI()*$C$31))*LN((2.25*$C$31*(L145))/((Inserir_Dados!$D$13^2)*$G$31)))","v":{"$error":"#NUM!"}}]
[null,null,null,null,null,null,null,null,null,null,null,{"$f":"IF(M146>0,Inserir_Dados!H139*60,L145)","v":0},{"$f":"+Inserir_Dados!I139","v":0},{"$f":"+((0.07/(4*PI()*$C$31))*LN((2.25*$C$31*(L146))/((Inserir_Dados!$D$13^2)*$G$31)))","v":{"$error":"#NUM!"}}]
[null,null,null,null,null,null,null,null,null,null,null,{"$f":"IF(M147>0,Inserir_Dados!H140*60,L146)","v":0},{"$f":"+Inserir_Dados!I140","v":0},{"$f":"+((0.07/(4*PI()*$C$31))*LN((2.25*$C$31*(L147))/((Inserir_Dados!$D$13^2)*$G$31)))","v":{"$error":"#NUM!"}}]
[null,null,null,null,null,null,null,null,null,null,null,{"$f":"IF(M148>0,Inserir_Dados!H141*60,L147)","v":0},{"$f":"+Inserir_Dados!I141","v":0},{"$f":"+((0.07/(4*PI()*$C$31))*LN((2.25*$C$31*(L148))/((Inserir_Dados!$D$13^2)*$G$31)))","v":{"$error":"#NUM!"}}]
[null,null,null,null,null,null,null,null,null,null,null,{"$f":"IF(M149>0,Inserir_Dados!H142*60,L148)","v":0},{"$f":"+Inserir_Dados!I142","v":0},{"$f":"+((0.07/(4*PI()*$C$31))*LN((2.25*$C$31*(L149))/((Inserir_Dados!$D$13^2)*$G$31)))","v":{"$error":"#NUM!"}}]
[null,null,null,null,null,null,null,null,null,null,null,{"$f":"IF(M150>0,Inserir_Dados!H143*60,L149)","v":0},{"$f":"+Inserir_Dados!I143","v":0},{"$f":"+((0.07/(4*PI()*$C$31))*LN((2.25*$C$31*(L150))/((Inserir_Dados!$D$13^2)*$G$31)))","v":{"$error":"#NUM!"}}]
[null,null,null,null,null,null,null,null,null,null,null,{"$f":"IF(M151>0,Inserir_Dados!H144*60,L150)","v":0},{"$f":"+Inserir_Dados!I144","v":0},{"$f":"+((0.07/(4*PI()*$C$31))*LN((2.25*$C$31*(L151))/((Inserir_Dados!$D$13^2)*$G$31)))","v":{"$error":"#NUM!"}}]
[null,null,null,null,null,null,null,null,null,null,null,{"$f":"IF(M152>0,Inserir_Dados!H145*60,L151)","v":0},{"$f":"+Inserir_Dados!I145","v":0},{"$f":"+((0.07/(4*PI()*$C$31))*LN((2.25*$C$31*(L152))/((Inserir_Dados!$D$13^2)*$G$31)))","v":{"$error":"#NUM!"}}]
[null,null,null,null,null,null,null,null,null,null,null,{"$f":"IF(M153>0,Inserir_Dados!H146*60,L152)","v":0},{"$f":"+Inserir_Dados!I146","v":0},{"$f":"+((0.07/(4*PI()*$C$31))*LN((2.25*$C$31*(L153))/((Inserir_Dados!$D$13^2)*$G$31)))","v":{"$error":"#NUM!"}}]
[null,null,null,null,null,null,null,null,null,null,null,{"$f":"IF(M154>0,Inserir_Dados!H147*60,L153)","v":0},{"$f":"+Inserir_Dados!I147","v":0},{"$f":"+((0.07/(4*PI()*$C$31))*LN((2.25*$C$31*(L154))/((Inserir_Dados!$D$13^2)*$G$31)))","v":{"$error":"#NUM!"}}]
[null,null,null,null,null,null,null,null,null,null,null,{"$f":"IF(M155>0,Inserir_Dados!H148*60,L154)","v":0},{"$f":"+Inserir_Dados!I148","v":0},{"$f":"+((0.07/(4*PI()*$C$31))*LN((2.25*$C$31*(L155))/((Inserir_Dados!$D$13^2)*$G$31)))","v":{"$error":"#NUM!"}}]
[null,null,null,null,null,null,null,null,null,null,null,{"$f":"IF(M156>0,Inserir_Dados!H149*60,L155)","v":0},{"$f":"+Inserir_Dados!I149","v":0},{"$f":"+((0.07/(4*PI()*$C$31))*LN((2.25*$C$31*(L156))/((Inserir_Dados!$D$13^2)*$G$31)))","v":{"$error":"#NUM!"}}]
[null,null,null,null,null,null,null,null,null,null,null,{"$f":"IF(M157>0,Inserir_Dados!H150*60,L156)","v":0},{"$f":"+Inserir_Dados!I150","v":0},{"$f":"+((0.07/(4*PI()*$C$31))*LN((2.25*$C$31*(L157))/((Inserir_Dados!$D$13^2)*$G$31)))","v":{"$error":"#NUM!"}}]
[null,null,null,null,null,null,null,null,null,null,null,{"$f":"IF(M158>0,Inserir_Dados!H151*60,L157)","v":0},{"$f":"+Inserir_Dados!I151","v":0},{"$f":"+((0.07/(4*PI()*$C$31))*LN((2.25*$C$31*(L158))/((Inserir_Dados!$D$13^2)*$G$31)))","v":{"$error":"#NUM!"}}]
[null,null,null,null,null,null,null,null,null,null,null,{"$f":"IF(M159>0,Inserir_Dados!H152*60,L158)","v":0},{"$f":"+Inserir_Dados!I152","v":0},{"$f":"+((0.07/(4*PI()*$C$31))*LN((2.25*$C$31*(L159))/((Inserir_Dados!$D$13^2)*$G$31)))","v":{"$error":"#NUM!"}}]
[null,null,null,null,null,null,null,null,null,null,null,{"$f":"IF(M160>0,Inserir_Dados!H153*60,L159)","v":0},{"$f":"+Inserir_Dados!I153","v":0},{"$f":"+((0.07/(4*PI()*$C$31))*LN((2.25*$C$31*(L160))/((Inserir_Dados!$D$13^2)*$G$31)))","v":{"$error":"#NUM!"}}]
[null,null,null,null,null,null,null,null,null,null,null,{"$f":"IF(M161>0,Inserir_Dados!H154*60,L160)","v":0},{"$f":"+Inserir_Dados!I154","v":0},{"$f":"+((0.07/(4*PI()*$C$31))*LN((2.25*$C$31*(L161))/((Inserir_Dados!$D$13^2)*$G$31)))","v":{"$error":"#NUM!"}}]
[null,null,null,null,null,null,null,null,null,null,null,{"$f":"IF(M162>0,Inserir_Dados!H155*60,L161)","v":0},{"$f":"+Inserir_Dados!I155","v":0},{"$f":"+((0.07/(4*PI()*$C$31))*LN((2.25*$C$31*(L162))/((Inserir_Dados!$D$13^2)*$G$31)))","v":{"$error":"#NUM!"}}]
[null,null,null,null,null,null,null,null,null,null,null,{"$f":"IF(M163>0,Inserir_Dados!H156*60,L162)","v":0},{"$f":"+Inserir_Dados!I156","v":0},{"$f":"+((0.07/(4*PI()*$C$31))*LN((2.25*$C$31*(L163))/((Inserir_Dados!$D$13^2)*$G$31)))","v":{"$error":"#NUM!"}}]
[null,null,null,null,null,null,null,null,null,null,null,{"$f":"IF(M164>0,Inserir_Dados!H157*60,L163)","v":0},{"$f":"+Inserir_Dados!I157","v":0},{"$f":"+((0.07/(4*PI()*$C$31))*LN((2.25*$C$31*(L164))/((Inserir_Dados!$D$13^2)*$G$31)))","v":{"$error":"#NUM!"}}]
[null,null,null,null,null,null,null,null,null,null,null,{"$f":"IF(M165>0,Inserir_Dados!H158*60,L164)","v":0},{"$f":"+Inserir_Dados!I158","v":0},{"$f":"+((0.07/(4*PI()*$C$31))*LN((2.25*$C$31*(L165))/((Inserir_Dados!$D$13^2)*$G$31)))","v":{"$error":"#NUM!"}}]
[null,null,null,null,null,null,null,null,null,null,null,{"$f":"IF(M166>0,Inserir_Dados!H159*60,L165)","v":0},{"$f":"+Inserir_Dados!I159","v":0},{"$f":"+((0.07/(4*PI()*$C$31))*LN((2.25*$C$31*(L166))/((Inserir_Dados!$D$13^2)*$G$31)))","v":{"$error":"#NUM!"}}]
[null,null,null,null,null,null,null,null,null,null,null,{"$f":"IF(M167>0,Inserir_Dados!H160*60,L166)","v":0},{"$f":"+Inserir_Dados!I160","v":0},{"$f":"+((0.07/(4*PI()*$C$31))*LN((2.25*$C$31*(L167))/((Inserir_Dados!$D$13^2)*$G$31)))","v":{"$error":"#NUM!"}}]
[null,null,null,null,null,null,null,null,null,null,null,{"$f":"IF(M168>0,Inserir_Dados!H161*60,L167)","v":0},{"$f":"+Inserir_Dados!I161","v":0},{"$f":"+((0.07/(4*PI()*$C$31))*LN((2.25*$C$31*(L168))/((Inserir_Dados!$D$13^2)*$G$31)))","v":{"$error":"#NUM!"}}]
[null,null,null,null,null,null,null,null,null,null,null,{"$f":"IF(M169>0,Inserir_Dados!H162*60,L168)","v":0},{"$f":"+Inserir_Dados!I162","v":0},{"$f":"+((0.07/(4*PI()*$C$31))*LN((2.25*$C$31*(L169))/((Inserir_Dados!$D$13^2)*$G$31)))","v":{"$error":"#NUM!"}}]
[null,null,null,null,null,null,null,null,null,null,null,{"$f":"IF(M170>0,Inserir_Dados!H163*60,L169)","v":0},{"$f":"+Inserir_Dados!I163","v":0},{"$f":"+((0.07/(4*PI()*$C$31))*LN((2.25*$C$31*(L170))/((Inserir_Dados!$D$13^2)*$G$31)))","v":{"$error":"#NUM!"}}]
[null,null,null,null,null,null,null,null,null,null,null,{"$f":"IF(M171>0,Inserir_Dados!H164*60,L170)","v":0},{"$f":"+Inserir_Dados!I164","v":0},{"$f":"+((0.07/(4*PI()*$C$31))*LN((2.25*$C$31*(L171))/((Inserir_Dados!$D$13^2)*$G$31)))","v":{"$error":"#NUM!"}}]
[null,null,null,null,null,null,null,null,null,null,null,{"$f":"IF(M172>0,Inserir_Dados!H165*60,L171)","v":0},{"$f":"+Inserir_Dados!I165","v":0},{"$f":"+((0.07/(4*PI()*$C$31))*LN((2.25*$C$31*(L172))/((Inserir_Dados!$D$13^2)*$G$31)))","v":{"$error":"#NUM!"}}]
[null,null,null,null,null,null,null,null,null,null,null,{"$f":"IF(M173>0,Inserir_Dados!H166*60,L172)","v":0},{"$f":"+Inserir_Dados!I166","v":0},{"$f":"+((0.07/(4*PI()*$C$31))*LN((2.25*$C$31*(L173))/((Inserir_Dados!$D$13^2)*$G$31)))","v":{"$error":"#NUM!"}}]
[null,null,null,null,null,null,null,null,null,null,null,{"$f":"IF(M174>0,Inserir_Dados!H167*60,L173)","v":0},{"$f":"+Inserir_Dados!I167","v":0},{"$f":"+((0.07/(4*PI()*$C$31))*LN((2.25*$C$31*(L174))/((Inserir_Dados!$D$13^2)*$G$31)))","v":{"$error":"#NUM!"}}]
[null,null,null,null,null,null,null,null,null,null,null,{"$f":"IF(M175>0,Inserir_Dados!H168*60,L174)","v":0},{"$f":"+Inserir_Dados!I168","v":0},{"$f":"+((0.07/(4*PI()*$C$31))*LN((2.25*$C$31*(L175))/((Inserir_Dados!$D$13^2)*$G$31)))","v":{"$error":"#NUM!"}}]
[null,null,null,null,null,null,null,null,null,null,null,{"$f":"IF(M176>0,Inserir_Dados!H169*60,L175)","v":0},{"$f":"+Inserir_Dados!I169","v":0},{"$f":"+((0.07/(4*PI()*$C$31))*LN((2.25*$C$31*(L176))/((Inserir_Dados!$D$13^2)*$G$31)))","v":{"$error":"#NUM!"}}]
[null,null,null,null,null,null,null,null,null,null,null,{"$f":"IF(M177>0,Inserir_Dados!H170*60,L176)","v":0},{"$f":"+Inserir_Dados!I170","v":0},{"$f":"+((0.07/(4*PI()*$C$31))*LN((2.25*$C$31*(L177))/((Inserir_Dados!$D$13^2)*$G$31)))","v":{"$error":"#NUM!"}}]
[null,null,null,null,null,null,null,null,null,null,null,{"$f":"IF(M178>0,Inserir_Dados!H171*60,L177)","v":0},{"$f":"+Inserir_Dados!I171","v":0},{"$f":"+((0.07/(4*PI()*$C$31))*LN((2.25*$C$31*(L178))/((Inserir_Dados!$D$13^2)*$G$31)))","v":{"$error":"#NUM!"}}]
[null,null,null,null,null,null,null,null,null,null,null,{"$f":"IF(M179>0,Inserir_Dados!H172*60,L178)","v":0},{"$f":"+Inserir_Dados!I172","v":0},{"$f":"+((0.07/(4*PI()*$C$31))*LN((2.25*$C$31*(L179))/((Inserir_Dados!$D$13^2)*$G$31)))","v":{"$error":"#NUM!"}}]
[null,null,null,null,null,null,null,null,null,null,null,{"$f":"IF(M180>0,Inserir_Dados!H173*60,L179)","v":0},{"$f":"+Inserir_Dados!I173","v":0},{"$f":"+((0.07/(4*PI()*$C$31))*LN((2.25*$C$31*(L180))/((Inserir_Dados!$D$13^2)*$G$31)))","v":{"$error":"#NUM!"}}]
[null,null,null,null,null,null,null,null,null,null,null,{"$f":"IF(M181>0,Inserir_Dados!H174*60,L180)","v":0},{"$f":"+Inserir_Dados!I174","v":0},{"$f":"+((0.07/(4*PI()*$C$31))*LN((2.25*$C$31*(L181))/((Inserir_Dados!$D$13^2)*$G$31)))","v":{"$error":"#NUM!"}}]
[null,null,null,null,null,null,null,null,null,null,null,{"$f":"IF(M182>0,Inserir_Dados!H175*60,L181)","v":0},{"$f":"+Inserir_Dados!I175","v":0},{"$f":"+((0.07/(4*PI()*$C$31))*LN((2.25*$C$31*(L182))/((Inserir_Dados!$D$13^2)*$G$31)))","v":{"$error":"#NUM!"}}]
[null,null,null,null,null,null,null,null,null,null,null,{"$f":"IF(M183>0,Inserir_Dados!H176*60,L182)","v":0},{"$f":"+Inserir_Dados!I176","v":0},{"$f":"+((0.07/(4*PI()*$C$31))*LN((2.25*$C$31*(L183))/((Inserir_Dados!$D$13^2)*$G$31)))","v":{"$error":"#NUM!"}}]
[null,null,null,null,null,null,null,null,null,null,null,{"$f":"IF(M184>0,Inserir_Dados!H177*60,L183)","v":0},{"$f":"+Inserir_Dados!I177","v":0},{"$f":"+((0.07/(4*PI()*$C$31))*LN((2.25*$C$31*(L184))/((Inserir_Dados!$D$13^2)*$G$31)))","v":{"$error":"#NUM!"}}]
[null,null,null,null,null,null,null,null,null,null,null,{"$f":"IF(M185>0,Inserir_Dados!H178*60,L184)","v":0},{"$f":"+Inserir_Dados!I178","v":0},{"$f":"+((0.07/(4*PI()*$C$31))*LN((2.25*$C$31*(L185))/((Inserir_Dados!$D$13^2)*$G$31)))","v":{"$error":"#NUM!"}}]
[null,null,null,null,null,null,null,null,null,null,null,{"$f":"IF(M186>0,Inserir_Dados!H179*60,L185)","v":0},{"$f":"+Inserir_Dados!I179","v":0},{"$f":"+((0.07/(4*PI()*$C$31))*LN((2.25*$C$31*(L186))/((Inserir_Dados!$D$13^2)*$G$31)))","v":{"$error":"#NUM!"}}]
[null,null,null,null,null,null,null,null,null,null,null,{"$f":"IF(M187>0,Inserir_Dados!H180*60,L186)","v":0},{"$f":"+Inserir_Dados!I180","v":0},{"$f":"+((0.07/(4*PI()*$C$31))*LN((2.25*$C$31*(L187))/((Inserir_Dados!$D$13^2)*$G$31)))","v":{"$error":"#NUM!"}}]
[null,null,null,null,null,null,null,null,null,null,null,{"$f":"IF(M188>0,Inserir_Dados!H181*60,L187)","v":0},{"$f":"+Inserir_Dados!I181","v":0},{"$f":"+((0.07/(4*PI()*$C$31))*LN((2.25*$C$31*(L188))/((Inserir_Dados!$D$13^2)*$G$31)))","v":{"$error":"#NUM!"}}]
[null,null,null,null,null,null,null,null,null,null,null,{"$f":"IF(M189>0,Inserir_Dados!H182*60,L188)","v":0},{"$f":"+Inserir_Dados!I182","v":0},{"$f":"+((0.07/(4*PI()*$C$31))*LN((2.25*$C$31*(L189))/((Inserir_Dados!$D$13^2)*$G$31)))","v":{"$error":"#NUM!"}}]
[null,null,null,null,null,null,null,null,null,null,null,{"$f":"IF(M190>0,Inserir_Dados!H183*60,L189)","v":0},{"$f":"+Inserir_Dados!I183","v":0},{"$f":"+((0.07/(4*PI()*$C$31))*LN((2.25*$C$31*(L190))/((Inserir_Dados!$D$13^2)*$G$31)))","v":{"$error":"#NUM!"}}]
[null,null,null,null,null,null,null,null,null,null,null,{"$f":"IF(M191>0,Inserir_Dados!H184*60,L190)","v":0},{"$f":"+Inserir_Dados!I184","v":0},{"$f":"+((0.07/(4*PI()*$C$31))*LN((2.25*$C$31*(L191))/((Inserir_Dados!$D$13^2)*$G$31)))","v":{"$error":"#NUM!"}}]
[null,null,null,null,null,null,null,null,null,null,null,{"$f":"IF(M192>0,Inserir_Dados!H185*60,L191)","v":0},{"$f":"+Inserir_Dados!I185","v":0},{"$f":"+((0.07/(4*PI()*$C$31))*LN((2.25*$C$31*(L192))/((Inserir_Dados!$D$13^2)*$G$31)))","v":{"$error":"#NUM!"}}]
[null,null,null,null,null,null,null,null,null,null,null,{"$f":"IF(M193>0,Inserir_Dados!H186*60,L192)","v":0},{"$f":"+Inserir_Dados!I186","v":0},{"$f":"+((0.07/(4*PI()*$C$31))*LN((2.25*$C$31*(L193))/((Inserir_Dados!$D$13^2)*$G$31)))","v":{"$error":"#NUM!"}}]
[null,null,null,null,null,null,null,null,null,null,null,{"$f":"IF(M194>0,Inserir_Dados!H187*60,L193)","v":0},{"$f":"+Inserir_Dados!I187","v":0},{"$f":"+((0.07/(4*PI()*$C$31))*LN((2.25*$C$31*(L194))/((Inserir_Dados!$D$13^2)*$G$31)))","v":{"$error":"#NUM!"}}]
[null,null,null,null,null,null,null,null,null,null,null,{"$f":"IF(M195>0,Inserir_Dados!H188*60,L194)","v":0},{"$f":"+Inserir_Dados!I188","v":0},{"$f":"+((0.07/(4*PI()*$C$31))*LN((2.25*$C$31*(L195))/((Inserir_Dados!$D$13^2)*$G$31)))","v":{"$error":"#NUM!"}}]
[null,null,null,null,null,null,null,null,null,null,null,{"$f":"IF(M196>0,Inserir_Dados!H189*60,L195)","v":0},{"$f":"+Inserir_Dados!I189","v":0},{"$f":"+((0.07/(4*PI()*$C$31))*LN((2.25*$C$31*(L196))/((Inserir_Dados!$D$13^2)*$G$31)))","v":{"$error":"#NUM!"}}]
[null,null,null,null,null,null,null,null,null,null,null,{"$f":"IF(M197>0,Inserir_Dados!H190*60,L196)","v":0},{"$f":"+Inserir_Dados!I190","v":0},{"$f":"+((0.07/(4*PI()*$C$31))*LN((2.25*$C$31*(L197))/((Inserir_Dados!$D$13^2)*$G$31)))","v":{"$error":"#NUM!"}}]
[null,null,null,null,null,null,null,null,null,null,null,{"$f":"IF(M198>0,Inserir_Dados!H191*60,L197)","v":0},{"$f":"+Inserir_Dados!I191","v":0},{"$f":"+((0.07/(4*PI()*$C$31))*LN((2.25*$C$31*(L198))/((Inserir_Dados!$D$13^2)*$G$31)))","v":{"$error":"#NUM!"}}]
[null,null,null,null,null,null,null,null,null,null,null,{"$f":"IF(M199>0,Inserir_Dados!H192*60,L198)","v":0},{"$f":"+Inserir_Dados!I192","v":0},{"$f":"+((0.07/(4*PI()*$C$31))*LN((2.25*$C$31*(L199))/((Inserir_Dados!$D$13^2)*$G$31)))","v":{"$error":"#NUM!"}}]
[null,null,null,null,null,null,null,null,null,null,null,{"$f":"IF(M200>0,Inserir_Dados!H193*60,L199)","v":0},{"$f":"+Inserir_Dados!I193","v":0},{"$f":"+((0.07/(4*PI()*$C$31))*LN((2.25*$C$31*(L200))/((Inserir_Dados!$D$13^2)*$G$31)))","v":{"$error":"#NUM!"}}]
[null,null,null,null,null,null,null,null,null,null,null,{"$f":"IF(M201>0,Inserir_Dados!H194*60,L200)","v":0},{"$f":"+Inserir_Dados!I194","v":0},{"$f":"+((0.07/(4*PI()*$C$31))*LN((2.25*$C$31*(L201))/((Inserir_Dados!$D$13^2)*$G$31)))","v":{"$error":"#NUM!"}}]
[null,null,null,null,null,null,null,null,null,null,null,{"$f":"IF(M202>0,Inserir_Dados!H195*60,L201)","v":0},{"$f":"+Inserir_Dados!I195","v":0},{"$f":"+((0.07/(4*PI()*$C$31))*LN((2.25*$C$31*(L202))/((Inserir_Dados!$D$13^2)*$G$31)))","v":{"$error":"#NUM!"}}]
[null,null,null,null,null,null,null,null,null,null,null,{"$f":"IF(M203>0,Inserir_Dados!H196*60,L202)","v":0},{"$f":"+Inserir_Dados!I196","v":0},{"$f":"+((0.07/(4*PI()*$C$31))*LN((2.25*$C$31*(L203))/((Inserir_Dados!$D$13^2)*$G$31)))","v":{"$error":"#NUM!"}}]
[null,null,null,null,null,null,null,null,null,null,null,{"$f":"IF(M204>0,Inserir_Dados!H197*60,L203)","v":0},{"$f":"+Inserir_Dados!I197","v":0},{"$f":"+((0.07/(4*PI()*$C$31))*LN((2.25*$C$31*(L204))/((Inserir_Dados!$D$13^2)*$G$31)))","v":{"$error":"#NUM!"}}]
[null,null,null,null,null,null,null,null,null,null,null,{"$f":"IF(M205>0,Inserir_Dados!H198*60,L204)","v":0},{"$f":"+Inserir_Dados!I198","v":0},{"$f":"+((0.07/(4*PI()*$C$31))*LN((2.25*$C$31*(L205))/((Inserir_Dados!$D$13^2)*$G$31)))","v":{"$error":"#NUM!"}}]
[null,null,null,null,null,null,null,null,null,null,null,{"$f":"IF(M206>0,Inserir_Dados!H199*60,L205)","v":0},{"$f":"+Inserir_Dados!I199","v":0},{"$f":"+((0.07/(4*PI()*$C$31))*LN((2.25*$C$31*(L206))/((Inserir_Dados!$D$13^2)*$G$31)))","v":{"$error":"#NUM!"}}]
[null,null,null,null,null,null,null,null,null,null,null,{"$f":"IF(M207>0,Inserir_Dados!H200*60,L206)","v":0},{"$f":"+Inserir_Dados!I200","v":0},{"$f":"+((0.07/(4*PI()*$C$31))*LN((2.25*$C$31*(L207))/((Inserir_Dados!$D$13^2)*$G$31)))","v":{"$error":"#NUM!"}}]
[null,null,null,null,null,null,null,null,null,null,null,{"$f":"IF(M208>0,Inserir_Dados!H201*60,L207)","v":0},{"$f":"+Inserir_Dados!I201","v":0},{"$f":"+((0.07/(4*PI()*$C$31))*LN((2.25*$C$31*(L208))/((Inserir_Dados!$D$13^2)*$G$31)))","v":{"$error":"#NUM!"}}]
[null,null,null,null,null,null,null,null,null,null,null,{"$f":"IF(M209>0,Inserir_Dados!H202*60,L208)","v":0},{"$f":"+Inserir_Dados!I202","v":0},{"$f":"+((0.07/(4*PI()*$C$31))*LN((2.25*$C$31*(L209))/((Inserir_Dados!$D$13^2)*$G$31)))","v":{"$error":"#NUM!"}}]
[null,null,null,null,null,null,null,null,null,null,null,{"$f":"IF(M210>0,Inserir_Dados!H203*60,L209)","v":0},{"$f":"+Inserir_Dados!I203","v":0},{"$f":"+((0.07/(4*PI()*$C$31))*LN((2.25*$C$31*(L210))/((Inserir_Dados!$D$13^2)*$G$31)))","v":{"$error":"#NUM!"}}]
[null,null,null,null,null,null,null,null,null,null,null,{"$f":"IF(M211>0,Inserir_Dados!H204*60,L210)","v":0},{"$f":"+Inserir_Dados!I204","v":0},{"$f":"+((0.07/(4*PI()*$C$31))*LN((2.25*$C$31*(L211))/((Inserir_Dados!$D$13^2)*$G$31)))","v":{"$error":"#NUM!"}}]
[null,null,null,null,null,null,null,null,null,null,null,{"$f":"IF(M212>0,Inserir_Dados!H205*60,L211)","v":0},{"$f":"+Inserir_Dados!I205","v":0},{"$f":"+((0.07/(4*PI()*$C$31))*LN((2.25*$C$31*(L212))/((Inserir_Dados!$D$13^2)*$G$31)))","v":{"$error":"#NUM!"}}]
[null,null,null,null,null,null,null,null,null,null,null,{"$f":"IF(M213>0,Inserir_Dados!H206*60,L212)","v":0},{"$f":"+Inserir_Dados!I206","v":0},{"$f":"+((0.07/(4*PI()*$C$31))*LN((2.25*$C$31*(L213))/((Inserir_Dados!$D$13^2)*$G$31)))","v":{"$error":"#NUM!"}}]
[null,null,null,null,null,null,null,null,null,null,null,{"$f":"IF(M214>0,Inserir_Dados!H207*60,L213)","v":0},{"$f":"+Inserir_Dados!I207","v":0},{"$f":"+((0.07/(4*PI()*$C$31))*LN((2.25*$C$31*(L214))/((Inserir_Dados!$D$13^2)*$G$31)))","v":{"$error":"#NUM!"}}]
[null,null,null,null,null,null,null,null,null,null,null,{"$f":"IF(M215>0,Inserir_Dados!B231*60,L214)","v":0},{"$f":"+Inserir_Dados!C231","v":0},{"$f":"+((0.07/(4*PI()*$C$31))*LN((2.25*$C$31*(L215))/((Inserir_Dados!$D$13^2)*$G$31)))","v":{"$error":"#NUM!"}}]
[null,null,null,null,null,null,null,null,null,null,null,{"$f":"IF(M216>0,Inserir_Dados!B232*60,L215)","v":0},{"$f":"+Inserir_Dados!C232","v":0},{"$f":"+((0.07/(4*PI()*$C$31))*LN((2.25*$C$31*(L216))/((Inserir_Dados!$D$13^2)*$G$31)))","v":{"$error":"#NUM!"}}]
[null,null,null,null,null,null,null,null,null,null,null,{"$f":"IF(M217>0,Inserir_Dados!B233*60,L216)","v":0},{"$f":"+Inserir_Dados!C233","v":0},{"$f":"+((0.07/(4*PI()*$C$31))*LN((2.25*$C$31*(L217))/((Inserir_Dados!$D$13^2)*$G$31)))","v":{"$error":"#NUM!"}}]

{"sheet":"Theis","index":3,"n_rows":103,"n_cols":15,"rows_kept":103,"cut":false,"hidden":false,"merged":[]}
[]
[]
[]
[]
[]
[]
[]
[]
[null,null,"Determinação da Transmissividade e do Coeficiente ",null,null,null,null,null,null,null,null,"Estas colunas realizam os cálculos da planilha, não as utilize "]
[null,null,null,"de Armazenamento Pelo Método de Theis",null,null,null,null,null,null,null,"se não souber o que está fazendo"]
[]
[]
[null,null,null,"IDENTIFICAÇÃO DO POÇO:",{"$f":"Inserir_Dados!D7","v":"Poço de Bombeamento XXXXXXXXX"},null,null,null,null,null,null,"t/r²","Rebaixamento","W(u)","U"]
[null,null,null,null,null,null,null,null,null,null,null,null," (m)"]
[null,"INSERIR DADOS DO POÇO E DO AQUÍFERO",null,null,null,"Localização:",{"$f":"Inserir_Dados!D8","v":"%%%%%%%%"},null,null,null,null,{"$f":"(Inserir_Dados!H10*60)/(Inserir_Dados!$D$13^2)","v":0},{"$f":"+Inserir_Dados!I10","v":0},{"$f":"((Inserir_Dados!$D$12/3600)/4/PI()/$C$31)*expint1($G$31/4/$C$31/O15)","v":1.3106143427898545E-3},1E-3]
[null,"Detalhes da Construção:",null,null,null,"Data:",{"$f":"Inserir_Dados!D9","v":"&&&&&&&"},null,null,null,null,{"$f":"IF(M16>0,(Inserir_Dados!H11*60)/(Inserir_Dados!$D$13^2),L15)","v":0},{"$f":"+Inserir_Dados!I11","v":0},{"$f":"((Inserir_Dados!$D$12/3600)/4/PI()/$C$31)*expint1($G$31/4/$C$31/O16)","v":3.0908552935419858E-3},{"$f":"O15*1.2","v":1.1999999999999999E-3}]
[null,"Diâmetro do Revestimento:",{"$f":"Inserir_Dados!D19","v":10},"Polegadas",null,"Coordenadas:",{"$f":"Inserir_Dados!D10","v":0},"Lat.",null,null,null,{"$f":"IF(M17>0,(Inserir_Dados!H12*60)/(Inserir_Dados!$D$13^2),L16)","v":0},{"$f":"+Inserir_Dados!I12","v":0},{"$f":"((Inserir_Dados!$D$12/3600)/4/PI()/$C$31)*expint1($G$31/4/$C$31/O17)","v":6.4590416277736729E-3},{"$f":"O16*1.2","v":1.4399999999999999E-3}]
[null,"Diâmetro de Perfuração:",{"$f":"Inserir_Dados!D20","v":14},"Polegadas",null,null,{"$f":"Inserir_Dados!D11","v":0},"Long.",null,null,null,{"$f":"IF(M18>0,(Inserir_Dados!H13*60)/(Inserir_Dados!$D$13^2),L17)","v":0},{"$f":"+Inserir_Dados!I13","v":0},{"$f":"((Inserir_Dados!$D$12/3600)/4/PI()/$C$31)*expint1($G$31/4/$C$31/O18)","v":1.2193961735111085E-2},1.7279999999999997E-3]
[null,"Profundidade do Poço:",{"$f":"Inserir_Dados!D21","v":260},"metros",null,null,null,null,null,null,null,{"$f":"IF(M19>0,(Inserir_Dados!H14*60)/(Inserir_Dados!$D$13^2),L18)","v":0},{"$f":"+Inserir_Dados!I14","v":0},{"$f":"((Inserir_Dados!$D$12/3600)/4/PI()/$C$31)*expint1($G$31/4/$C$31/O19)","v":2.1135090759371082E-2},2.0735999999999997E-3]
[null,"Profundidades:",null,null,null,null,"RESULTADOS",null,null,null,null,{"$f":"IF(M20>0,(Inserir_Dados!H15*60)/(Inserir_Dados!$D$13^2),L19)","v":0},{"$f":"+Inserir_Dados!I15","v":0},{"$f":"((Inserir_Dados!$D$12/3600)/4/PI()/$C$31)*expint1($G$31/4/$C$31/O20)","v":3.4085722070001885E-2},2.4883199999999996E-3]
[null,"Nível Estático:",{"$f":"Inserir_Dados!D16","v":23.5},"metros",null,"B (espessura aqüífero) =",{"$f":"+C23-C22","v":326.5},"m",null,null,null,{"$f":"IF(M21>0,(Inserir_Dados!H16*60)/(Inserir_Dados!$D$13^2),L20)","v":0},{"$f":"+Inserir_Dados!I16","v":0},{"$f":"((Inserir_Dados!$D$12/3600)/4/PI()/$C$31)*expint1($G$31/4/$C$31/O21)","v":5.1725641241637491E-2},2.9859839999999993E-3]
[null,"Topo do Aquifero:",{"$f":"Inserir_Dados!D17","v":23.5},"metros",null,"Q (vazão) =",{"$f":"+Inserir_Dados!D12","v":250},"m³/h",null,null,null,{"$f":"IF(M22>0,(Inserir_Dados!H17*60)/(Inserir_Dados!$D$13^2),L21)","v":0},{"$f":"+Inserir_Dados!I17","v":0},{"$f":"((Inserir_Dados!$D$12/3600)/4/PI()/$C$31)*expint1($G$31/4/$C$31/O22)","v":7.4551147360560677E-2},3.583180799999999E-3]
[null,"Base do Aquifero:",{"$f":"Inserir_Dados!D18","v":350},"metros",null,"R (dist. do piezômetro) =",{"$f":"+Inserir_Dados!D13","v":20},"m",null,null,null,{"$f":"IF(M23>0,(Inserir_Dados!H18*60)/(Inserir_Dados!$D$13^2),L22)","v":0},{"$f":"+Inserir_Dados!I18","v":0},{"$f":"((Inserir_Dados!$D$12/3600)/4/PI()/$C$31)*expint1($G$31/4/$C$31/O23)","v":0.10283769699788385},4.2998169599999985E-3]
[null,"Espaço Anular:",null,null,null,"T (Transmissividade) =",{"$f":"+C31*3600","v":43.681998616739129},"m²/h",null,null,null,{"$f":"IF(M24>0,(Inserir_Dados!H19*60)/(Inserir_Dados!$D$13^2),L23)","v":0},{"$f":"+Inserir_Dados!I19","v":0},{"$f":"((Inserir_Dados!$D$12/3600)/4/PI()/$C$31)*expint1($G$31/4/$C$31/O24)","v":0.13668724009960229},5.1597803519999978E-3]
[null,"Material do Pré-Filtro:",null,null,null,"k (permeabilidade) =",{"$f":"+G24/(C23-C22)","v":0.1337886634509621},"m/h",null,null,null,{"$f":"IF(M25>0,(Inserir_Dados!H20*60)/(Inserir_Dados!$D$13^2),L24)","v":0},{"$f":"+Inserir_Dados!I20","v":0},{"$f":"((Inserir_Dados!$D$12/3600)/4/PI()/$C$31)*expint1($G$31/4/$C$31/O25)","v":0.17599126132676438},6.1917364223999976E-3]
[null,"Selo do Poço:",null,null,null,"S (coef. de armazenamento) =",{"$f":"+G31","v":2.0511621788255638E-4},null,null,null,null,{"$f":"IF(M26>0,(Inserir_Dados!H21*60)/(Inserir_Dados!$D$13^2),L25)","v":0},{"$f":"+Inserir_Dados!I21","v":0},{"$f":"((Inserir_Dados!$D$12/3600)/4/PI()/$C$31)*expint1($G$31/4/$C$31/O26)","v":0.22050850881405482},7.4300837068799969E-3]
[null,"Material da Formação:",null,null,null,null,null,null,null,null,null,{"$f":"IF(M27>0,(Inserir_Dados!H22*60)/(Inserir_Dados!$D$13^2),L26)","v":0},{"$f":"+Inserir_Dados!I22","v":0},{"$f":"((Inserir_Dados!$D$12/3600)/4/PI()/$C$31)*expint1($G$31/4/$C$31/O27)","v":0.26989624700526516},8.9161004482559963E-3]
[null,"Vazão de Bombeamento:",{"$f":"Inserir_Dados!D12","v":250},"m³/s",null,null,null,null,null,null,null,{"$f":"IF(M28>0,(Inserir_Dados!H23*60)/(Inserir_Dados!$D$13^2),L27)","v":0},{"$f":"+Inserir_Dados!I23","v":0},{"$f":"((Inserir_Dados!$D$12/3600)/4/PI()/$C$31)*expint1($G$31/4/$C$31/O28)","v":0.32374858262443296},1.0699320537907194E-2]
[null,null,null,null,null,null,null,null,null,null,null,{"$f":"IF(M29>0,(Inserir_Dados!H24*60)/(Inserir_Dados!$D$13^2),L28)","v":0},{"$f":"+Inserir_Dados!I24","v":0},{"$f":"((Inserir_Dados!$D$12/3600)/4/PI()/$C$31)*expint1($G$31/4/$C$31/O29)","v":0.38162909492018249},1.2839184645488633E-2]
[null,null,null,null,null,null,null,null,null,null,null,{"$f":"IF(M30>0,(Inserir_Dados!H25*60)/(Inserir_Dados!$D$13^2),L29)","v":0},{"$f":"+Inserir_Dados!I25","v":0},{"$f":"((Inserir_Dados!$D$12/3600)/4/PI()/$C$31)*expint1($G$31/4/$C$31/O30)","v":0.44309631478285472},1.5407021574586359E-2]
[null,"T ",{"$f":"10^((D31/1000)-10)","v":1.2133888504649758E-2},8084,null,"S ",{"$f":"10^((I31/1000)-10)","v":2.0511621788255638E-4},null,6312,null,null,{"$f":"IF(M31>0,(Inserir_Dados!H26*60)/(Inserir_Dados!$D$13^2),L30)","v":0},{"$f":"+Inserir_Dados!I26","v":0},{"$f":"((Inserir_Dados!$D$12/3600)/4/PI()/$C$31)*expint1($G$31/4/$C$31/O31)","v":0.50772215965921497},1.848842588950363E-2]
[null,null,null,null,null,null,null,null,null,null,null,{"$f":"IF(M32>0,(Inserir_Dados!H27*60)/(Inserir_Dados!$D$13^2),L31)","v":0},{"$f":"+Inserir_Dados!I27","v":0},{"$f":"((Inserir_Dados!$D$12/3600)/4/PI()/$C$31)*expint1($G$31/4/$C$31/O32)","v":0.57510419706561644},2.2186111067404354E-2]
[null,null,null,null,null,null,null,null,null,null,null,{"$f":"IF(M33>0,(Inserir_Dados!H28*60)/(Inserir_Dados!$D$13^2),L32)","v":0},{"$f":"+Inserir_Dados!I28","v":0},{"$f":"((Inserir_Dados!$D$12/3600)/4/PI()/$C$31)*expint1($G$31/4/$C$31/O33)","v":0.64487290957924637},2.6623333280885224E-2]
[null,null,null,null,null,null,null,null,null,null,null,{"$f":"IF(M34>0,(Inserir_Dados!H29*60)/(Inserir_Dados!$D$13^2),L33)","v":0},{"$f":"+Inserir_Dados!I29","v":0},{"$f":"((Inserir_Dados!$D$12/3600)/4/PI()/$C$31)*expint1($G$31/4/$C$31/O34)","v":0.7166951583368335},3.1947999937062266E-2]
[null,null,null,null,null,null,null,null,null,null,null,{"$f":"IF(M35>0,(Inserir_Dados!H30*60)/(Inserir_Dados!$D$13^2),L34)","v":0},{"$f":"+Inserir_Dados!I30","v":0},{"$f":"((Inserir_Dados!$D$12/3600)/4/PI()/$C$31)*expint1($G$31/4/$C$31/O35)","v":0.79027491848281828},3.8337599924474719E-2]
[null,null,null,null,null,null,null,null,null,null,null,{"$f":"IF(M36>0,(Inserir_Dados!H31*60)/(Inserir_Dados!$D$13^2),L35)","v":0},{"$f":"+Inserir_Dados!I31","v":0},{"$f":"((Inserir_Dados!$D$12/3600)/4/PI()/$C$31)*expint1($G$31/4/$C$31/O36)","v":0.86535217403002207},4.600511990936966E-2]
[null,null,null,null,null,null,null,null,null,null,null,{"$f":"IF(M37>0,(Inserir_Dados!H32*60)/(Inserir_Dados!$D$13^2),L36)","v":0},{"$f":"+Inserir_Dados!I32","v":0},{"$f":"((Inserir_Dados!$D$12/3600)/4/PI()/$C$31)*expint1($G$31/4/$C$31/O37)","v":0.94170066327882851},5.5206143891243592E-2]
[null,null,null,null,null,null,null,null,null,null,null,{"$f":"IF(M38>0,(Inserir_Dados!H33*60)/(Inserir_Dados!$D$13^2),L37)","v":0},{"$f":"+Inserir_Dados!I33","v":0},{"$f":"((Inserir_Dados!$D$12/3600)/4/PI()/$C$31)*expint1($G$31/4/$C$31/O38)","v":1.0191249870970944},6.6247372669492308E-2]
[null,null,null,null,null,null,null,null,null,null,null,{"$f":"IF(M39>0,(Inserir_Dados!H34*60)/(Inserir_Dados!$D$13^2),L38)","v":0},{"$f":"+Inserir_Dados!I34","v":0},{"$f":"((Inserir_Dados!$D$12/3600)/4/PI()/$C$31)*expint1($G$31/4/$C$31/O39)","v":1.0974574428145669},7.9496847203390772E-2]
[null,null,null,null,null,null,null,null,null,null,null,{"$f":"IF(M40>0,(Inserir_Dados!H35*60)/(Inserir_Dados!$D$13^2),L39)","v":0},{"$f":"+Inserir_Dados!I35","v":0},{"$f":"((Inserir_Dados!$D$12/3600)/4/PI()/$C$31)*expint1($G$31/4/$C$31/O40)","v":1.1765548285791791},9.5396216644068929E-2]
[null,null,null,null,null,null,null,null,null,null,null,{"$f":"IF(M41>0,(Inserir_Dados!H36*60)/(Inserir_Dados!$D$13^2),L40)","v":0},{"$f":"+Inserir_Dados!I36","v":0},{"$f":"((Inserir_Dados!$D$12/3600)/4/PI()/$C$31)*expint1($G$31/4/$C$31/O41)","v":1.2562953741797631},0.11447545997288271]
[null,null,null,null,null,null,null,null,null,null,null,{"$f":"IF(M42>0,(Inserir_Dados!H37*60)/(Inserir_Dados!$D$13^2),L41)","v":0},{"$f":"+Inserir_Dados!I37","v":0},{"$f":"((Inserir_Dados!$D$12/3600)/4/PI()/$C$31)*expint1($G$31/4/$C$31/O42)","v":1.336575889926167},0.13737055196745923]
[null,null,null,null,null,null,null,null,null,null,null,{"$f":"IF(M43>0,(Inserir_Dados!H38*60)/(Inserir_Dados!$D$13^2),L42)","v":0},{"$f":"+Inserir_Dados!I38","v":0},{"$f":"((Inserir_Dados!$D$12/3600)/4/PI()/$C$31)*expint1($G$31/4/$C$31/O43)","v":1.4173091801396196},0.16484466236095108]
[null,null,null,null,null,null,null,null,null,null,null,{"$f":"IF(M44>0,(Inserir_Dados!H39*60)/(Inserir_Dados!$D$13^2),L43)","v":0},{"$f":"+Inserir_Dados!I39","v":0},{"$f":"((Inserir_Dados!$D$12/3600)/4/PI()/$C$31)*expint1($G$31/4/$C$31/O44)","v":1.4984217374938227},0.19781359483314129]
[null,null,null,null,null,null,null,null,null,null,null,{"$f":"IF(M45>0,(Inserir_Dados!H40*60)/(Inserir_Dados!$D$13^2),L44)","v":0},{"$f":"+Inserir_Dados!I40","v":0},{"$f":"((Inserir_Dados!$D$12/3600)/4/PI()/$C$31)*expint1($G$31/4/$C$31/O45)","v":1.5798517149494629},0.23737631379976953]
[null,null,null,null,null,null,null,null,null,null,null,{"$f":"IF(M46>0,(Inserir_Dados!H41*60)/(Inserir_Dados!$D$13^2),L45)","v":0},{"$f":"+Inserir_Dados!I41","v":0},{"$f":"((Inserir_Dados!$D$12/3600)/4/PI()/$C$31)*expint1($G$31/4/$C$31/O46)","v":1.6615471602332503},0.28485157655972343]
[null,null,null,null,null,null,null,null,null,null,null,{"$f":"IF(M47>0,(Inserir_Dados!H42*60)/(Inserir_Dados!$D$13^2),L46)","v":0},{"$f":"+Inserir_Dados!I42","v":0},{"$f":"((Inserir_Dados!$D$12/3600)/4/PI()/$C$31)*expint1($G$31/4/$C$31/O47)","v":1.743464491354962},0.34182189187166812]
[null,null,null,null,null,null,null,null,null,null,null,{"$f":"IF(M48>0,(Inserir_Dados!H43*60)/(Inserir_Dados!$D$13^2),L47)","v":0},{"$f":"+Inserir_Dados!I43","v":0},{"$f":"((Inserir_Dados!$D$12/3600)/4/PI()/$C$31)*expint1($G$31/4/$C$31/O48)","v":1.8255671887775911},0.41018627024600174]
[null,null,null,null,null,null,null,null,null,null,null,{"$f":"IF(M49>0,(Inserir_Dados!H44*60)/(Inserir_Dados!$D$13^2),L48)","v":0},{"$f":"+Inserir_Dados!I44","v":0},{"$f":"((Inserir_Dados!$D$12/3600)/4/PI()/$C$31)*expint1($G$31/4/$C$31/O49)","v":1.9078246792924938},0.49222352429520205]
[null,null,null,null,null,null,null,null,null,null,null,{"$f":"IF(M50>0,(Inserir_Dados!H45*60)/(Inserir_Dados!$D$13^2),L49)","v":0},{"$f":"+Inserir_Dados!I45","v":0},{"$f":"((Inserir_Dados!$D$12/3600)/4/PI()/$C$31)*expint1($G$31/4/$C$31/O50)","v":1.990211387514194},0.59066822915424244]
[null,null,null,null,null,null,null,null,null,null,null,{"$f":"IF(M51>0,(Inserir_Dados!H46*60)/(Inserir_Dados!$D$13^2),L50)","v":0},{"$f":"+Inserir_Dados!I46","v":0},{"$f":"((Inserir_Dados!$D$12/3600)/4/PI()/$C$31)*expint1($G$31/4/$C$31/O51)","v":2.0727059325874766},0.70880187498509095]
[null,null,null,null,null,null,null,null,null,null,null,{"$f":"IF(M52>0,(Inserir_Dados!H47*60)/(Inserir_Dados!$D$13^2),L51)","v":0},{"$f":"+Inserir_Dados!I47","v":0},{"$f":"((Inserir_Dados!$D$12/3600)/4/PI()/$C$31)*expint1($G$31/4/$C$31/O52)","v":2.1552904497835454},0.85056224998210916]
[null,null,null,null,null,null,null,null,null,null,null,{"$f":"IF(M53>0,(Inserir_Dados!H48*60)/(Inserir_Dados!$D$13^2),L52)","v":0},{"$f":"+Inserir_Dados!I48","v":0},{"$f":"((Inserir_Dados!$D$12/3600)/4/PI()/$C$31)*expint1($G$31/4/$C$31/O53)","v":2.237950018886766},1.020674699978531]
[null,null,null,null,null,null,null,null,null,null,null,{"$f":"IF(M54>0,(Inserir_Dados!H49*60)/(Inserir_Dados!$D$13^2),L53)","v":0},{"$f":"+Inserir_Dados!I49","v":0},{"$f":"((Inserir_Dados!$D$12/3600)/4/PI()/$C$31)*expint1($G$31/4/$C$31/O54)","v":2.3206721834731567},1.2248096399742372]
[null,null,null,null,null,null,null,null,null,null,null,{"$f":"IF(M55>0,(Inserir_Dados!H50*60)/(Inserir_Dados!$D$13^2),L54)","v":0},{"$f":"+Inserir_Dados!I50","v":0},{"$f":"((Inserir_Dados!$D$12/3600)/4/PI()/$C$31)*expint1($G$31/4/$C$31/O55)","v":2.4034465472588482},1.4697715679690846]
[null,null,null,null,null,null,null,null,null,null,null,{"$f":"IF(M56>0,(Inserir_Dados!H51*60)/(Inserir_Dados!$D$13^2),L55)","v":0},{"$f":"+Inserir_Dados!I51","v":0},{"$f":"((Inserir_Dados!$D$12/3600)/4/PI()/$C$31)*expint1($G$31/4/$C$31/O56)","v":2.486264435599379},1.7637258815629016]
[null,null,null,null,null,null,null,null,null,null,null,{"$f":"IF(M57>0,(Inserir_Dados!H52*60)/(Inserir_Dados!$D$13^2),L56)","v":0},{"$f":"+Inserir_Dados!I52","v":0},{"$f":"((Inserir_Dados!$D$12/3600)/4/PI()/$C$31)*expint1($G$31/4/$C$31/O57)","v":2.5691186119269225},2.116471057875482]
[null,null,null,null,null,null,null,null,null,null,null,{"$f":"IF(M58>0,(Inserir_Dados!H53*60)/(Inserir_Dados!$D$13^2),L57)","v":0},{"$f":"+Inserir_Dados!I53","v":0},{"$f":"((Inserir_Dados!$D$12/3600)/4/PI()/$C$31)*expint1($G$31/4/$C$31/O58)","v":2.6520030404189283},2.5397652694505783]
[null,null,null,null,null,null,null,null,null,null,null,{"$f":"IF(M59>0,(Inserir_Dados!H54*60)/(Inserir_Dados!$D$13^2),L58)","v":0},{"$f":"+Inserir_Dados!I54","v":0},{"$f":"((Inserir_Dados!$D$12/3600)/4/PI()/$C$31)*expint1($G$31/4/$C$31/O59)","v":2.7349126875061627},3.0477183233406939]
[null,null,null,null,null,null,null,null,null,null,null,{"$f":"IF(M60>0,(Inserir_Dados!H55*60)/(Inserir_Dados!$D$13^2),L59)","v":0},{"$f":"+Inserir_Dados!I55","v":0},{"$f":"((Inserir_Dados!$D$12/3600)/4/PI()/$C$31)*expint1($G$31/4/$C$31/O60)","v":2.8178433559649627},3.6572619880088326]
[null,null,null,null,null,null,null,null,null,null,null,{"$f":"IF(M61>0,(Inserir_Dados!H56*60)/(Inserir_Dados!$D$13^2),L60)","v":0},{"$f":"+Inserir_Dados!I56","v":0},{"$f":"((Inserir_Dados!$D$12/3600)/4/PI()/$C$31)*expint1($G$31/4/$C$31/O61)","v":2.9007915463146832},4.3887143856105988]
[null,null,null,null,null,null,null,null,null,null,null,{"$f":"IF(M62>0,(Inserir_Dados!H57*60)/(Inserir_Dados!$D$13^2),L61)","v":0},{"$f":"+Inserir_Dados!I57","v":0},{"$f":"((Inserir_Dados!$D$12/3600)/4/PI()/$C$31)*expint1($G$31/4/$C$31/O62)","v":2.9837543410749996},5.2664572627327182]
[null,null,null,null,null,null,null,null,null,null,null,{"$f":"IF(M63>0,(Inserir_Dados!H58*60)/(Inserir_Dados!$D$13^2),L62)","v":0},{"$f":"+Inserir_Dados!I58","v":0},{"$f":"((Inserir_Dados!$D$12/3600)/4/PI()/$C$31)*expint1($G$31/4/$C$31/O63)","v":3.0667293081464599},6.3197487152792613]
[null,null,null,null,null,null,null,null,null,null,null,{"$f":"IF(M64>0,(Inserir_Dados!H59*60)/(Inserir_Dados!$D$13^2),L63)","v":0},{"$f":"+Inserir_Dados!I59","v":0},{"$f":"((Inserir_Dados!$D$12/3600)/4/PI()/$C$31)*expint1($G$31/4/$C$31/O64)","v":3.1497144201780918},7.583698458335113]
[null,null,null,null,null,null,null,null,null,null,null,{"$f":"IF(M65>0,(Inserir_Dados!H60*60)/(Inserir_Dados!$D$13^2),L64)","v":0},{"$f":"+Inserir_Dados!I60","v":0},{"$f":"((Inserir_Dados!$D$12/3600)/4/PI()/$C$31)*expint1($G$31/4/$C$31/O65)","v":3.232707987293006},9.1004381500021356]
[null,null,null,null,null,null,null,null,null,null,null,{"$f":"IF(M66>0,(Inserir_Dados!H61*60)/(Inserir_Dados!$D$13^2),L65)","v":0},{"$f":"+Inserir_Dados!I61","v":0},{"$f":"((Inserir_Dados!$D$12/3600)/4/PI()/$C$31)*expint1($G$31/4/$C$31/O66)","v":3.3157086009703103},10.920525780002562]
[null,null,null,null,null,null,null,null,null,null,null,{"$f":"IF(M67>0,(Inserir_Dados!H62*60)/(Inserir_Dados!$D$13^2),L66)","v":0},{"$f":"+Inserir_Dados!I62","v":0},{"$f":"((Inserir_Dados!$D$12/3600)/4/PI()/$C$31)*expint1($G$31/4/$C$31/O67)","v":3.3987150872410723},13.104630936003074]
[null,null,null,null,null,null,null,null,null,null,null,{"$f":"IF(M68>0,(Inserir_Dados!H63*60)/(Inserir_Dados!$D$13^2),L67)","v":0},{"$f":"+Inserir_Dados!I63","v":0},{"$f":"((Inserir_Dados!$D$12/3600)/4/PI()/$C$31)*expint1($G$31/4/$C$31/O68)","v":3.4817264676578872},15.725557123203689]
[null,null,null,null,null,null,null,null,null,null,null,{"$f":"IF(M69>0,(Inserir_Dados!H64*60)/(Inserir_Dados!$D$13^2),L68)","v":0},{"$f":"+Inserir_Dados!I64","v":0},{"$f":"((Inserir_Dados!$D$12/3600)/4/PI()/$C$31)*expint1($G$31/4/$C$31/O69)","v":3.564741926750711},18.870668547844428]
[null,null,null,null,null,null,null,null,null,null,null,{"$f":"IF(M70>0,(Inserir_Dados!H65*60)/(Inserir_Dados!$D$13^2),L69)","v":0},{"$f":"+Inserir_Dados!I65","v":0},{"$f":"((Inserir_Dados!$D$12/3600)/4/PI()/$C$31)*expint1($G$31/4/$C$31/O70)","v":3.6477607848936646},22.644802257413314]
[null,null,null,null,null,null,null,null,null,null,null,{"$f":"IF(M71>0,(Inserir_Dados!H66*60)/(Inserir_Dados!$D$13^2),L70)","v":0},{"$f":"+Inserir_Dados!I66","v":0},{"$f":"((Inserir_Dados!$D$12/3600)/4/PI()/$C$31)*expint1($G$31/4/$C$31/O71)","v":3.7307824756849639},27.173762708895975]
[null,null,null,null,null,null,null,null,null,null,null,{"$f":"IF(M72>0,(Inserir_Dados!H67*60)/(Inserir_Dados!$D$13^2),L71)","v":0},{"$f":"+Inserir_Dados!I67","v":0},{"$f":"((Inserir_Dados!$D$12/3600)/4/PI()/$C$31)*expint1($G$31/4/$C$31/O72)","v":3.8138065270905606},32.608515250675168]
[null,null,null,null,null,null,null,null,null,null,null,{"$f":"IF(M73>0,(Inserir_Dados!H68*60)/(Inserir_Dados!$D$13^2),L72)","v":0},{"$f":"+Inserir_Dados!I68","v":0},{"$f":"((Inserir_Dados!$D$12/3600)/4/PI()/$C$31)*expint1($G$31/4/$C$31/O73)","v":3.8968325457261357},39.130218300810199]
[null,null,null,null,null,null,null,null,null,null,null,{"$f":"IF(M74>0,(Inserir_Dados!H69*60)/(Inserir_Dados!$D$13^2),L73)","v":0},{"$f":"+Inserir_Dados!I69","v":0},{"$f":"((Inserir_Dados!$D$12/3600)/4/PI()/$C$31)*expint1($G$31/4/$C$31/O74)","v":3.9798602037557216},46.956261960972235]
[null,null,null,null,null,null,null,null,null,null,null,{"$f":"IF(M75>0,(Inserir_Dados!H70*60)/(Inserir_Dados!$D$13^2),L74)","v":0},{"$f":"+Inserir_Dados!I70","v":0},{"$f":"((Inserir_Dados!$D$12/3600)/4/PI()/$C$31)*expint1($G$31/4/$C$31/O75)","v":4.0628892279717688},56.34751435316668]
[null,null,null,null,null,null,null,null,null,null,null,{"$f":"IF(M76>0,(Inserir_Dados!H71*60)/(Inserir_Dados!$D$13^2),L75)","v":0},{"$f":"+Inserir_Dados!I71","v":0},{"$f":"((Inserir_Dados!$D$12/3600)/4/PI()/$C$31)*expint1($G$31/4/$C$31/O76)","v":4.1459193906937477},67.617017223800019]
[null,null,null,null,null,null,null,null,null,null,null,{"$f":"IF(M77>0,(Inserir_Dados!H72*60)/(Inserir_Dados!$D$13^2),L76)","v":0},{"$f":"+Inserir_Dados!I72","v":0},{"$f":"((Inserir_Dados!$D$12/3600)/4/PI()/$C$31)*expint1($G$31/4/$C$31/O77)","v":4.2289505021826255},81.140420668560026]
[null,null,null,null,null,null,null,null,null,null,null,{"$f":"IF(M78>0,(Inserir_Dados!H73*60)/(Inserir_Dados!$D$13^2),L77)","v":0},{"$f":"+Inserir_Dados!I73","v":0},{"$f":"((Inserir_Dados!$D$12/3600)/4/PI()/$C$31)*expint1($G$31/4/$C$31/O78)","v":4.3119824043188864},97.368504802272028]
[null,null,null,null,null,null,null,null,null,null,null,{"$f":"IF(M79>0,(Inserir_Dados!H74*60)/(Inserir_Dados!$D$13^2),L78)","v":0},{"$f":"+Inserir_Dados!I74","v":0},{"$f":"((Inserir_Dados!$D$12/3600)/4/PI()/$C$31)*expint1($G$31/4/$C$31/O79)","v":4.39501496533373},116.84220576272642]
[null,null,null,null,null,null,null,null,null,null,null,{"$f":"IF(M80>0,(Inserir_Dados!H75*60)/(Inserir_Dados!$D$13^2),L79)","v":0},{"$f":"+Inserir_Dados!I75","v":0},{"$f":"((Inserir_Dados!$D$12/3600)/4/PI()/$C$31)*expint1($G$31/4/$C$31/O80)","v":4.4780480754180649},140.2106469152717]
[null,null,null,null,null,null,null,null,null,null,null,{"$f":"IF(M81>0,(Inserir_Dados!H76*60)/(Inserir_Dados!$D$13^2),L80)","v":0},{"$f":"+Inserir_Dados!I76","v":0},{"$f":"((Inserir_Dados!$D$12/3600)/4/PI()/$C$31)*expint1($G$31/4/$C$31/O81)","v":4.5610816430630905},{"$f":"O80*1.2","v":168.25277629832604}]
[null,null,null,null,null,null,null,null,null,null,null,{"$f":"IF(M82>0,(Inserir_Dados!H77*60)/(Inserir_Dados!$D$13^2),L81)","v":0},{"$f":"+Inserir_Dados!I77","v":0},{"$f":"((Inserir_Dados!$D$12/3600)/4/PI()/$C$31)*expint1($G$31/4/$C$31/O82)","v":4.6441155920106194},201.90333155799124]
[null,null,null,null,null,null,null,null,null,null,null,{"$f":"IF(M83>0,(Inserir_Dados!H78*60)/(Inserir_Dados!$D$13^2),L82)","v":0},{"$f":"+Inserir_Dados!I78","v":0},{"$f":"((Inserir_Dados!$D$12/3600)/4/PI()/$C$31)*expint1($G$31/4/$C$31/O83)","v":4.7271498587115772},242.28399786958948]
[null,null,null,null,null,null,null,null,null,null,null,{"$f":"IF(M84>0,(Inserir_Dados!H79*60)/(Inserir_Dados!$D$13^2),L83)","v":0},{"$f":"+Inserir_Dados!I79","v":0},{"$f":"((Inserir_Dados!$D$12/3600)/4/PI()/$C$31)*expint1($G$31/4/$C$31/O84)","v":4.8101843902079908},290.74079744350735]
[null,null,null,null,null,null,null,null,null,null,null,{"$f":"IF(M85>0,(Inserir_Dados!H80*60)/(Inserir_Dados!$D$13^2),L84)","v":0},{"$f":"+Inserir_Dados!I80","v":0},{"$f":"((Inserir_Dados!$D$12/3600)/4/PI()/$C$31)*expint1($G$31/4/$C$31/O85)","v":4.8932191423679274},348.88895693220883]
[null,null,null,null,null,null,null,null,null,null,null,{"$f":"IF(M86>0,(Inserir_Dados!H81*60)/(Inserir_Dados!$D$13^2),L85)","v":0},{"$f":"+Inserir_Dados!I81","v":0},{"$f":"((Inserir_Dados!$D$12/3600)/4/PI()/$C$31)*expint1($G$31/4/$C$31/O86)","v":4.9762540784145868},418.6667483186506]
[null,null,null,null,null,null,null,null,null,null,null,{"$f":"IF(M87>0,(Inserir_Dados!H82*60)/(Inserir_Dados!$D$13^2),L86)","v":0},{"$f":"+Inserir_Dados!I82","v":0},{"$f":"((Inserir_Dados!$D$12/3600)/4/PI()/$C$31)*expint1($G$31/4/$C$31/O87)","v":5.0592891677004896},502.40009798238071]
[null,null,null,null,null,null,null,null,null,null,null,{"$f":"IF(M88>0,(Inserir_Dados!H83*60)/(Inserir_Dados!$D$13^2),L87)","v":0},{"$f":"+Inserir_Dados!I83","v":0},{"$f":"((Inserir_Dados!$D$12/3600)/4/PI()/$C$31)*expint1($G$31/4/$C$31/O88)","v":5.1423243846859821},602.88011757885681]
[null,null,null,null,null,null,null,null,null,null,null,{"$f":"IF(M89>0,(Inserir_Dados!H84*60)/(Inserir_Dados!$D$13^2),L88)","v":0},{"$f":"+Inserir_Dados!I84","v":0},{"$f":"((Inserir_Dados!$D$12/3600)/4/PI()/$C$31)*expint1($G$31/4/$C$31/O89)","v":5.2253597080879475},723.45614109462815]
[null,null,null,null,null,null,null,null,null,null,null,{"$f":"IF(M90>0,(Inserir_Dados!H85*60)/(Inserir_Dados!$D$13^2),L89)","v":0},{"$f":"+Inserir_Dados!I85","v":0},{"$f":"((Inserir_Dados!$D$12/3600)/4/PI()/$C$31)*expint1($G$31/4/$C$31/O90)","v":5.3083951201704114},868.14736931355378]
[null,null,null,null,null,null,null,null,null,null,null,{"$f":"IF(M91>0,(Inserir_Dados!H86*60)/(Inserir_Dados!$D$13^2),L90)","v":0},{"$f":"+Inserir_Dados!I86","v":0},{"$f":"((Inserir_Dados!$D$12/3600)/4/PI()/$C$31)*expint1($G$31/4/$C$31/O91)","v":5.3914306061533637},1041.7768431762645]
[null,null,null,null,null,null,null,null,null,null,null,{"$f":"IF(M92>0,(Inserir_Dados!H87*60)/(Inserir_Dados!$D$13^2),L91)","v":0},{"$f":"+Inserir_Dados!I87","v":0},{"$f":"((Inserir_Dados!$D$12/3600)/4/PI()/$C$31)*expint1($G$31/4/$C$31/O92)","v":5.4744661537201074},1250.1322118115174]
[null,null,null,null,null,null,null,null,null,null,null,{"$f":"IF(M93>0,(Inserir_Dados!H88*60)/(Inserir_Dados!$D$13^2),L92)","v":0},{"$f":"+Inserir_Dados!I88","v":0},{"$f":"((Inserir_Dados!$D$12/3600)/4/PI()/$C$31)*expint1($G$31/4/$C$31/O93)","v":5.5575017526067105},1500.1586541738209]
[null,null,null,null,null,null,null,null,null,null,null,{"$f":"IF(M94>0,(Inserir_Dados!H89*60)/(Inserir_Dados!$D$13^2),L93)","v":0},{"$f":"+Inserir_Dados!I89","v":0},{"$f":"((Inserir_Dados!$D$12/3600)/4/PI()/$C$31)*expint1($G$31/4/$C$31/O94)","v":5.6405373942598898},1800.1903850085851]
[null,null,null,null,null,null,null,null,null,null,null,{"$f":"IF(M95>0,(Inserir_Dados!H90*60)/(Inserir_Dados!$D$13^2),L94)","v":0},{"$f":"+Inserir_Dados!I90","v":0},{"$f":"((Inserir_Dados!$D$12/3600)/4/PI()/$C$31)*expint1($G$31/4/$C$31/O95)","v":5.7235730715518969},2160.2284620103019]
[null,null,null,null,null,null,null,null,null,null,null,{"$f":"IF(M96>0,(Inserir_Dados!H91*60)/(Inserir_Dados!$D$13^2),L95)","v":0},{"$f":"+Inserir_Dados!I91","v":0},{"$f":"((Inserir_Dados!$D$12/3600)/4/PI()/$C$31)*expint1($G$31/4/$C$31/O96)","v":5.8066087785429419},2592.2741544123623]
[null,null,null,null,null,null,null,null,null,null,null,{"$f":"IF(M97>0,(Inserir_Dados!H92*60)/(Inserir_Dados!$D$13^2),L96)","v":0},{"$f":"+Inserir_Dados!I92","v":0},{"$f":"((Inserir_Dados!$D$12/3600)/4/PI()/$C$31)*expint1($G$31/4/$C$31/O97)","v":5.8896445102831896},3110.7289852948347]
[null,null,null,null,null,null,null,null,null,null,null,{"$f":"IF(M98>0,(Inserir_Dados!H93*60)/(Inserir_Dados!$D$13^2),L97)","v":0},{"$f":"+Inserir_Dados!I93","v":0},{"$f":"((Inserir_Dados!$D$12/3600)/4/PI()/$C$31)*expint1($G$31/4/$C$31/O98)","v":5.9726802626477804},3732.8747823538015]
[null,null,null,null,null,null,null,null,null,null,null,{"$f":"IF(M99>0,(Inserir_Dados!H94*60)/(Inserir_Dados!$D$13^2),L98)","v":0},{"$f":"+Inserir_Dados!I94","v":0},{"$f":"((Inserir_Dados!$D$12/3600)/4/PI()/$C$31)*expint1($G$31/4/$C$31/O99)","v":6.055716032199328},4479.4497388245618]
[null,null,null,null,null,null,null,null,null,null,null,{"$f":"IF(M100>0,(Inserir_Dados!H95*60)/(Inserir_Dados!$D$13^2),L99)","v":0},{"$f":"+Inserir_Dados!I95","v":0},{"$f":"((Inserir_Dados!$D$12/3600)/4/PI()/$C$31)*expint1($G$31/4/$C$31/O100)","v":6.1387518160733432},5375.3396865894738]
[null,null,null,null,null,null,null,null,null,null,null,{"$f":"IF(M101>0,(Inserir_Dados!H96*60)/(Inserir_Dados!$D$13^2),L100)","v":0},{"$f":"+Inserir_Dados!I96","v":0},{"$f":"((Inserir_Dados!$D$12/3600)/4/PI()/$C$31)*expint1($G$31/4/$C$31/O101)","v":6.221787611882748},6450.4076239073684]
[null,null,null,null,null,null,null,null,null,null,null,{"$f":"IF(M102>0,(Inserir_Dados!H97*60)/(Inserir_Dados!$D$13^2),L101)","v":0},{"$f":"+Inserir_Dados!I97","v":0},{"$f":"((Inserir_Dados!$D$12/3600)/4/PI()/$C$31)*expint1($G$31/4/$C$31/O102)","v":6.3048234176383131},7740.4891486888419]
[null,null,null,null,null,null,null,null,null,null,null,{"$f":"IF(M103>0,(Inserir_Dados!H98*60)/(Inserir_Dados!$D$13^2),L102)","v":0},{"$f":"+Inserir_Dados!I98","v":0},{"$f":"((Inserir_Dados!$D$12/3600)/4/PI()/$C$31)*expint1($G$31/4/$C$31/O103)","v":6.3878592316823459},9288.5869784266106]

{"sheet":"Theis_Dupuit","index":4,"n_rows":116,"n_cols":18,"rows_kept":116,"cut":false,"hidden":false,"merged":[]}
[]
[]
[]
[]
[]
[]
[]
[]
[]
[null,null,"Determinação da Transmissividade e do Coeficiente ",null,null,null,null,null,null,null,null,null,null,null,"Estas colunas realizam os cálculos da planilha, não as utilize "]
[null,null,"   de Armazenamento - Método de Theis/Dupuit",null,null,null,null,null,null,null,null,null,null,null,"se não souber o que está fazendo"]
[]
[]
[null,null,null,"IDENTIFICAÇÃO DO POÇO:",{"$f":"[1]Inserir_Dados!E6","v":"Poço de Bombeamento da Faz. Campinas"},null,null,null,null,null,null,null,null,null,"t/r²","Rebaixamento","W(u)","U"]
[null,null,null,null,null,null,null,null,null,null,null,null,null,null,null," (m)"]
[null,"INSERIR DADOS DO POÇO E DO AQUÍFERO",null,null,null,"Localização:",{"$f":"[1]Inserir_Dados!E7","v":"São Desidério"},null,null,null,null,null,null,null,{"$f":"([1]Inserir_Dados!I9*60)/([1]Inserir_Dados!$E$12^2)","v":0.15},{"$f":"IF((([1]Inserir_Dados!J9)/([1]Inserir_Dados!$E$21))<0.02,[1]Inserir_Dados!J9,IF(([1]Inserir_Dados!J9)/([1]Inserir_Dados!$E$21)<0.25,([1]Inserir_Dados!J9)-(([1]Inserir_Dados!J9^2)/(2*[1]Inserir_Dados!$E$21))))","v":1.4},{"$f":"(([1]Inserir_Dados!$E$11/3600)/4/PI()/$C$32)*expint1($G$32/4/$C$32/R16)","v":4.1145074495140084E-5},1E-3]
[null,"Detalhes da Construção:",null,null,null,"Data:",{"$f":"[1]Inserir_Dados!E8","v":"2002-04-04"},null,null,null,null,null,null,null,{"$f":"IF(P17>0,([1]Inserir_Dados!I10*60)/([1]Inserir_Dados!$E$12^2),O16)","v":0.3},{"$f":"IF((([1]Inserir_Dados!J10)/([1]Inserir_Dados!$E$21))<0.02,[1]Inserir_Dados!J10,IF(([1]Inserir_Dados!J10)/([1]Inserir_Dados!$E$21)<0.25,([1]Inserir_Dados!J10)-(([1]Inserir_Dados!J10^2)/(2*[1]Inserir_Dados!$E$21))))","v":1.7},{"$f":"(([1]Inserir_Dados!$E$11/3600)/4/PI()/$C$32)*expint1($G$32/4/$C$32/R17)","v":1.6373230987917428E-4},{"$f":"R16*1.2","v":1.1999999999999999E-3}]
[null,"Diâmetro do Revestimento:",{"$f":"[1]Inserir_Dados!E18","v":4},"Polegadas",null,"Coordenadas:",{"$f":"[1]Inserir_Dados!E9","v":0},"Lat.",null,null,null,null,null,null,{"$f":"IF(P18>0,([1]Inserir_Dados!I11*60)/([1]Inserir_Dados!$E$12^2),O17)","v":0.6},{"$f":"IF((([1]Inserir_Dados!J11)/([1]Inserir_Dados!$E$21))<0.02,[1]Inserir_Dados!J11,IF(([1]Inserir_Dados!J11)/([1]Inserir_Dados!$E$21)<0.25,([1]Inserir_Dados!J11)-(([1]Inserir_Dados!J11^2)/(2*[1]Inserir_Dados!$E$21))))","v":1.9},{"$f":"(([1]Inserir_Dados!$E$11/3600)/4/PI()/$C$32)*expint1($G$32/4/$C$32/R18)","v":5.3033671021957918E-4},1.4399999999999999E-3]
[null,"Diâmetro de Perfuração:",{"$f":"[1]Inserir_Dados!E19","v":10},"Polegadas",null,null,{"$f":"[1]Inserir_Dados!E10","v":0},"Long.",null,null,null,null,null,null,{"$f":"IF(P19>0,([1]Inserir_Dados!I12*60)/([1]Inserir_Dados!$E$12^2),O18)","v":0.9},{"$f":"IF((([1]Inserir_Dados!J12)/([1]Inserir_Dados!$E$21))<0.02,[1]Inserir_Dados!J12,IF(([1]Inserir_Dados!J12)/([1]Inserir_Dados!$E$21)<0.25,([1]Inserir_Dados!J12)-(([1]Inserir_Dados!J12^2)/(2*[1]Inserir_Dados!$E$21))))","v":2.15},{"$f":"(([1]Inserir_Dados!$E$11/3600)/4/PI()/$C$32)*expint1($G$32/4/$C$32/R19)","v":1.4459626076088982E-3},1.7279999999999997E-3]
[null,"Profundidade do Poço:",{"$f":"[1]Inserir_Dados!E20","v":260},"metros",null,null,null,null,null,null,null,null,null,null,{"$f":"IF(P20>0,([1]Inserir_Dados!I13*60)/([1]Inserir_Dados!$E$12^2),O19)","v":1.5},{"$f":"IF((([1]Inserir_Dados!J13)/([1]Inserir_Dados!$E$21))<0.02,[1]Inserir_Dados!J13,IF(([1]Inserir_Dados!J13)/([1]Inserir_Dados!$E$21)<0.25,([1]Inserir_Dados!J13)-(([1]Inserir_Dados!J13^2)/(2*[1]Inserir_Dados!$E$21))))","v":2.35},{"$f":"(([1]Inserir_Dados!$E$11/3600)/4/PI()/$C$32)*expint1($G$32/4/$C$32/R20)","v":3.4126432463876689E-3},2.0735999999999997E-3]
[null,"Profundidades:",null,null,null,null,"RESULTADOS",null,null,null,null,null,null,null,{"$f":"IF(P21>0,([1]Inserir_Dados!I14*60)/([1]Inserir_Dados!$E$12^2),O20)","v":2.25},{"$f":"IF((([1]Inserir_Dados!J14)/([1]Inserir_Dados!$E$21))<0.02,[1]Inserir_Dados!J14,IF(([1]Inserir_Dados!J14)/([1]Inserir_Dados!$E$21)<0.25,([1]Inserir_Dados!J14)-(([1]Inserir_Dados!J14^2)/(2*[1]Inserir_Dados!$E$21))))","v":2.6},{"$f":"(([1]Inserir_Dados!$E$11/3600)/4/PI()/$C$32)*expint1($G$32/4/$C$32/R21)","v":7.1360413238779367E-3},2.4883199999999996E-3]
[null,"Nível Estático:",{"$f":"[1]Inserir_Dados!E15","v":23.5},"metros",null,"B (espessura aqüífero) =",{"$f":"+C24-C23","v":326.5},"m",null,null,null,null,null,null,{"$f":"IF(P22>0,([1]Inserir_Dados!I15*60)/([1]Inserir_Dados!$E$12^2),O21)","v":3},{"$f":"IF((([1]Inserir_Dados!J15)/([1]Inserir_Dados!$E$21))<0.02,[1]Inserir_Dados!J15,IF(([1]Inserir_Dados!J15)/([1]Inserir_Dados!$E$21)<0.25,([1]Inserir_Dados!J15)-(([1]Inserir_Dados!J15^2)/(2*[1]Inserir_Dados!$E$21))))","v":2.73},{"$f":"(([1]Inserir_Dados!$E$11/3600)/4/PI()/$C$32)*expint1($G$32/4/$C$32/R22)","v":1.347929016250997E-2},2.9859839999999993E-3]
[null,"Topo do Aquifero:",{"$f":"[1]Inserir_Dados!E16","v":23.5},"metros",null,"Q (vazão) =",{"$f":"+[1]Inserir_Dados!E11","v":250},"m³/h",null,null,null,null,null,null,{"$f":"IF(P23>0,([1]Inserir_Dados!I16*60)/([1]Inserir_Dados!$E$12^2),O22)","v":3.75},{"$f":"IF((([1]Inserir_Dados!J16)/([1]Inserir_Dados!$E$21))<0.02,[1]Inserir_Dados!J16,IF(([1]Inserir_Dados!J16)/([1]Inserir_Dados!$E$21)<0.25,([1]Inserir_Dados!J16)-(([1]Inserir_Dados!J16^2)/(2*[1]Inserir_Dados!$E$21))))","v":2.82},{"$f":"(([1]Inserir_Dados!$E$11/3600)/4/PI()/$C$32)*expint1($G$32/4/$C$32/R23)","v":2.3373431712909332E-2},3.583180799999999E-3]
[null,"Base do Aquifero:",{"$f":"[1]Inserir_Dados!E17","v":350},"metros",null,"R (dist. do piezômetro) =",{"$f":"+[1]Inserir_Dados!E12","v":20},"m",null,null,null,null,null,null,{"$f":"IF(P24>0,([1]Inserir_Dados!I17*60)/([1]Inserir_Dados!$E$12^2),O23)","v":4.5},{"$f":"IF((([1]Inserir_Dados!J17)/([1]Inserir_Dados!$E$21))<0.02,[1]Inserir_Dados!J17,IF(([1]Inserir_Dados!J17)/([1]Inserir_Dados!$E$21)<0.25,([1]Inserir_Dados!J17)-(([1]Inserir_Dados!J17^2)/(2*[1]Inserir_Dados!$E$21))))","v":2.9},{"$f":"(([1]Inserir_Dados!$E$11/3600)/4/PI()/$C$32)*expint1($G$32/4/$C$32/R24)","v":3.7709989428975257E-2},4.2998169599999985E-3]
[null,"Espaço Anular:",null,null,null,"T (Transmissividade) =",{"$f":"+C32*3600","v":39.382429185795324},"m²/h",null,null,null,null,null,null,{"$f":"IF(P25>0,([1]Inserir_Dados!I18*60)/([1]Inserir_Dados!$E$12^2),O24)","v":5.25},{"$f":"IF((([1]Inserir_Dados!J18)/([1]Inserir_Dados!$E$21))<0.02,[1]Inserir_Dados!J18,IF(([1]Inserir_Dados!J18)/([1]Inserir_Dados!$E$21)<0.25,([1]Inserir_Dados!J18)-(([1]Inserir_Dados!J18^2)/(2*[1]Inserir_Dados!$E$21))))","v":2.96},{"$f":"(([1]Inserir_Dados!$E$11/3600)/4/PI()/$C$32)*expint1($G$32/4/$C$32/R25)","v":5.7243979237953609E-2},5.1597803519999978E-3]
[null,"Material do Pré-Filtro:",null,null,null,"k (permeabilidade) =",{"$f":"+G25/(C24-C23)","v":0.1206199975062644},"m/h",null,null,null,null,null,null,{"$f":"IF(P26>0,([1]Inserir_Dados!I19*60)/([1]Inserir_Dados!$E$12^2),O25)","v":6},{"$f":"IF((([1]Inserir_Dados!J19)/([1]Inserir_Dados!$E$21))<0.02,[1]Inserir_Dados!J19,IF(([1]Inserir_Dados!J19)/([1]Inserir_Dados!$E$21)<0.25,([1]Inserir_Dados!J19)-(([1]Inserir_Dados!J19^2)/(2*[1]Inserir_Dados!$E$21))))","v":3.01},{"$f":"(([1]Inserir_Dados!$E$11/3600)/4/PI()/$C$32)*expint1($G$32/4/$C$32/R26)","v":8.2527175589834814E-2},6.1917364223999976E-3]
[null,"Selo do Poço:",null,null,null,"S (coef. de armazenamento) =",{"$f":"+G32","v":3.1988951096913968E-4},null,null,null,null,null,null,null,{"$f":"IF(P27>0,([1]Inserir_Dados!I20*60)/([1]Inserir_Dados!$E$12^2),O26)","v":6.75},{"$f":"IF((([1]Inserir_Dados!J20)/([1]Inserir_Dados!$E$21))<0.02,[1]Inserir_Dados!J20,IF(([1]Inserir_Dados!J20)/([1]Inserir_Dados!$E$21)<0.25,([1]Inserir_Dados!J20)-(([1]Inserir_Dados!J20^2)/(2*[1]Inserir_Dados!$E$21))))","v":3.04},{"$f":"(([1]Inserir_Dados!$E$11/3600)/4/PI()/$C$32)*expint1($G$32/4/$C$32/R27)","v":0.11386647329054529},7.4300837068799969E-3]
[null,"Material da Formação:",null,null,null,null,null,null,null,null,null,null,null,null,{"$f":"IF(P28>0,([1]Inserir_Dados!I21*60)/([1]Inserir_Dados!$E$12^2),O27)","v":9},{"$f":"IF((([1]Inserir_Dados!J21)/([1]Inserir_Dados!$E$21))<0.02,[1]Inserir_Dados!J21,IF(([1]Inserir_Dados!J21)/([1]Inserir_Dados!$E$21)<0.25,([1]Inserir_Dados!J21)-(([1]Inserir_Dados!J21^2)/(2*[1]Inserir_Dados!$E$21))))","v":3.14},{"$f":"(([1]Inserir_Dados!$E$11/3600)/4/PI()/$C$32)*expint1($G$32/4/$C$32/R28)","v":0.15137618035918227},8.9161004482559963E-3]
[null,"Vazão de Bombeamento:",{"$f":"[1]Inserir_Dados!E11","v":250},"m³/s",null,null,null,null,null,null,null,null,null,null,{"$f":"IF(P29>0,([1]Inserir_Dados!I22*60)/([1]Inserir_Dados!$E$12^2),O28)","v":10.5},{"$f":"IF((([1]Inserir_Dados!J22)/([1]Inserir_Dados!$E$21))<0.02,[1]Inserir_Dados!J22,IF(([1]Inserir_Dados!J22)/([1]Inserir_Dados!$E$21)<0.25,([1]Inserir_Dados!J22)-(([1]Inserir_Dados!J22^2)/(2*[1]Inserir_Dados!$E$21))))","v":3.18},{"$f":"(([1]Inserir_Dados!$E$11/3600)/4/PI()/$C$32)*expint1($G$32/4/$C$32/R29)","v":0.19493698624236033},1.0699320537907194E-2]
[null,null,null,null,null,null,null,null,null,null,null,null,null,null,{"$f":"IF(P30>0,([1]Inserir_Dados!I23*60)/([1]Inserir_Dados!$E$12^2),O29)","v":12},{"$f":"IF((([1]Inserir_Dados!J23)/([1]Inserir_Dados!$E$21))<0.02,[1]Inserir_Dados!J23,IF(([1]Inserir_Dados!J23)/([1]Inserir_Dados!$E$21)<0.25,([1]Inserir_Dados!J23)-(([1]Inserir_Dados!J23^2)/(2*[1]Inserir_Dados!$E$21))))","v":3.22},{"$f":"(([1]Inserir_Dados!$E$11/3600)/4/PI()/$C$32)*expint1($G$32/4/$C$32/R30)","v":0.24428207863651219},1.2839184645488633E-2]
[null,null,null,null,null,null,null,null,null,null,null,null,null,null,{"$f":"IF(P31>0,([1]Inserir_Dados!I24*60)/([1]Inserir_Dados!$E$12^2),O30)","v":13.5},{"$f":"IF((([1]Inserir_Dados!J24)/([1]Inserir_Dados!$E$21))<0.02,[1]Inserir_Dados!J24,IF(([1]Inserir_Dados!J24)/([1]Inserir_Dados!$E$21)<0.25,([1]Inserir_Dados!J24)-(([1]Inserir_Dados!J24^2)/(2*[1]Inserir_Dados!$E$21))))","v":3.25},{"$f":"(([1]Inserir_Dados!$E$11/3600)/4/PI()/$C$32)*expint1($G$32/4/$C$32/R31)","v":0.29903182620934865},1.5407021574586359E-2]
[null,"T ",{"$f":"10^((D32/1000)-10)","v":1.0939563662720923E-2},8039,null,"S ",{"$f":"10^((I32/1000)-10)","v":3.1988951096913968E-4},null,6505,null,null,null,null,null,{"$f":"IF(P32>0,([1]Inserir_Dados!I25*60)/([1]Inserir_Dados!$E$12^2),O31)","v":15},{"$f":"IF((([1]Inserir_Dados!J25)/([1]Inserir_Dados!$E$21))<0.02,[1]Inserir_Dados!J25,IF(([1]Inserir_Dados!J25)/([1]Inserir_Dados!$E$21)<0.25,([1]Inserir_Dados!J25)-(([1]Inserir_Dados!J25^2)/(2*[1]Inserir_Dados!$E$21))))","v":3.28},{"$f":"(([1]Inserir_Dados!$E$11/3600)/4/PI()/$C$32)*expint1($G$32/4/$C$32/R32)","v":0.35873631506117537},1.848842588950363E-2]
[null,null,null,null,null,null,null,null,null,null,null,null,null,null,{"$f":"IF(P33>0,([1]Inserir_Dados!I26*60)/([1]Inserir_Dados!$E$12^2),O32)","v":18},{"$f":"IF((([1]Inserir_Dados!J26)/([1]Inserir_Dados!$E$21))<0.02,[1]Inserir_Dados!J26,IF(([1]Inserir_Dados!J26)/([1]Inserir_Dados!$E$21)<0.25,([1]Inserir_Dados!J26)-(([1]Inserir_Dados!J26^2)/(2*[1]Inserir_Dados!$E$21))))","v":3.31},{"$f":"(([1]Inserir_Dados!$E$11/3600)/4/PI()/$C$32)*expint1($G$32/4/$C$32/R33)","v":0.4229115846551415},2.2186111067404354E-2]
[null,null,null,null,null,null,null,null,null,null,null,null,null,null,{"$f":"IF(P34>0,([1]Inserir_Dados!I27*60)/([1]Inserir_Dados!$E$12^2),O33)","v":21},{"$f":"IF((([1]Inserir_Dados!J27)/([1]Inserir_Dados!$E$21))<0.02,[1]Inserir_Dados!J27,IF(([1]Inserir_Dados!J27)/([1]Inserir_Dados!$E$21)<0.25,([1]Inserir_Dados!J27)-(([1]Inserir_Dados!J27^2)/(2*[1]Inserir_Dados!$E$21))))","v":3.34},{"$f":"(([1]Inserir_Dados!$E$11/3600)/4/PI()/$C$32)*expint1($G$32/4/$C$32/R34)","v":0.49106793512341385},2.6623333280885224E-2]
[null,null,null,null,null,null,null,null,null,null,null,null,null,null,{"$f":"IF(P35>0,([1]Inserir_Dados!I28*60)/([1]Inserir_Dados!$E$12^2),O34)","v":24},{"$f":"IF((([1]Inserir_Dados!J28)/([1]Inserir_Dados!$E$21))<0.02,[1]Inserir_Dados!J28,IF(([1]Inserir_Dados!J28)/([1]Inserir_Dados!$E$21)<0.25,([1]Inserir_Dados!J28)-(([1]Inserir_Dados!J28^2)/(2*[1]Inserir_Dados!$E$21))))","v":3.37},{"$f":"(([1]Inserir_Dados!$E$11/3600)/4/PI()/$C$32)*expint1($G$32/4/$C$32/R35)","v":0.56273041757830733},3.1947999937062266E-2]
[null,null,null,null,null,null,null,null,null,null,null,null,null,null,{"$f":"IF(P36>0,([1]Inserir_Dados!I29*60)/([1]Inserir_Dados!$E$12^2),O35)","v":27},{"$f":"IF((([1]Inserir_Dados!J29)/([1]Inserir_Dados!$E$21))<0.02,[1]Inserir_Dados!J29,IF(([1]Inserir_Dados!J29)/([1]Inserir_Dados!$E$21)<0.25,([1]Inserir_Dados!J29)-(([1]Inserir_Dados!J29^2)/(2*[1]Inserir_Dados!$E$21))))","v":3.38},{"$f":"(([1]Inserir_Dados!$E$11/3600)/4/PI()/$C$32)*expint1($G$32/4/$C$32/R36)","v":0.63745247234976798},3.8337599924474719E-2]
[null,null,null,null,null,null,null,null,null,null,null,null,null,null,{"$f":"IF(P37>0,([1]Inserir_Dados!I30*60)/([1]Inserir_Dados!$E$12^2),O36)","v":30},{"$f":"IF((([1]Inserir_Dados!J30)/([1]Inserir_Dados!$E$21))<0.02,[1]Inserir_Dados!J30,IF(([1]Inserir_Dados!J30)/([1]Inserir_Dados!$E$21)<0.25,([1]Inserir_Dados!J30)-(([1]Inserir_Dados!J30^2)/(2*[1]Inserir_Dados!$E$21))))","v":3.4},{"$f":"(([1]Inserir_Dados!$E$11/3600)/4/PI()/$C$32)*expint1($G$32/4/$C$32/R37)","v":0.71482401519965566},4.600511990936966E-2]
[null,null,null,null,null,null,null,null,null,null,null,null,null,null,{"$f":"IF(P38>0,([1]Inserir_Dados!I31*60)/([1]Inserir_Dados!$E$12^2),O37)","v":36},{"$f":"IF((([1]Inserir_Dados!J31)/([1]Inserir_Dados!$E$21))<0.02,[1]Inserir_Dados!J31,IF(([1]Inserir_Dados!J31)/([1]Inserir_Dados!$E$21)<0.25,([1]Inserir_Dados!J31)-(([1]Inserir_Dados!J31^2)/(2*[1]Inserir_Dados!$E$21))))","v":3.42},{"$f":"(([1]Inserir_Dados!$E$11/3600)/4/PI()/$C$32)*expint1($G$32/4/$C$32/R38)","v":0.79447529965430463},5.5206143891243592E-2]
[null,null,null,null,null,null,null,null,null,null,null,null,null,null,{"$f":"IF(P39>0,([1]Inserir_Dados!I32*60)/([1]Inserir_Dados!$E$12^2),O38)","v":42},{"$f":"IF((([1]Inserir_Dados!J32)/([1]Inserir_Dados!$E$21))<0.02,[1]Inserir_Dados!J32,IF(([1]Inserir_Dados!J32)/([1]Inserir_Dados!$E$21)<0.25,([1]Inserir_Dados!J32)-(([1]Inserir_Dados!J32^2)/(2*[1]Inserir_Dados!$E$21))))","v":3.44},{"$f":"(([1]Inserir_Dados!$E$11/3600)/4/PI()/$C$32)*expint1($G$32/4/$C$32/R39)","v":0.87607774714961539},6.6247372669492308E-2]
[null,null,null,null,null,null,null,null,null,null,null,null,null,null,{"$f":"IF(P40>0,([1]Inserir_Dados!I33*60)/([1]Inserir_Dados!$E$12^2),O39)","v":45},{"$f":"IF((([1]Inserir_Dados!J33)/([1]Inserir_Dados!$E$21))<0.02,[1]Inserir_Dados!J33,IF(([1]Inserir_Dados!J33)/([1]Inserir_Dados!$E$21)<0.25,([1]Inserir_Dados!J33)-(([1]Inserir_Dados!J33^2)/(2*[1]Inserir_Dados!$E$21))))","v":3.45},{"$f":"(([1]Inserir_Dados!$E$11/3600)/4/PI()/$C$32)*expint1($G$32/4/$C$32/R40)","v":0.95934273060249386},7.9496847203390772E-2]
[null,null,null,null,null,null,null,null,null,null,null,null,null,null,{"$f":"IF(P41>0,([1]Inserir_Dados!I34*60)/([1]Inserir_Dados!$E$12^2),O40)","v":52.5},{"$f":"IF((([1]Inserir_Dados!J34)/([1]Inserir_Dados!$E$21))<0.02,[1]Inserir_Dados!J34,IF(([1]Inserir_Dados!J34)/([1]Inserir_Dados!$E$21)<0.25,([1]Inserir_Dados!J34)-(([1]Inserir_Dados!J34^2)/(2*[1]Inserir_Dados!$E$21))))","v":3.47},{"$f":"(([1]Inserir_Dados!$E$11/3600)/4/PI()/$C$32)*expint1($G$32/4/$C$32/R41)","v":1.0440190792291399},9.5396216644068929E-2]
[null,null,null,null,null,null,null,null,null,null,null,null,null,null,{"$f":"IF(P42>0,([1]Inserir_Dados!I35*60)/([1]Inserir_Dados!$E$12^2),O41)","v":60},{"$f":"IF((([1]Inserir_Dados!J35)/([1]Inserir_Dados!$E$21))<0.02,[1]Inserir_Dados!J35,IF(([1]Inserir_Dados!J35)/([1]Inserir_Dados!$E$21)<0.25,([1]Inserir_Dados!J35)-(([1]Inserir_Dados!J35^2)/(2*[1]Inserir_Dados!$E$21))))","v":3.48},{"$f":"(([1]Inserir_Dados!$E$11/3600)/4/PI()/$C$32)*expint1($G$32/4/$C$32/R42)","v":1.1298898738992589},0.11447545997288271]
[null,null,null,null,null,null,null,null,null,null,null,null,null,null,{"$f":"IF(P43>0,([1]Inserir_Dados!I36*60)/([1]Inserir_Dados!$E$12^2),O42)","v":67.5},{"$f":"IF((([1]Inserir_Dados!J36)/([1]Inserir_Dados!$E$21))<0.02,[1]Inserir_Dados!J36,IF(([1]Inserir_Dados!J36)/([1]Inserir_Dados!$E$21)<0.25,([1]Inserir_Dados!J36)-(([1]Inserir_Dados!J36^2)/(2*[1]Inserir_Dados!$E$21))))","v":3.49},{"$f":"(([1]Inserir_Dados!$E$11/3600)/4/PI()/$C$32)*expint1($G$32/4/$C$32/R43)","v":1.2167689362379412},0.13737055196745923]
[null,null,null,null,null,null,null,null,null,null,null,null,null,null,{"$f":"IF(P44>0,([1]Inserir_Dados!I37*60)/([1]Inserir_Dados!$E$12^2),O43)","v":75},{"$f":"IF((([1]Inserir_Dados!J37)/([1]Inserir_Dados!$E$21))<0.02,[1]Inserir_Dados!J37,IF(([1]Inserir_Dados!J37)/([1]Inserir_Dados!$E$21)<0.25,([1]Inserir_Dados!J37)-(([1]Inserir_Dados!J37^2)/(2*[1]Inserir_Dados!$E$21))))","v":3.5},{"$f":"(([1]Inserir_Dados!$E$11/3600)/4/PI()/$C$32)*expint1($G$32/4/$C$32/R44)","v":1.3044972837106945},0.16484466236095108]
[null,null,null,null,null,null,null,null,null,null,null,null,null,null,{"$f":"IF(P45>0,([1]Inserir_Dados!I38*60)/([1]Inserir_Dados!$E$12^2),O44)","v":82.5},{"$f":"IF((([1]Inserir_Dados!J38)/([1]Inserir_Dados!$E$21))<0.02,[1]Inserir_Dados!J38,IF(([1]Inserir_Dados!J38)/([1]Inserir_Dados!$E$21)<0.25,([1]Inserir_Dados!J38)-(([1]Inserir_Dados!J38^2)/(2*[1]Inserir_Dados!$E$21))))","v":3.51},{"$f":"(([1]Inserir_Dados!$E$11/3600)/4/PI()/$C$32)*expint1($G$32/4/$C$32/R45)","v":1.3929397242127275},0.19781359483314129]
[null,null,null,null,null,null,null,null,null,null,null,null,null,null,{"$f":"IF(P46>0,([1]Inserir_Dados!I39*60)/([1]Inserir_Dados!$E$12^2),O45)","v":90},{"$f":"IF((([1]Inserir_Dados!J39)/([1]Inserir_Dados!$E$21))<0.02,[1]Inserir_Dados!J39,IF(([1]Inserir_Dados!J39)/([1]Inserir_Dados!$E$21)<0.25,([1]Inserir_Dados!J39)-(([1]Inserir_Dados!J39^2)/(2*[1]Inserir_Dados!$E$21))))","v":3.51},{"$f":"(([1]Inserir_Dados!$E$11/3600)/4/PI()/$C$32)*expint1($G$32/4/$C$32/R46)","v":1.4819816920977602},0.23737631379976953]
[null,null,null,null,null,null,null,null,null,null,null,null,null,null,{"$f":"IF(P47>0,([1]Inserir_Dados!I40*60)/([1]Inserir_Dados!$E$12^2),O46)","v":97.5},{"$f":"IF((([1]Inserir_Dados!J40)/([1]Inserir_Dados!$E$21))<0.02,[1]Inserir_Dados!J40,IF(([1]Inserir_Dados!J40)/([1]Inserir_Dados!$E$21)<0.25,([1]Inserir_Dados!J40)-(([1]Inserir_Dados!J40^2)/(2*[1]Inserir_Dados!$E$21))))","v":3.51},{"$f":"(([1]Inserir_Dados!$E$11/3600)/4/PI()/$C$32)*expint1($G$32/4/$C$32/R47)","v":1.5715263775180612},0.28485157655972343]
[null,null,null,null,null,null,null,null,null,null,null,null,null,null,{"$f":"IF(P48>0,([1]Inserir_Dados!I41*60)/([1]Inserir_Dados!$E$12^2),O47)","v":105},{"$f":"IF((([1]Inserir_Dados!J41)/([1]Inserir_Dados!$E$21))<0.02,[1]Inserir_Dados!J41,IF(([1]Inserir_Dados!J41)/([1]Inserir_Dados!$E$21)<0.25,([1]Inserir_Dados!J41)-(([1]Inserir_Dados!J41^2)/(2*[1]Inserir_Dados!$E$21))))","v":3.51},{"$f":"(([1]Inserir_Dados!$E$11/3600)/4/PI()/$C$32)*expint1($G$32/4/$C$32/R48)","v":1.6614921672448983},0.34182189187166812]
[null,null,null,null,null,null,null,null,null,null,null,null,null,null,{"$f":"IF(P49>0,([1]Inserir_Dados!I42*60)/([1]Inserir_Dados!$E$12^2),O48)","v":112.5},{"$f":"IF((([1]Inserir_Dados!J42)/([1]Inserir_Dados!$E$21))<0.02,[1]Inserir_Dados!J42,IF(([1]Inserir_Dados!J42)/([1]Inserir_Dados!$E$21)<0.25,([1]Inserir_Dados!J42)-(([1]Inserir_Dados!J42^2)/(2*[1]Inserir_Dados!$E$21))))","v":3.51},{"$f":"(([1]Inserir_Dados!$E$11/3600)/4/PI()/$C$32)*expint1($G$32/4/$C$32/R49)","v":1.7518103934536984},{"$f":"R48*1.2","v":0.41018627024600174}]
[null,null,null,null,null,null,null,null,null,null,null,null,null,null,{"$f":"IF(P50>0,([1]Inserir_Dados!I43*60)/([1]Inserir_Dados!$E$12^2),O49)","v":120},{"$f":"IF((([1]Inserir_Dados!J43)/([1]Inserir_Dados!$E$21))<0.02,[1]Inserir_Dados!J43,IF(([1]Inserir_Dados!J43)/([1]Inserir_Dados!$E$21)<0.25,([1]Inserir_Dados!J43)-(([1]Inserir_Dados!J43^2)/(2*[1]Inserir_Dados!$E$21))))","v":3.51},{"$f":"(([1]Inserir_Dados!$E$11/3600)/4/PI()/$C$32)*expint1($G$32/4/$C$32/R50)","v":1.8424233738383231},0.49222352429520205]
[null,null,null,null,null,null,null,null,null,null,null,null,null,null,{"$f":"IF(P51>0,([1]Inserir_Dados!I44*60)/([1]Inserir_Dados!$E$12^2),O50)","v":127.5},{"$f":"IF((([1]Inserir_Dados!J44)/([1]Inserir_Dados!$E$21))<0.02,[1]Inserir_Dados!J44,IF(([1]Inserir_Dados!J44)/([1]Inserir_Dados!$E$21)<0.25,([1]Inserir_Dados!J44)-(([1]Inserir_Dados!J44^2)/(2*[1]Inserir_Dados!$E$21))))","v":3.51},{"$f":"(([1]Inserir_Dados!$E$11/3600)/4/PI()/$C$32)*expint1($G$32/4/$C$32/R51)","v":1.9332827192282753},0.59066822915424244]
[null,null,null,null,null,null,null,null,null,null,null,null,null,null,{"$f":"IF(P52>0,([1]Inserir_Dados!I45*60)/([1]Inserir_Dados!$E$12^2),O51)","v":135},{"$f":"IF((([1]Inserir_Dados!J45)/([1]Inserir_Dados!$E$21))<0.02,[1]Inserir_Dados!J45,IF(([1]Inserir_Dados!J45)/([1]Inserir_Dados!$E$21)<0.25,([1]Inserir_Dados!J45)-(([1]Inserir_Dados!J45^2)/(2*[1]Inserir_Dados!$E$21))))","v":3.51},{"$f":"(([1]Inserir_Dados!$E$11/3600)/4/PI()/$C$32)*expint1($G$32/4/$C$32/R52)","v":2.0243478816716447},0.70880187498509095]
[null,null,null,null,null,null,null,null,null,null,null,null,null,null,{"$f":"IF(P53>0,([1]Inserir_Dados!I46*60)/([1]Inserir_Dados!$E$12^2),O52)","v":142.5},{"$f":"IF((([1]Inserir_Dados!J46)/([1]Inserir_Dados!$E$21))<0.02,[1]Inserir_Dados!J46,IF(([1]Inserir_Dados!J46)/([1]Inserir_Dados!$E$21)<0.25,([1]Inserir_Dados!J46)-(([1]Inserir_Dados!J46^2)/(2*[1]Inserir_Dados!$E$21))))","v":3.51},{"$f":"(([1]Inserir_Dados!$E$11/3600)/4/PI()/$C$32)*expint1($G$32/4/$C$32/R53)","v":2.1155849153102553},0.85056224998210916]
[null,null,null,null,null,null,null,null,null,null,null,null,null,null,{"$f":"IF(P54>0,([1]Inserir_Dados!I47*60)/([1]Inserir_Dados!$E$12^2),O53)","v":150},{"$f":"IF((([1]Inserir_Dados!J47)/([1]Inserir_Dados!$E$21))<0.02,[1]Inserir_Dados!J47,IF(([1]Inserir_Dados!J47)/([1]Inserir_Dados!$E$21)<0.25,([1]Inserir_Dados!J47)-(([1]Inserir_Dados!J47^2)/(2*[1]Inserir_Dados!$E$21))))","v":3.51},{"$f":"(([1]Inserir_Dados!$E$11/3600)/4/PI()/$C$32)*expint1($G$32/4/$C$32/R54)","v":2.2069654233235498},1.020674699978531]
[null,null,null,null,null,null,null,null,null,null,null,null,null,null,{"$f":"IF(P55>0,([1]Inserir_Dados!I48*60)/([1]Inserir_Dados!$E$12^2),O54)","v":180},{"$f":"IF((([1]Inserir_Dados!J48)/([1]Inserir_Dados!$E$21))<0.02,[1]Inserir_Dados!J48,IF(([1]Inserir_Dados!J48)/([1]Inserir_Dados!$E$21)<0.25,([1]Inserir_Dados!J48)-(([1]Inserir_Dados!J48^2)/(2*[1]Inserir_Dados!$E$21))))","v":3.53},{"$f":"(([1]Inserir_Dados!$E$11/3600)/4/PI()/$C$32)*expint1($G$32/4/$C$32/R55)","v":2.2984656660751361},1.2248096399742372]
[null,null,null,null,null,null,null,null,null,null,null,null,null,null,{"$f":"IF(P56>0,([1]Inserir_Dados!I49*60)/([1]Inserir_Dados!$E$12^2),O55)","v":195},{"$f":"IF((([1]Inserir_Dados!J49)/([1]Inserir_Dados!$E$21))<0.02,[1]Inserir_Dados!J49,IF(([1]Inserir_Dados!J49)/([1]Inserir_Dados!$E$21)<0.25,([1]Inserir_Dados!J49)-(([1]Inserir_Dados!J49^2)/(2*[1]Inserir_Dados!$E$21))))","v":3.54},{"$f":"(([1]Inserir_Dados!$E$11/3600)/4/PI()/$C$32)*expint1($G$32/4/$C$32/R56)","v":2.3900658079060078},1.4697715679690846]
[null,null,null,null,null,null,null,null,null,null,null,null,null,null,{"$f":"IF(P57>0,([1]Inserir_Dados!I50*60)/([1]Inserir_Dados!$E$12^2),O56)","v":210},{"$f":"IF((([1]Inserir_Dados!J50)/([1]Inserir_Dados!$E$21))<0.02,[1]Inserir_Dados!J50,IF(([1]Inserir_Dados!J50)/([1]Inserir_Dados!$E$21)<0.25,([1]Inserir_Dados!J50)-(([1]Inserir_Dados!J50^2)/(2*[1]Inserir_Dados!$E$21))))","v":3.54},{"$f":"(([1]Inserir_Dados!$E$11/3600)/4/PI()/$C$32)*expint1($G$32/4/$C$32/R57)","v":2.4817492824857892},1.7637258815629016]
[null,null,null,null,null,null,null,null,null,null,null,null,null,null,{"$f":"IF(P58>0,([1]Inserir_Dados!I51*60)/([1]Inserir_Dados!$E$12^2),O57)","v":240},{"$f":"IF((([1]Inserir_Dados!J51)/([1]Inserir_Dados!$E$21))<0.02,[1]Inserir_Dados!J51,IF(([1]Inserir_Dados!J51)/([1]Inserir_Dados!$E$21)<0.25,([1]Inserir_Dados!J51)-(([1]Inserir_Dados!J51^2)/(2*[1]Inserir_Dados!$E$21))))","v":3.51},{"$f":"(([1]Inserir_Dados!$E$11/3600)/4/PI()/$C$32)*expint1($G$32/4/$C$32/R58)","v":2.57350225907367},2.116471057875482]
[null,null,null,null,null,null,null,null,null,null,null,null,null,null,{"$f":"IF(P59>0,([1]Inserir_Dados!I52*60)/([1]Inserir_Dados!$E$12^2),O58)","v":255},{"$f":"IF((([1]Inserir_Dados!J52)/([1]Inserir_Dados!$E$21))<0.02,[1]Inserir_Dados!J52,IF(([1]Inserir_Dados!J52)/([1]Inserir_Dados!$E$21)<0.25,([1]Inserir_Dados!J52)-(([1]Inserir_Dados!J52^2)/(2*[1]Inserir_Dados!$E$21))))","v":3.51},{"$f":"(([1]Inserir_Dados!$E$11/3600)/4/PI()/$C$32)*expint1($G$32/4/$C$32/R59)","v":2.6653131943454906},2.5397652694505783]
[null,null,null,null,null,null,null,null,null,null,null,null,null,null,{"$f":"IF(P60>0,([1]Inserir_Dados!I53*60)/([1]Inserir_Dados!$E$12^2),O59)","v":270},{"$f":"IF((([1]Inserir_Dados!J53)/([1]Inserir_Dados!$E$21))<0.02,[1]Inserir_Dados!J53,IF(([1]Inserir_Dados!J53)/([1]Inserir_Dados!$E$21)<0.25,([1]Inserir_Dados!J53)-(([1]Inserir_Dados!J53^2)/(2*[1]Inserir_Dados!$E$21))))","v":3.52},{"$f":"(([1]Inserir_Dados!$E$11/3600)/4/PI()/$C$32)*expint1($G$32/4/$C$32/R60)","v":2.7571724565550491},3.0477183233406939]
[null,null,null,null,null,null,null,null,null,null,null,null,null,null,{"$f":"IF(P61>0,([1]Inserir_Dados!I54*60)/([1]Inserir_Dados!$E$12^2),O60)","v":285},{"$f":"IF((([1]Inserir_Dados!J54)/([1]Inserir_Dados!$E$21))<0.02,[1]Inserir_Dados!J54,IF(([1]Inserir_Dados!J54)/([1]Inserir_Dados!$E$21)<0.25,([1]Inserir_Dados!J54)-(([1]Inserir_Dados!J54^2)/(2*[1]Inserir_Dados!$E$21))))","v":3.53},{"$f":"(([1]Inserir_Dados!$E$11/3600)/4/PI()/$C$32)*expint1($G$32/4/$C$32/R61)","v":2.8490720106914509},3.6572619880088326]
[null,null,null,null,null,null,null,null,null,null,null,null,null,null,{"$f":"IF(P62>0,([1]Inserir_Dados!I55*60)/([1]Inserir_Dados!$E$12^2),O61)","v":300},{"$f":"IF((([1]Inserir_Dados!J55)/([1]Inserir_Dados!$E$21))<0.02,[1]Inserir_Dados!J55,IF(([1]Inserir_Dados!J55)/([1]Inserir_Dados!$E$21)<0.25,([1]Inserir_Dados!J55)-(([1]Inserir_Dados!J55^2)/(2*[1]Inserir_Dados!$E$21))))","v":3.54},{"$f":"(([1]Inserir_Dados!$E$11/3600)/4/PI()/$C$32)*expint1($G$32/4/$C$32/R62)","v":2.9410051549664469},4.3887143856105988]
[null,null,null,null,null,null,null,null,null,null,null,null,null,null,{"$f":"IF(P63>0,([1]Inserir_Dados!I56*60)/([1]Inserir_Dados!$E$12^2),O62)","v":375},{"$f":"IF((([1]Inserir_Dados!J56)/([1]Inserir_Dados!$E$21))<0.02,[1]Inserir_Dados!J56,IF(([1]Inserir_Dados!J56)/([1]Inserir_Dados!$E$21)<0.25,([1]Inserir_Dados!J56)-(([1]Inserir_Dados!J56^2)/(2*[1]Inserir_Dados!$E$21))))","v":3.53},{"$f":"(([1]Inserir_Dados!$E$11/3600)/4/PI()/$C$32)*expint1($G$32/4/$C$32/R63)","v":3.0329663004249179},5.2664572627327182]
[null,null,null,null,null,null,null,null,null,null,null,null,null,null,{"$f":"IF(P64>0,([1]Inserir_Dados!I57*60)/([1]Inserir_Dados!$E$12^2),O63)","v":405},{"$f":"IF((([1]Inserir_Dados!J57)/([1]Inserir_Dados!$E$21))<0.02,[1]Inserir_Dados!J57,IF(([1]Inserir_Dados!J57)/([1]Inserir_Dados!$E$21)<0.25,([1]Inserir_Dados!J57)-(([1]Inserir_Dados!J57^2)/(2*[1]Inserir_Dados!$E$21))))","v":3.55},{"$f":"(([1]Inserir_Dados!$E$11/3600)/4/PI()/$C$32)*expint1($G$32/4/$C$32/R64)","v":3.1249507867336503},6.3197487152792613]
[null,null,null,null,null,null,null,null,null,null,null,null,null,null,{"$f":"IF(P65>0,([1]Inserir_Dados!I58*60)/([1]Inserir_Dados!$E$12^2),O64)","v":450},{"$f":"IF((([1]Inserir_Dados!J58)/([1]Inserir_Dados!$E$21))<0.02,[1]Inserir_Dados!J58,IF(([1]Inserir_Dados!J58)/([1]Inserir_Dados!$E$21)<0.25,([1]Inserir_Dados!J58)-(([1]Inserir_Dados!J58^2)/(2*[1]Inserir_Dados!$E$21))))","v":3.53},{"$f":"(([1]Inserir_Dados!$E$11/3600)/4/PI()/$C$32)*expint1($G$32/4/$C$32/R65)","v":3.2169547282873054},7.583698458335113]
[null,null,null,null,null,null,null,null,null,null,null,null,null,null,{"$f":"IF(P66>0,([1]Inserir_Dados!I59*60)/([1]Inserir_Dados!$E$12^2),O65)","v":472.5},{"$f":"IF((([1]Inserir_Dados!J59)/([1]Inserir_Dados!$E$21))<0.02,[1]Inserir_Dados!J59,IF(([1]Inserir_Dados!J59)/([1]Inserir_Dados!$E$21)<0.25,([1]Inserir_Dados!J59)-(([1]Inserir_Dados!J59^2)/(2*[1]Inserir_Dados!$E$21))))","v":3.53},{"$f":"(([1]Inserir_Dados!$E$11/3600)/4/PI()/$C$32)*expint1($G$32/4/$C$32/R66)","v":3.3089748856959935},9.1004381500021356]
[null,null,null,null,null,null,null,null,null,null,null,null,null,null,{"$f":"IF(P67>0,([1]Inserir_Dados!I60*60)/([1]Inserir_Dados!$E$12^2),O66)","v":525},{"$f":"IF((([1]Inserir_Dados!J60)/([1]Inserir_Dados!$E$21))<0.02,[1]Inserir_Dados!J60,IF(([1]Inserir_Dados!J60)/([1]Inserir_Dados!$E$21)<0.25,([1]Inserir_Dados!J60)-(([1]Inserir_Dados!J60^2)/(2*[1]Inserir_Dados!$E$21))))","v":3.55},{"$f":"(([1]Inserir_Dados!$E$11/3600)/4/PI()/$C$32)*expint1($G$32/4/$C$32/R67)","v":3.4010085585057452},10.920525780002562]
[null,null,null,null,null,null,null,null,null,null,null,null,null,null,{"$f":"IF(P68>0,([1]Inserir_Dados!I61*60)/([1]Inserir_Dados!$E$12^2),O67)","v":600},{"$f":"IF((([1]Inserir_Dados!J61)/([1]Inserir_Dados!$E$21))<0.02,[1]Inserir_Dados!J61,IF(([1]Inserir_Dados!J61)/([1]Inserir_Dados!$E$21)<0.25,([1]Inserir_Dados!J61)-(([1]Inserir_Dados!J61^2)/(2*[1]Inserir_Dados!$E$21))))","v":3.55},{"$f":"(([1]Inserir_Dados!$E$11/3600)/4/PI()/$C$32)*expint1($G$32/4/$C$32/R68)","v":3.4930534956697596},13.104630936003074]
[null,null,null,null,null,null,null,null,null,null,null,null,null,null,{"$f":"IF(P69>0,([1]Inserir_Dados!I62*60)/([1]Inserir_Dados!$E$12^2),O68)","v":621},{"$f":"IF((([1]Inserir_Dados!J62)/([1]Inserir_Dados!$E$21))<0.02,[1]Inserir_Dados!J62,IF(([1]Inserir_Dados!J62)/([1]Inserir_Dados!$E$21)<0.25,([1]Inserir_Dados!J62)-(([1]Inserir_Dados!J62^2)/(2*[1]Inserir_Dados!$E$21))))","v":3.55},{"$f":"(([1]Inserir_Dados!$E$11/3600)/4/PI()/$C$32)*expint1($G$32/4/$C$32/R69)","v":3.5851078208513751},15.725557123203689]
[null,null,null,null,null,null,null,null,null,null,null,null,null,null,{"$f":"IF(P70>0,([1]Inserir_Dados!I63*60)/([1]Inserir_Dados!$E$12^2),O69)","v":621},{"$f":"IF((([1]Inserir_Dados!J63)/([1]Inserir_Dados!$E$21))<0.02,[1]Inserir_Dados!J63,IF(([1]Inserir_Dados!J63)/([1]Inserir_Dados!$E$21)<0.25,([1]Inserir_Dados!J63)-(([1]Inserir_Dados!J63^2)/(2*[1]Inserir_Dados!$E$21))))","v":0},{"$f":"(([1]Inserir_Dados!$E$11/3600)/4/PI()/$C$32)*expint1($G$32/4/$C$32/R70)","v":3.6771699701142024},18.870668547844428]
[null,null,null,null,null,null,null,null,null,null,null,null,null,null,{"$f":"IF(P71>0,([1]Inserir_Dados!I64*60)/([1]Inserir_Dados!$E$12^2),O70)","v":621},{"$f":"IF((([1]Inserir_Dados!J64)/([1]Inserir_Dados!$E$21))<0.02,[1]Inserir_Dados!J64,IF(([1]Inserir_Dados!J64)/([1]Inserir_Dados!$E$21)<0.25,([1]Inserir_Dados!J64)-(([1]Inserir_Dados!J64^2)/(2*[1]Inserir_Dados!$E$21))))","v":0},{"$f":"(([1]Inserir_Dados!$E$11/3600)/4/PI()/$C$32)*expint1($G$32/4/$C$32/R71)","v":3.7692386399539255},22.644802257413314]
[null,null,null,null,null,null,null,null,null,null,null,null,null,null,{"$f":"IF(P72>0,([1]Inserir_Dados!I65*60)/([1]Inserir_Dados!$E$12^2),O71)","v":621},{"$f":"IF((([1]Inserir_Dados!J65)/([1]Inserir_Dados!$E$21))<0.02,[1]Inserir_Dados!J65,IF(([1]Inserir_Dados!J65)/([1]Inserir_Dados!$E$21)<0.25,([1]Inserir_Dados!J65)-(([1]Inserir_Dados!J65^2)/(2*[1]Inserir_Dados!$E$21))))","v":0},{"$f":"(([1]Inserir_Dados!$E$11/3600)/4/PI()/$C$32)*expint1($G$32/4/$C$32/R72)","v":3.8613127439613764},27.173762708895975]
[null,null,null,null,null,null,null,null,null,null,null,null,null,null,{"$f":"IF(P73>0,([1]Inserir_Dados!I66*60)/([1]Inserir_Dados!$E$12^2),O72)","v":621},{"$f":"IF((([1]Inserir_Dados!J66)/([1]Inserir_Dados!$E$21))<0.02,[1]Inserir_Dados!J66,IF(([1]Inserir_Dados!J66)/([1]Inserir_Dados!$E$21)<0.25,([1]Inserir_Dados!J66)-(([1]Inserir_Dados!J66^2)/(2*[1]Inserir_Dados!$E$21))))","v":0},{"$f":"(([1]Inserir_Dados!$E$11/3600)/4/PI()/$C$32)*expint1($G$32/4/$C$32/R73)","v":3.9533913766875393},32.608515250675168]
[null,null,null,null,null,null,null,null,null,null,null,null,null,null,{"$f":"IF(P74>0,([1]Inserir_Dados!I67*60)/([1]Inserir_Dados!$E$12^2),O73)","v":621},{"$f":"IF((([1]Inserir_Dados!J67)/([1]Inserir_Dados!$E$21))<0.02,[1]Inserir_Dados!J67,IF(([1]Inserir_Dados!J67)/([1]Inserir_Dados!$E$21)<0.25,([1]Inserir_Dados!J67)-(([1]Inserir_Dados!J67^2)/(2*[1]Inserir_Dados!$E$21))))","v":0},{"$f":"(([1]Inserir_Dados!$E$11/3600)/4/PI()/$C$32)*expint1($G$32/4/$C$32/R74)","v":4.0454737835165284},39.130218300810199]
[null,null,null,null,null,null,null,null,null,null,null,null,null,null,{"$f":"IF(P75>0,([1]Inserir_Dados!I68*60)/([1]Inserir_Dados!$E$12^2),O74)","v":621},{"$f":"IF((([1]Inserir_Dados!J68)/([1]Inserir_Dados!$E$21))<0.02,[1]Inserir_Dados!J68,IF(([1]Inserir_Dados!J68)/([1]Inserir_Dados!$E$21)<0.25,([1]Inserir_Dados!J68)-(([1]Inserir_Dados!J68^2)/(2*[1]Inserir_Dados!$E$21))))","v":0},{"$f":"(([1]Inserir_Dados!$E$11/3600)/4/PI()/$C$32)*expint1($G$32/4/$C$32/R75)","v":4.1375593355496605},46.956261960972235]
[null,null,null,null,null,null,null,null,null,null,null,null,null,null,{"$f":"IF(P76>0,([1]Inserir_Dados!I69*60)/([1]Inserir_Dados!$E$12^2),O75)","v":621},{"$f":"IF((([1]Inserir_Dados!J69)/([1]Inserir_Dados!$E$21))<0.02,[1]Inserir_Dados!J69,IF(([1]Inserir_Dados!J69)/([1]Inserir_Dados!$E$21)<0.25,([1]Inserir_Dados!J69)-(([1]Inserir_Dados!J69^2)/(2*[1]Inserir_Dados!$E$21))))","v":0},{"$f":"(([1]Inserir_Dados!$E$11/3600)/4/PI()/$C$32)*expint1($G$32/4/$C$32/R76)","v":4.2296475086685081},56.34751435316668]
[null,null,null,null,null,null,null,null,null,null,null,null,null,null,{"$f":"IF(P77>0,([1]Inserir_Dados!I70*60)/([1]Inserir_Dados!$E$12^2),O76)","v":621},{"$f":"IF((([1]Inserir_Dados!J70)/([1]Inserir_Dados!$E$21))<0.02,[1]Inserir_Dados!J70,IF(([1]Inserir_Dados!J70)/([1]Inserir_Dados!$E$21)<0.25,([1]Inserir_Dados!J70)-(([1]Inserir_Dados!J70^2)/(2*[1]Inserir_Dados!$E$21))))","v":0},{"$f":"(([1]Inserir_Dados!$E$11/3600)/4/PI()/$C$32)*expint1($G$32/4/$C$32/R77)","v":4.3217378660825796},67.617017223800019]
[null,null,null,null,null,null,null,null,null,null,null,null,null,null,{"$f":"IF(P78>0,([1]Inserir_Dados!I71*60)/([1]Inserir_Dados!$E$12^2),O77)","v":621},{"$f":"IF((([1]Inserir_Dados!J71)/([1]Inserir_Dados!$E$21))<0.02,[1]Inserir_Dados!J71,IF(([1]Inserir_Dados!J71)/([1]Inserir_Dados!$E$21)<0.25,([1]Inserir_Dados!J71)-(([1]Inserir_Dados!J71^2)/(2*[1]Inserir_Dados!$E$21))))","v":0},{"$f":"(([1]Inserir_Dados!$E$11/3600)/4/PI()/$C$32)*expint1($G$32/4/$C$32/R78)","v":4.4138300437823457},81.140420668560026]
[null,null,null,null,null,null,null,null,null,null,null,null,null,null,{"$f":"IF(P79>0,([1]Inserir_Dados!I72*60)/([1]Inserir_Dados!$E$12^2),O78)","v":621},{"$f":"IF((([1]Inserir_Dados!J72)/([1]Inserir_Dados!$E$21))<0.02,[1]Inserir_Dados!J72,IF(([1]Inserir_Dados!J72)/([1]Inserir_Dados!$E$21)<0.25,([1]Inserir_Dados!J72)-(([1]Inserir_Dados!J72^2)/(2*[1]Inserir_Dados!$E$21))))","v":0},{"$f":"(([1]Inserir_Dados!$E$11/3600)/4/PI()/$C$32)*expint1($G$32/4/$C$32/R79)","v":4.505923738414408},97.368504802272028]
[null,null,null,null,null,null,null,null,null,null,null,null,null,null,{"$f":"IF(P80>0,([1]Inserir_Dados!I73*60)/([1]Inserir_Dados!$E$12^2),O79)","v":621},{"$f":"IF((([1]Inserir_Dados!J73)/([1]Inserir_Dados!$E$21))<0.02,[1]Inserir_Dados!J73,IF(([1]Inserir_Dados!J73)/([1]Inserir_Dados!$E$21)<0.25,([1]Inserir_Dados!J73)-(([1]Inserir_Dados!J73^2)/(2*[1]Inserir_Dados!$E$21))))","v":0},{"$f":"(([1]Inserir_Dados!$E$11/3600)/4/PI()/$C$32)*expint1($G$32/4/$C$32/R80)","v":4.5980186971758519},116.84220576272642]
[null,null,null,null,null,null,null,null,null,null,null,null,null,null,{"$f":"IF(P81>0,([1]Inserir_Dados!I74*60)/([1]Inserir_Dados!$E$12^2),O80)","v":621},{"$f":"IF((([1]Inserir_Dados!J74)/([1]Inserir_Dados!$E$21))<0.02,[1]Inserir_Dados!J74,IF(([1]Inserir_Dados!J74)/([1]Inserir_Dados!$E$21)<0.25,([1]Inserir_Dados!J74)-(([1]Inserir_Dados!J74^2)/(2*[1]Inserir_Dados!$E$21))))","v":0},{"$f":"(([1]Inserir_Dados!$E$11/3600)/4/PI()/$C$32)*expint1($G$32/4/$C$32/R81)","v":4.6901147093917332},{"$f":"R80*1.2","v":140.2106469152717}]
[null,null,null,null,null,null,null,null,null,null,null,null,null,null,{"$f":"IF(P82>0,([1]Inserir_Dados!I75*60)/([1]Inserir_Dados!$E$12^2),O81)","v":621},{"$f":"IF((([1]Inserir_Dados!J75)/([1]Inserir_Dados!$E$21))<0.02,[1]Inserir_Dados!J75,IF(([1]Inserir_Dados!J75)/([1]Inserir_Dados!$E$21)<0.25,([1]Inserir_Dados!J75)-(([1]Inserir_Dados!J75^2)/(2*[1]Inserir_Dados!$E$21))))","v":0},{"$f":"(([1]Inserir_Dados!$E$11/3600)/4/PI()/$C$32)*expint1($G$32/4/$C$32/R82)","v":4.7822115994955405},168.25277629832604]
[null,null,null,null,null,null,null,null,null,null,null,null,null,null,{"$f":"IF(P83>0,([1]Inserir_Dados!I76*60)/([1]Inserir_Dados!$E$12^2),O82)","v":621},{"$f":"IF((([1]Inserir_Dados!J76)/([1]Inserir_Dados!$E$21))<0.02,[1]Inserir_Dados!J76,IF(([1]Inserir_Dados!J76)/([1]Inserir_Dados!$E$21)<0.25,([1]Inserir_Dados!J76)-(([1]Inserir_Dados!J76^2)/(2*[1]Inserir_Dados!$E$21))))","v":0},{"$f":"(([1]Inserir_Dados!$E$11/3600)/4/PI()/$C$32)*expint1($G$32/4/$C$32/R83)","v":4.8743092211790247},201.90333155799124]
[null,null,null,null,null,null,null,null,null,null,null,null,null,null,{"$f":"IF(P84>0,([1]Inserir_Dados!I77*60)/([1]Inserir_Dados!$E$12^2),O83)","v":621},{"$f":"IF((([1]Inserir_Dados!J77)/([1]Inserir_Dados!$E$21))<0.02,[1]Inserir_Dados!J77,IF(([1]Inserir_Dados!J77)/([1]Inserir_Dados!$E$21)<0.25,([1]Inserir_Dados!J77)-(([1]Inserir_Dados!J77^2)/(2*[1]Inserir_Dados!$E$21))))","v":0},{"$f":"(([1]Inserir_Dados!$E$11/3600)/4/PI()/$C$32)*expint1($G$32/4/$C$32/R84)","v":4.9664074525166937},242.28399786958948]
[null,null,null,null,null,null,null,null,null,null,null,null,null,null,{"$f":"IF(P85>0,([1]Inserir_Dados!I78*60)/([1]Inserir_Dados!$E$12^2),O84)","v":621},{"$f":"IF((([1]Inserir_Dados!J78)/([1]Inserir_Dados!$E$21))<0.02,[1]Inserir_Dados!J78,IF(([1]Inserir_Dados!J78)/([1]Inserir_Dados!$E$21)<0.25,([1]Inserir_Dados!J78)-(([1]Inserir_Dados!J78^2)/(2*[1]Inserir_Dados!$E$21))))","v":0},{"$f":"(([1]Inserir_Dados!$E$11/3600)/4/PI()/$C$32)*expint1($G$32/4/$C$32/R85)","v":5.0585061919026053},290.74079744350735]
[null,null,null,null,null,null,null,null,null,null,null,null,null,null,{"$f":"IF(P86>0,([1]Inserir_Dados!I79*60)/([1]Inserir_Dados!$E$12^2),O85)","v":621},{"$f":"IF((([1]Inserir_Dados!J79)/([1]Inserir_Dados!$E$21))<0.02,[1]Inserir_Dados!J79,IF(([1]Inserir_Dados!J79)/([1]Inserir_Dados!$E$21)<0.25,([1]Inserir_Dados!J79)-(([1]Inserir_Dados!J79^2)/(2*[1]Inserir_Dados!$E$21))))","v":0},{"$f":"(([1]Inserir_Dados!$E$11/3600)/4/PI()/$C$32)*expint1($G$32/4/$C$32/R86)","v":5.1506053546641972},348.88895693220883]
[null,null,null,null,null,null,null,null,null,null,null,null,null,null,{"$f":"IF(P87>0,([1]Inserir_Dados!I80*60)/([1]Inserir_Dados!$E$12^2),O86)","v":621},{"$f":"IF((([1]Inserir_Dados!J80)/([1]Inserir_Dados!$E$21))<0.02,[1]Inserir_Dados!J80,IF(([1]Inserir_Dados!J80)/([1]Inserir_Dados!$E$21)<0.25,([1]Inserir_Dados!J80)-(([1]Inserir_Dados!J80^2)/(2*[1]Inserir_Dados!$E$21))))","v":0},{"$f":"(([1]Inserir_Dados!$E$11/3600)/4/PI()/$C$32)*expint1($G$32/4/$C$32/R87)","v":5.242704870240348},418.6667483186506]
[null,null,null,null,null,null,null,null,null,null,null,null,null,null,{"$f":"IF(P88>0,([1]Inserir_Dados!I81*60)/([1]Inserir_Dados!$E$12^2),O87)","v":621},{"$f":"IF((([1]Inserir_Dados!J81)/([1]Inserir_Dados!$E$21))<0.02,[1]Inserir_Dados!J81,IF(([1]Inserir_Dados!J81)/([1]Inserir_Dados!$E$21)<0.25,([1]Inserir_Dados!J81)-(([1]Inserir_Dados!J81^2)/(2*[1]Inserir_Dados!$E$21))))","v":0},{"$f":"(([1]Inserir_Dados!$E$11/3600)/4/PI()/$C$32)*expint1($G$32/4/$C$32/R88)","v":5.3348046798296664},502.40009798238071]
[null,null,null,null,null,null,null,null,null,null,null,null,null,null,{"$f":"IF(P89>0,([1]Inserir_Dados!I82*60)/([1]Inserir_Dados!$E$12^2),O88)","v":621},{"$f":"IF((([1]Inserir_Dados!J82)/([1]Inserir_Dados!$E$21))<0.02,[1]Inserir_Dados!J82,IF(([1]Inserir_Dados!J82)/([1]Inserir_Dados!$E$21)<0.25,([1]Inserir_Dados!J82)-(([1]Inserir_Dados!J82^2)/(2*[1]Inserir_Dados!$E$21))))","v":0},{"$f":"(([1]Inserir_Dados!$E$11/3600)/4/PI()/$C$32)*expint1($G$32/4/$C$32/R89)","v":5.426904734430674},602.88011757885681]
[null,null,null,null,null,null,null,null,null,null,null,null,null,null,{"$f":"IF(P90>0,([1]Inserir_Dados!I83*60)/([1]Inserir_Dados!$E$12^2),O89)","v":621},{"$f":"IF((([1]Inserir_Dados!J83)/([1]Inserir_Dados!$E$21))<0.02,[1]Inserir_Dados!J83,IF(([1]Inserir_Dados!J83)/([1]Inserir_Dados!$E$21)<0.25,([1]Inserir_Dados!J83)-(([1]Inserir_Dados!J83^2)/(2*[1]Inserir_Dados!$E$21))))","v":0},{"$f":"(([1]Inserir_Dados!$E$11/3600)/4/PI()/$C$32)*expint1($G$32/4/$C$32/R90)","v":5.5190049932085907},723.45614109462815]
[null,null,null,null,null,null,null,null,null,null,null,null,null,null,{"$f":"IF(P91>0,([1]Inserir_Dados!I84*60)/([1]Inserir_Dados!$E$12^2),O90)","v":621},{"$f":"IF((([1]Inserir_Dados!J84)/([1]Inserir_Dados!$E$21))<0.02,[1]Inserir_Dados!J84,IF(([1]Inserir_Dados!J84)/([1]Inserir_Dados!$E$21)<0.25,([1]Inserir_Dados!J84)-(([1]Inserir_Dados!J84^2)/(2*[1]Inserir_Dados!$E$21))))","v":0},{"$f":"(([1]Inserir_Dados!$E$11/3600)/4/PI()/$C$32)*expint1($G$32/4/$C$32/R91)","v":5.611105422134278},868.14736931355378]
[null,null,null,null,null,null,null,null,null,null,null,null,null,null,{"$f":"IF(P92>0,([1]Inserir_Dados!I85*60)/([1]Inserir_Dados!$E$12^2),O91)","v":621},{"$f":"IF((([1]Inserir_Dados!J85)/([1]Inserir_Dados!$E$21))<0.02,[1]Inserir_Dados!J85,IF(([1]Inserir_Dados!J85)/([1]Inserir_Dados!$E$21)<0.25,([1]Inserir_Dados!J85)-(([1]Inserir_Dados!J85^2)/(2*[1]Inserir_Dados!$E$21))))","v":0},{"$f":"(([1]Inserir_Dados!$E$11/3600)/4/PI()/$C$32)*expint1($G$32/4/$C$32/R92)","v":5.7032059928500152},1041.7768431762645]
[null,null,null,null,null,null,null,null,null,null,null,null,null,null,{"$f":"IF(P93>0,([1]Inserir_Dados!I86*60)/([1]Inserir_Dados!$E$12^2),O92)","v":621},{"$f":"IF((([1]Inserir_Dados!J86)/([1]Inserir_Dados!$E$21))<0.02,[1]Inserir_Dados!J86,IF(([1]Inserir_Dados!J86)/([1]Inserir_Dados!$E$21)<0.25,([1]Inserir_Dados!J86)-(([1]Inserir_Dados!J86^2)/(2*[1]Inserir_Dados!$E$21))))","v":0},{"$f":"(([1]Inserir_Dados!$E$11/3600)/4/PI()/$C$32)*expint1($G$32/4/$C$32/R93)","v":5.7953066817242931},1250.1322118115174]
[null,null,null,null,null,null,null,null,null,null,null,null,null,null,{"$f":"IF(P94>0,([1]Inserir_Dados!I87*60)/([1]Inserir_Dados!$E$12^2),O93)","v":621},{"$f":"IF((([1]Inserir_Dados!J87)/([1]Inserir_Dados!$E$21))<0.02,[1]Inserir_Dados!J87,IF(([1]Inserir_Dados!J87)/([1]Inserir_Dados!$E$21)<0.25,([1]Inserir_Dados!J87)-(([1]Inserir_Dados!J87^2)/(2*[1]Inserir_Dados!$E$21))))","v":0},{"$f":"(([1]Inserir_Dados!$E$11/3600)/4/PI()/$C$32)*expint1($G$32/4/$C$32/R94)","v":5.8874074690641391},1500.1586541738209]
[null,null,null,null,null,null,null,null,null,null,null,null,null,null,{"$f":"IF(P95>0,([1]Inserir_Dados!I88*60)/([1]Inserir_Dados!$E$12^2),O94)","v":621},{"$f":"IF((([1]Inserir_Dados!J88)/([1]Inserir_Dados!$E$21))<0.02,[1]Inserir_Dados!J88,IF(([1]Inserir_Dados!J88)/([1]Inserir_Dados!$E$21)<0.25,([1]Inserir_Dados!J88)-(([1]Inserir_Dados!J88^2)/(2*[1]Inserir_Dados!$E$21))))","v":0},{"$f":"(([1]Inserir_Dados!$E$11/3600)/4/PI()/$C$32)*expint1($G$32/4/$C$32/R95)","v":5.9795083384587038},1800.1903850085851]
[null,null,null,null,null,null,null,null,null,null,null,null,null,null,{"$f":"IF(P96>0,([1]Inserir_Dados!I89*60)/([1]Inserir_Dados!$E$12^2),O95)","v":621},{"$f":"IF((([1]Inserir_Dados!J89)/([1]Inserir_Dados!$E$21))<0.02,[1]Inserir_Dados!J89,IF(([1]Inserir_Dados!J89)/([1]Inserir_Dados!$E$21)<0.25,([1]Inserir_Dados!J89)-(([1]Inserir_Dados!J89^2)/(2*[1]Inserir_Dados!$E$21))))","v":0},{"$f":"(([1]Inserir_Dados!$E$11/3600)/4/PI()/$C$32)*expint1($G$32/4/$C$32/R96)","v":6.071609276232258},2160.2284620103019]
[null,null,null,null,null,null,null,null,null,null,null,null,null,null,{"$f":"IF(P97>0,([1]Inserir_Dados!I90*60)/([1]Inserir_Dados!$E$12^2),O96)","v":621},{"$f":"IF((([1]Inserir_Dados!J90)/([1]Inserir_Dados!$E$21))<0.02,[1]Inserir_Dados!J90,IF(([1]Inserir_Dados!J90)/([1]Inserir_Dados!$E$21)<0.25,([1]Inserir_Dados!J90)-(([1]Inserir_Dados!J90^2)/(2*[1]Inserir_Dados!$E$21))))","v":0},{"$f":"(([1]Inserir_Dados!$E$11/3600)/4/PI()/$C$32)*expint1($G$32/4/$C$32/R97)","v":6.1637102709883429},2592.2741544123623]
[null,null,null,null,null,null,null,null,null,null,null,null,null,null,{"$f":"IF(P98>0,([1]Inserir_Dados!I91*60)/([1]Inserir_Dados!$E$12^2),O97)","v":621},{"$f":"IF((([1]Inserir_Dados!J91)/([1]Inserir_Dados!$E$21))<0.02,[1]Inserir_Dados!J91,IF(([1]Inserir_Dados!J91)/([1]Inserir_Dados!$E$21)<0.25,([1]Inserir_Dados!J91)-(([1]Inserir_Dados!J91^2)/(2*[1]Inserir_Dados!$E$21))))","v":0},{"$f":"(([1]Inserir_Dados!$E$11/3600)/4/PI()/$C$32)*expint1($G$32/4/$C$32/R98)","v":6.2558113132298958},3110.7289852948347]
[null,null,null,null,null,null,null,null,null,null,null,null,null,null,{"$f":"IF(P99>0,([1]Inserir_Dados!I92*60)/([1]Inserir_Dados!$E$12^2),O98)","v":621},{"$f":"IF((([1]Inserir_Dados!J92)/([1]Inserir_Dados!$E$21))<0.02,[1]Inserir_Dados!J92,IF(([1]Inserir_Dados!J92)/([1]Inserir_Dados!$E$21)<0.25,([1]Inserir_Dados!J92)-(([1]Inserir_Dados!J92^2)/(2*[1]Inserir_Dados!$E$21))))","v":0},{"$f":"(([1]Inserir_Dados!$E$11/3600)/4/PI()/$C$32)*expint1($G$32/4/$C$32/R99)","v":6.3479123950426928},3732.8747823538015]
[null,null,null,null,null,null,null,null,null,null,null,null,null,null,{"$f":"IF(P100>0,([1]Inserir_Dados!I93*60)/([1]Inserir_Dados!$E$12^2),O99)","v":621},{"$f":"IF((([1]Inserir_Dados!J93)/([1]Inserir_Dados!$E$21))<0.02,[1]Inserir_Dados!J93,IF(([1]Inserir_Dados!J93)/([1]Inserir_Dados!$E$21)<0.25,([1]Inserir_Dados!J93)-(([1]Inserir_Dados!J93^2)/(2*[1]Inserir_Dados!$E$21))))","v":0},{"$f":"(([1]Inserir_Dados!$E$11/3600)/4/PI()/$C$32)*expint1($G$32/4/$C$32/R100)","v":6.4400135098315374},4479.4497388245618]
[null,null,null,null,null,null,null,null,null,null,null,null,null,null,{"$f":"IF(P101>0,([1]Inserir_Dados!I94*60)/([1]Inserir_Dados!$E$12^2),O100)","v":621},{"$f":"IF((([1]Inserir_Dados!J94)/([1]Inserir_Dados!$E$21))<0.02,[1]Inserir_Dados!J94,IF(([1]Inserir_Dados!J94)/([1]Inserir_Dados!$E$21)<0.25,([1]Inserir_Dados!J94)-(([1]Inserir_Dados!J94^2)/(2*[1]Inserir_Dados!$E$21))))","v":0},{"$f":"(([1]Inserir_Dados!$E$11/3600)/4/PI()/$C$32)*expint1($G$32/4/$C$32/R101)","v":6.5321146521004305},5375.3396865894738]
[null,null,null,null,null,null,null,null,null,null,null,null,null,null,{"$f":"IF(P102>0,([1]Inserir_Dados!I95*60)/([1]Inserir_Dados!$E$12^2),O101)","v":621},{"$f":"IF((([1]Inserir_Dados!J95)/([1]Inserir_Dados!$E$21))<0.02,[1]Inserir_Dados!J95,IF(([1]Inserir_Dados!J95)/([1]Inserir_Dados!$E$21)<0.25,([1]Inserir_Dados!J95)-(([1]Inserir_Dados!J95^2)/(2*[1]Inserir_Dados!$E$21))))","v":0},{"$f":"(([1]Inserir_Dados!$E$11/3600)/4/PI()/$C$32)*expint1($G$32/4/$C$32/R102)","v":6.6242158172693717},6450.4076239073684]
[null,null,null,null,null,null,null,null,null,null,null,null,null,null,{"$f":"IF(P103>0,([1]Inserir_Dados!I96*60)/([1]Inserir_Dados!$E$12^2),O102)","v":621},{"$f":"IF((([1]Inserir_Dados!J96)/([1]Inserir_Dados!$E$21))<0.02,[1]Inserir_Dados!J96,IF(([1]Inserir_Dados!J96)/([1]Inserir_Dados!$E$21)<0.25,([1]Inserir_Dados!J96)-(([1]Inserir_Dados!J96^2)/(2*[1]Inserir_Dados!$E$21))))","v":0},{"$f":"(([1]Inserir_Dados!$E$11/3600)/4/PI()/$C$32)*expint1($G$32/4/$C$32/R103)","v":6.7163170015216913},7740.4891486888419]
[null,null,null,null,null,null,null,null,null,null,null,null,null,null,{"$f":"IF(P104>0,([1]Inserir_Dados!I97*60)/([1]Inserir_Dados!$E$12^2),O103)","v":621},{"$f":"IF((([1]Inserir_Dados!J97)/([1]Inserir_Dados!$E$21))<0.02,[1]Inserir_Dados!J97,IF(([1]Inserir_Dados!J97)/([1]Inserir_Dados!$E$21)<0.25,([1]Inserir_Dados!J97)-(([1]Inserir_Dados!J97^2)/(2*[1]Inserir_Dados!$E$21))))","v":0},{"$f":"(([1]Inserir_Dados!$E$11/3600)/4/PI()/$C$32)*expint1($G$32/4/$C$32/R104)","v":6.8084182016768278},9288.5869784266106]
[null,null,null,null,null,null,null,null,null,null,null,null,null,null,{"$f":"IF(P105>0,([1]Inserir_Dados!I98*60)/([1]Inserir_Dados!$E$12^2),O104)","v":621},{"$f":"IF((([1]Inserir_Dados!J98)/([1]Inserir_Dados!$E$21))<0.02,[1]Inserir_Dados!J98,IF(([1]Inserir_Dados!J98)/([1]Inserir_Dados!$E$21)<0.25,([1]Inserir_Dados!J98)-(([1]Inserir_Dados!J98^2)/(2*[1]Inserir_Dados!$E$21))))","v":0},{"$f":"(([1]Inserir_Dados!$E$11/3600)/4/PI()/$C$32)*expint1($G$32/4/$C$32/R105)","v":6.9005194150843137},11146.304374111933]
[null,null,null,null,null,null,null,null,null,null,null,null,null,null,{"$f":"IF(P106>0,([1]Inserir_Dados!I99*60)/([1]Inserir_Dados!$E$12^2),O105)","v":621},{"$f":"IF((([1]Inserir_Dados!J99)/([1]Inserir_Dados!$E$21))<0.02,[1]Inserir_Dados!J99,IF(([1]Inserir_Dados!J99)/([1]Inserir_Dados!$E$21)<0.25,([1]Inserir_Dados!J99)-(([1]Inserir_Dados!J99^2)/(2*[1]Inserir_Dados!$E$21))))","v":0},{"$f":"(([1]Inserir_Dados!$E$11/3600)/4/PI()/$C$32)*expint1($G$32/4/$C$32/R106)","v":6.9926206395354269},13375.565248934319]
[null,null,null,null,null,null,null,null,null,null,null,null,null,null,{"$f":"IF(P107>0,([1]Inserir_Dados!I100*60)/([1]Inserir_Dados!$E$12^2),O106)","v":621},{"$f":"IF((([1]Inserir_Dados!J100)/([1]Inserir_Dados!$E$21))<0.02,[1]Inserir_Dados!J100,IF(([1]Inserir_Dados!J100)/([1]Inserir_Dados!$E$21)<0.25,([1]Inserir_Dados!J100)-(([1]Inserir_Dados!J100^2)/(2*[1]Inserir_Dados!$E$21))))","v":0},{"$f":"(([1]Inserir_Dados!$E$11/3600)/4/PI()/$C$32)*expint1($G$32/4/$C$32/R107)","v":7.0847218731895625},16050.678298721183]
[null,null,null,null,null,null,null,null,null,null,null,null,null,null,{"$f":"IF(P108>0,([1]Inserir_Dados!I101*60)/([1]Inserir_Dados!$E$12^2),O107)","v":621},{"$f":"IF((([1]Inserir_Dados!J101)/([1]Inserir_Dados!$E$21))<0.02,[1]Inserir_Dados!J101,IF(([1]Inserir_Dados!J101)/([1]Inserir_Dados!$E$21)<0.25,([1]Inserir_Dados!J101)-(([1]Inserir_Dados!J101^2)/(2*[1]Inserir_Dados!$E$21))))","v":0},{"$f":"(([1]Inserir_Dados!$E$11/3600)/4/PI()/$C$32)*expint1($G$32/4/$C$32/R108)","v":7.1768231145128842},19260.81395846542]
[null,null,null,null,null,null,null,null,null,null,null,null,null,null,{"$f":"IF(P109>0,([1]Inserir_Dados!I102*60)/([1]Inserir_Dados!$E$12^2),O108)","v":621},{"$f":"IF((([1]Inserir_Dados!J102)/([1]Inserir_Dados!$E$21))<0.02,[1]Inserir_Dados!J102,IF(([1]Inserir_Dados!J102)/([1]Inserir_Dados!$E$21)<0.25,([1]Inserir_Dados!J102)-(([1]Inserir_Dados!J102^2)/(2*[1]Inserir_Dados!$E$21))))","v":0},{"$f":"(([1]Inserir_Dados!$E$11/3600)/4/PI()/$C$32)*expint1($G$32/4/$C$32/R109)","v":7.2689243622271968},23112.976750158505]
[null,null,null,null,null,null,null,null,null,null,null,null,null,null,{"$f":"IF(P110>0,([1]Inserir_Dados!I103*60)/([1]Inserir_Dados!$E$12^2),O109)","v":621},{"$f":"IF((([1]Inserir_Dados!J103)/([1]Inserir_Dados!$E$21))<0.02,[1]Inserir_Dados!J103,IF(([1]Inserir_Dados!J103)/([1]Inserir_Dados!$E$21)<0.25,([1]Inserir_Dados!J103)-(([1]Inserir_Dados!J103^2)/(2*[1]Inserir_Dados!$E$21))))","v":0},{"$f":"(([1]Inserir_Dados!$E$11/3600)/4/PI()/$C$32)*expint1($G$32/4/$C$32/R110)","v":7.3610256152673328},27735.572100190206]
[null,null,null,null,null,null,null,null,null,null,null,null,null,null,{"$f":"IF(P111>0,([1]Inserir_Dados!I104*60)/([1]Inserir_Dados!$E$12^2),O110)","v":621},{"$f":"IF((([1]Inserir_Dados!J104)/([1]Inserir_Dados!$E$21))<0.02,[1]Inserir_Dados!J104,IF(([1]Inserir_Dados!J104)/([1]Inserir_Dados!$E$21)<0.25,([1]Inserir_Dados!J104)-(([1]Inserir_Dados!J104^2)/(2*[1]Inserir_Dados!$E$21))))","v":0},{"$f":"(([1]Inserir_Dados!$E$11/3600)/4/PI()/$C$32)*expint1($G$32/4/$C$32/R111)","v":7.4531268727456563},33282.686520228242]
[null,null,null,null,null,null,null,null,null,null,null,null,null,null,{"$f":"IF(P112>0,([1]Inserir_Dados!I105*60)/([1]Inserir_Dados!$E$12^2),O111)","v":621},{"$f":"IF((([1]Inserir_Dados!J105)/([1]Inserir_Dados!$E$21))<0.02,[1]Inserir_Dados!J105,IF(([1]Inserir_Dados!J105)/([1]Inserir_Dados!$E$21)<0.25,([1]Inserir_Dados!J105)-(([1]Inserir_Dados!J105^2)/(2*[1]Inserir_Dados!$E$21))))","v":0},{"$f":"(([1]Inserir_Dados!$E$11/3600)/4/PI()/$C$32)*expint1($G$32/4/$C$32/R112)","v":7.5452281339224703},39939.223824273889]
[null,null,null,null,null,null,null,null,null,null,null,null,null,null,{"$f":"IF(P113>0,([1]Inserir_Dados!I106*60)/([1]Inserir_Dados!$E$12^2),O112)","v":621},{"$f":"IF((([1]Inserir_Dados!J106)/([1]Inserir_Dados!$E$21))<0.02,[1]Inserir_Dados!J106,IF(([1]Inserir_Dados!J106)/([1]Inserir_Dados!$E$21)<0.25,([1]Inserir_Dados!J106)-(([1]Inserir_Dados!J106^2)/(2*[1]Inserir_Dados!$E$21))))","v":0},{"$f":"(([1]Inserir_Dados!$E$11/3600)/4/PI()/$C$32)*expint1($G$32/4/$C$32/R113)","v":7.6373293981813593},47927.068589128663]
[null,null,null,null,null,null,null,null,null,null,null,null,null,null,{"$f":"IF(P114>0,([1]Inserir_Dados!I107*60)/([1]Inserir_Dados!$E$12^2),O113)","v":621},{"$f":"IF((([1]Inserir_Dados!J107)/([1]Inserir_Dados!$E$21))<0.02,[1]Inserir_Dados!J107,IF(([1]Inserir_Dados!J107)/([1]Inserir_Dados!$E$21)<0.25,([1]Inserir_Dados!J107)-(([1]Inserir_Dados!J107^2)/(2*[1]Inserir_Dados!$E$21))))","v":0},{"$f":"(([1]Inserir_Dados!$E$11/3600)/4/PI()/$C$32)*expint1($G$32/4/$C$32/R114)","v":7.7294306650086435},57512.482306954393]
[null,null,null,null,null,null,null,null,null,null,null,null,null,null,{"$f":"IF(P115>0,([1]Inserir_Dados!I108*60)/([1]Inserir_Dados!$E$12^2),O114)","v":621},{"$f":"IF((([1]Inserir_Dados!J108)/([1]Inserir_Dados!$E$21))<0.02,[1]Inserir_Dados!J108,IF(([1]Inserir_Dados!J108)/([1]Inserir_Dados!$E$21)<0.25,([1]Inserir_Dados!J108)-(([1]Inserir_Dados!J108^2)/(2*[1]Inserir_Dados!$E$21))))","v":0},{"$f":"(([1]Inserir_Dados!$E$11/3600)/4/PI()/$C$32)*expint1($G$32/4/$C$32/R115)","v":7.8215319339762583},69014.978768345274]
[null,null,null,null,null,null,null,null,null,null,null,null,null,null,{"$f":"IF(P116>0,([1]Inserir_Dados!I109*60)/([1]Inserir_Dados!$E$12^2),O115)","v":621},{"$f":"IF((([1]Inserir_Dados!J109)/([1]Inserir_Dados!$E$21))<0.02,[1]Inserir_Dados!J109,IF(([1]Inserir_Dados!J109)/([1]Inserir_Dados!$E$21)<0.25,([1]Inserir_Dados!J109)-(([1]Inserir_Dados!J109^2)/(2*[1]Inserir_Dados!$E$21))))","v":0},{"$f":"(([1]Inserir_Dados!$E$11/3600)/4/PI()/$C$32)*expint1($G$32/4/$C$32/R116)","v":7.9136332047274811},82817.974522014323]

{"sheet":"Hantush","index":5,"n_rows":112,"n_cols":16,"rows_kept":112,"cut":false,"hidden":false,"merged":[]}
[]
[]
[]
[]
[]
[]
[]
[]
[]
[]
[null,null,"Determinação da Transmissividade e do Coeficiente ",null,null,null,null,null,null,null,null,null,"Estas colunas realizam os cálculos da planilha, não as utilize "]
[null,null,null,"de Armazenamento Pelo Método de Hantush",null,null,null,null,null,null,null,null,"se não souber o que está fazendo"]
[]
[]
[null,null,null,"IDENTIFICAÇÃO DO POÇO:",{"$f":"Inserir_Dados!D7","v":"Poço de Bombeamento XXXXXXXXX"},null,null,null,null,null,null,null,"Q =",{"$f":"+Inserir_Dados!D12/60","v":4.166666666666667}]
[null,null,null,null,null,null,null,null,null,null,null,null,"si =",{"$f":"(MAX(N24:N224))/2","v":0}]
[null,"INSERIR DADOS DO POÇO E DO AQUÍFERO",null,null,null,"Localização:",{"$f":"Inserir_Dados!D8","v":"%%%%%%%%"},null,null,null,null,null,"r =",{"$f":"+Inserir_Dados!D13","v":20}]
[null,"Detalhes da Construção:",null,null,null,"Data:",{"$f":"Inserir_Dados!D9","v":"&&&&&&&"},null,null,null,null,null,"tp =",{"$f":"+G33","v":4}]
[null,"Diâmetro do Revestimento:",{"$f":"Inserir_Dados!D19","v":10},"Polegadas",null,"Coordenadas:",{"$f":"Inserir_Dados!D10","v":0},"Lat.",null,null,null,null,"b' =",{"$f":"Inserir_Dados!D14","v":90}]
[null,"Diâmetro de Perfuração:",{"$f":"Inserir_Dados!D20","v":14},"Polegadas",null,null,{"$f":"Inserir_Dados!D11","v":0},"Long."]
[null,"Profundidade do Poço:",{"$f":"Inserir_Dados!D21","v":260},"metros"]
[null,"Profundidades:",null,null,null,null,"RESULTADOS",null,null,null,null,null,"Tempo","Rebaixamento ","Rebaixamento "]
[null,"Nível Estático:",{"$f":"Inserir_Dados!D16","v":23.5},"metros",null,"B (espessura aqüífero) =",{"$f":"+C25-C24","v":326.5},"m",null,null,null,null," (min)","Aqüífero - s (m)","Aqüífero - s' (m)"]
[null,"Topo do Aquifero:",{"$f":"Inserir_Dados!D17","v":23.5},"metros",null,"Q (vazão) =",{"$f":"+Inserir_Dados!D12","v":250},"m³/h",null,null,null,null,{"$f":"+Inserir_Dados!H10","v":0},{"$f":"+Inserir_Dados!I10","v":0},{"$f":"($N$15/(4*PI()*$D$35))*w_2($G$35*($N$17^2)/(4*$D$35*P24),$N$17/$G$29)","v":2.4826260705406216E-8},1E-3]
[null,"Base do Aquifero:",{"$f":"Inserir_Dados!D18","v":350},"metros",null,"R (dist. do piezômetro) =",{"$f":"+Inserir_Dados!D13","v":20},"m",null,null,null,null,{"$f":"IF(N25>0,Inserir_Dados!H11,M24)","v":0},{"$f":"+Inserir_Dados!I11","v":0},2.9993226198419851E-7,{"$f":"+P24*1.2","v":1.1999999999999999E-3}]
[null,"Espaço Anular:",null,null,null,"T (Transmissividade) =",{"$f":"+C35*3600","v":48.228360747333731},"m²/h",null,null,null,null,{"$f":"IF(N26>0,Inserir_Dados!H12,M25)","v":0},{"$f":"+Inserir_Dados!I12","v":0},2.4564083844887421E-6,{"$f":"+P25*1.2","v":1.4399999999999999E-3}]
[null,"Material do Pré-Filtro:",null,null,null,"k (permeabilidade) =",{"$f":"+G26/(C25-C24)","v":0.14771320290148157},"m/h",null,null,null,null,{"$f":"IF(N27>0,Inserir_Dados!H13,M26)","v":0},{"$f":"+Inserir_Dados!I13","v":0},1.454259246360379E-5,1.7279999999999997E-3]
[null,"Selo do Poço:",null,null,null,"S (coef. de armazenamento) =",{"$f":"+G35","v":1.1194378834671512E-4},null,null,null,null,null,{"$f":"IF(N28>0,Inserir_Dados!H14,M27)","v":0},{"$f":"+Inserir_Dados!I14","v":0},6.5655906313130278E-5,2.0735999999999997E-3]
[null,"Material da Formação:",null,null,null,"B (fator de drenança) =",{"$f":"2*D35*N18/(N17*G35)","v":2872.1772751373896},"m",null,null,null,null,{"$f":"IF(N29>0,Inserir_Dados!H15,M28)","v":0},{"$f":"+Inserir_Dados!I15","v":0},2.3633678574501365E-4,2.4883199999999996E-3]
[null,"Vazão de Bombeamento:",{"$f":"Inserir_Dados!D12","v":250},"m³/s",null,"b' (espessura do aquitarde) =",{"$f":"N19","v":90},"m",null,null,null,null,{"$f":"IF(N30>0,Inserir_Dados!H16,M29)","v":0},{"$f":"+Inserir_Dados!I16","v":0},7.0389439865406348E-4,2.9859839999999993E-3]
[null,null,null,null,null,"k' (permeab. Aqüitarde) =",{"$f":"N19/(G29^2/C35)","v":1.4615713658555466E-7},"m/s",null,null,null,null,{"$f":"IF(N31>0,Inserir_Dados!H17,M30)","v":0},{"$f":"+Inserir_Dados!I17","v":0},1.7889414839915539E-3,3.583180799999999E-3]
[null,null,null,null,null,null,null,null,null,null,null,null,{"$f":"IF(N32>0,Inserir_Dados!H18,M31)","v":0},{"$f":"+Inserir_Dados!I18","v":0},3.9805600686708556E-3,{"$f":"+P31*1.2","v":4.2998169599999985E-3}]
[null,null,null,null,null,"Inserir Ti (tempo correspondente ao ponto de inflexão) = ",4,null,null,null,null,null,{"$f":"IF(N33>0,Inserir_Dados!H19,M32)","v":0},{"$f":"+Inserir_Dados!I19","v":0},7.9218994758658082E-3,{"$f":"+P32*1.2","v":5.1597803519999978E-3}]
[null,null,null,null,null,null,null,null,null,null,null,null,{"$f":"IF(N34>0,Inserir_Dados!H20,M33)","v":0},{"$f":"+Inserir_Dados!I20","v":0},1.4354061176389387E-2,{"$f":"+P33*1.2","v":6.1917364223999976E-3}]
[null,"T =",{"$f":"+D35/60","v":1.3396766874259371E-2},{"$f":"10^(($E$35/1000)-10)*60","v":0.80380601245556227},8127,"S =",{"$f":"10^((I35/1000)-10)","v":1.1194378834671512E-4},null,6049,null,null,null,{"$f":"IF(N35>0,Inserir_Dados!H21,M34)","v":0},{"$f":"+Inserir_Dados!I21","v":0},2.4033212919701907E-2,{"$f":"+P34*1.2","v":7.4300837068799969E-3}]
[null,null,null,null,null,null,null,null,null,null,null,null,{"$f":"IF(N36>0,Inserir_Dados!H22,M35)","v":0},{"$f":"+Inserir_Dados!I22","v":0},3.7644231124466937E-2,{"$f":"+P35*1.2","v":8.9161004482559963E-3}]
[null,null,null,null,null,null,null,null,null,null,null,null,{"$f":"IF(N37>0,Inserir_Dados!H23,M36)","v":0},{"$f":"+Inserir_Dados!I23","v":0},5.5731579145313966E-2,{"$f":"+P36*1.2","v":1.0699320537907194E-2}]
[null,null,null,null,null,null,null,null,null,null,null,null,{"$f":"IF(N38>0,Inserir_Dados!H24,M37)","v":0},{"$f":"+Inserir_Dados!I24","v":0},7.8658853447859625E-2,1.2839184645488633E-2]
[null,null,null,null,null,null,null,null,null,null,null,null,{"$f":"IF(N39>0,Inserir_Dados!H25,M38)","v":0},{"$f":"+Inserir_Dados!I25","v":0},0.10659834760252859,1.5407021574586359E-2]
[null,null,null,null,null,null,null,null,null,null,null,null,{"$f":"IF(N40>0,Inserir_Dados!H26,M39)","v":0},{"$f":"+Inserir_Dados!I26","v":0},0.13954486458767182,1.848842588950363E-2]
[null,null,null,null,null,null,null,null,null,null,null,null,{"$f":"IF(N41>0,Inserir_Dados!H27,M40)","v":0},{"$f":"+Inserir_Dados!I27","v":0},0.17734490481330309,2.2186111067404354E-2]
[null,null,null,null,null,null,null,null,null,null,null,null,{"$f":"IF(N42>0,Inserir_Dados!H28,M41)","v":0},{"$f":"+Inserir_Dados!I28","v":0},0.21973318231438899,2.6623333280885224E-2]
[null,null,null,null,null,null,null,null,null,null,null,null,{"$f":"IF(N43>0,Inserir_Dados!H29,M42)","v":0},{"$f":"+Inserir_Dados!I29","v":0},0.2663688921002848,3.1947999937062266E-2]
[null,null,null,null,null,null,null,null,null,null,null,null,{"$f":"IF(N44>0,Inserir_Dados!H30,M43)","v":0},{"$f":"+Inserir_Dados!I30","v":0},0.31686835082513115,3.8337599924474719E-2]
[null,null,null,null,null,null,null,null,null,null,null,null,{"$f":"IF(N45>0,Inserir_Dados!H31,M44)","v":0},{"$f":"+Inserir_Dados!I31","v":0},0.37083163104030481,4.600511990936966E-2]
[null,null,null,null,null,null,null,null,null,null,null,null,{"$f":"IF(N46>0,Inserir_Dados!H32,M45)","v":0},{"$f":"+Inserir_Dados!I32","v":0},0.42786263988367729,5.5206143891243592E-2]
[null,null,null,null,null,null,null,null,null,null,null,null,{"$f":"IF(N47>0,Inserir_Dados!H33,M46)","v":0},{"$f":"+Inserir_Dados!I33","v":0},0.48758312431724149,6.6247372669492308E-2]
[null,null,null,null,null,null,null,null,null,null,null,null,{"$f":"IF(N48>0,Inserir_Dados!H34,M47)","v":0},{"$f":"+Inserir_Dados!I34","v":0},0.54964155848315088,7.9496847203390772E-2]
[null,null,null,null,null,null,null,null,null,null,null,null,{"$f":"IF(N49>0,Inserir_Dados!H35,M48)","v":0},{"$f":"+Inserir_Dados!I35","v":0},0.61371800842282909,9.5396216644068929E-2]
[null,null,null,null,null,null,null,null,null,null,null,null,{"$f":"IF(N50>0,Inserir_Dados!H36,M49)","v":0},{"$f":"+Inserir_Dados!I36","v":0},0.67952601795306178,0.11447545997288271]
[null,null,null,null,null,null,null,null,null,null,null,null,{"$f":"IF(N51>0,Inserir_Dados!H37,M50)","v":0},{"$f":"+Inserir_Dados!I37","v":0},0.74681241399021203,0.13737055196745923]
[null,null,null,null,null,null,null,null,null,null,null,null,{"$f":"IF(N52>0,Inserir_Dados!H38,M51)","v":0},{"$f":"+Inserir_Dados!I38","v":0},0.81535575249053527,0.16484466236095108]
[null,null,null,null,null,null,null,null,null,null,null,null,{"$f":"IF(N53>0,Inserir_Dados!H39,M52)","v":0},{"$f":"+Inserir_Dados!I39","v":0},0.8849639534935565,0.19781359483314129]
[null,null,null,null,null,null,null,null,null,null,null,null,{"$f":"IF(N54>0,Inserir_Dados!H40,M53)","v":0},{"$f":"+Inserir_Dados!I40","v":0},0.95547152320914885,0.23737631379976953]
[null,null,null,null,5000,null,null,null,null,null,null,null,{"$f":"IF(N55>0,Inserir_Dados!H41,M54)","v":0},{"$f":"+Inserir_Dados!I41","v":0},1.0267366388195143,0.28485157655972343]
[null,null,null,null,null,null,null,null,null,null,null,null,{"$f":"IF(N56>0,Inserir_Dados!H42,M55)","v":0},{"$f":"+Inserir_Dados!I42","v":0},{"$f":"($N$15/(4*PI()*$D$35))*w_2($G$35*($N$17^2)/(4*$D$35*P56),$N$17/$G$29)","v":1.0986382773387797},0.34182189187166812]
[null,null,null,null,null,null,null,null,null,null,null,null,{"$f":"IF(N57>0,Inserir_Dados!H43,M56)","v":0},{"$f":"+Inserir_Dados!I43","v":0},1.171073500047118,0.41018627024600174]
[null,null,null,null,null,null,null,null,null,null,null,null,{"$f":"IF(N58>0,Inserir_Dados!H44,M57)","v":0},{"$f":"+Inserir_Dados!I44","v":0},1.2439549541866886,0.49222352429520205]
[null,null,null,null,null,null,null,null,null,null,null,null,{"$f":"IF(N59>0,Inserir_Dados!H45,M58)","v":0},{"$f":"+Inserir_Dados!I45","v":0},1.317208619300501,0.59066822915424244]
[null,null,null,null,null,null,null,null,null,null,null,null,{"$f":"IF(N60>0,Inserir_Dados!H46,M59)","v":0},{"$f":"+Inserir_Dados!I46","v":0},1.3907718028852099,0.70880187498509095]
[null,null,null,null,null,null,null,null,null,null,null,null,{"$f":"IF(N61>0,Inserir_Dados!H47,M60)","v":0},{"$f":"+Inserir_Dados!I47","v":0},1.4645913757037039,0.85056224998210916]
[null,null,null,null,null,null,null,null,null,null,null,null,{"$f":"IF(N62>0,Inserir_Dados!H48,M61)","v":0},{"$f":"+Inserir_Dados!I48","v":0},1.5386222286600499,1.020674699978531]
[null,null,null,null,null,null,null,null,null,null,null,null,{"$f":"IF(N63>0,Inserir_Dados!H49,M62)","v":0},{"$f":"+Inserir_Dados!I49","v":0},1.6128259286940716,1.2248096399742372]
[null,null,null,null,null,null,null,null,null,null,null,null,{"$f":"IF(N64>0,Inserir_Dados!H50,M63)","v":0},{"$f":"+Inserir_Dados!I50","v":0},1.6871695493267067,1.4697715679690846]
[null,null,null,null,null,null,null,null,null,null,null,null,{"$f":"IF(N65>0,Inserir_Dados!H51,M64)","v":0},{"$f":"+Inserir_Dados!I51","v":0},1.7616246512945046,1.7637258815629016]
[null,null,null,null,null,null,null,null,null,null,null,null,{"$f":"IF(N66>0,Inserir_Dados!H52,M65)","v":0},{"$f":"+Inserir_Dados!I52","v":0},1.8361663894625706,2.116471057875482]
[null,null,null,null,null,null,null,null,null,null,null,null,{"$f":"IF(N67>0,Inserir_Dados!H53,M66)","v":0},{"$f":"+Inserir_Dados!I53","v":0},1.9107727234259337,2.5397652694505783]
[null,null,null,null,null,null,null,null,null,null,null,null,{"$f":"IF(N68>0,Inserir_Dados!H54,M67)","v":0},{"$f":"+Inserir_Dados!I54","v":0},1.9854237105825834,3.0477183233406939]
[null,null,null,null,null,null,null,null,null,null,null,null,{"$f":"IF(N69>0,Inserir_Dados!H55,M68)","v":0},{"$f":"+Inserir_Dados!I55","v":0},2.0601008617770655,3.6572619880088326]
[null,null,null,null,null,null,null,null,null,null,null,null,{"$f":"IF(N70>0,Inserir_Dados!H56,M69)","v":0},{"$f":"+Inserir_Dados!I56","v":0},2.1347865630858283,4.3887143856105988]
[null,null,null,null,null,null,null,null,null,null,null,null,{"$f":"IF(N71>0,Inserir_Dados!H57,M70)","v":0},{"$f":"+Inserir_Dados!I57","v":0},2.2094634123923971,5.2664572627327182]
[null,null,null,null,null,null,null,null,null,null,null,null,{"$f":"IF(N72>0,Inserir_Dados!H58,M71)","v":0},{"$f":"+Inserir_Dados!I58","v":0},2.2841137859214209,6.3197487152792613]
[null,null,null,null,null,null,null,null,null,null,null,null,{"$f":"IF(N73>0,Inserir_Dados!H59,M72)","v":0},{"$f":"+Inserir_Dados!I59","v":0},2.3587191745258065,7.583698458335113]
[null,"Figura 1 - Exemplo de localização do ponto de inflexão em uma curva de rebaixamento ",null,null,null,null,null,null,null,null,null,null,{"$f":"IF(N74>0,Inserir_Dados!H60,M73)","v":0},{"$f":"+Inserir_Dados!I60","v":0},2.4332596048615511,9.1004381500021356]
[null,null,null,null,null,null,null,null,null,null,null,null,{"$f":"IF(N75>0,Inserir_Dados!H61,M74)","v":0},{"$f":"+Inserir_Dados!I61","v":0},2.5077129941089678,10.920525780002562]
[null,null,null,null,null,null,null,null,null,null,null,null,{"$f":"IF(N76>0,Inserir_Dados!H62,M75)","v":0},{"$f":"+Inserir_Dados!I62","v":0},2.5820544417884204,13.104630936003074]
[null,null,null,null,null,null,null,null,null,null,null,null,{"$f":"IF(N77>0,Inserir_Dados!H63,M76)","v":0},{"$f":"+Inserir_Dados!I63","v":0},2.6562554387480013,15.725557123203689]
[null,null,null,null,null,null,null,null,null,null,null,null,{"$f":"IF(N78>0,Inserir_Dados!H64,M77)","v":0},{"$f":"+Inserir_Dados!I64","v":0},2.7302829720825708,18.870668547844428]
[null,null,null,null,null,null,null,null,null,null,null,null,{"$f":"IF(N79>0,Inserir_Dados!H65,M78)","v":0},{"$f":"+Inserir_Dados!I65","v":0},2.8040985033709265,22.644802257413314]
[null,null,null,null,null,null,null,null,null,null,null,null,{"$f":"IF(N80>0,Inserir_Dados!H66,M79)","v":0},{"$f":"+Inserir_Dados!I66","v":0},2.8776567964022601,27.173762708895975]
[null,null,null,null,null,null,null,null,null,null,null,null,{"$f":"IF(N81>0,Inserir_Dados!H67,M80)","v":0},{"$f":"+Inserir_Dados!I67","v":0},2.9509045698239302,32.608515250675168]
[null,null,null,null,null,null,null,null,null,null,null,null,{"$f":"IF(N82>0,Inserir_Dados!H68,M81)","v":0},{"$f":"+Inserir_Dados!I68","v":0},3.0237789503570682,39.130218300810199]
[null,null,null,null,null,null,null,null,null,null,null,null,{"$f":"IF(N83>0,Inserir_Dados!H69,M82)","v":0},{"$f":"+Inserir_Dados!I69","v":0},3.0962057040887307,46.956261960972235]
[null,null,null,null,null,null,null,null,null,null,null,null,{"$f":"IF(N84>0,Inserir_Dados!H70,M83)","v":0},{"$f":"+Inserir_Dados!I70","v":0},3.1680972278508612,56.34751435316668]
[null,null,null,null,null,null,null,null,null,null,null,null,{"$f":"IF(N85>0,Inserir_Dados!H71,M84)","v":0},{"$f":"+Inserir_Dados!I71","v":0},3.2393502912240213,67.617017223800019]
[null,null,null,null,null,null,null,null,null,null,null,null,{"$f":"IF(N86>0,Inserir_Dados!H72,M85)","v":0},{"$f":"+Inserir_Dados!I72","v":0},3.3098435341510881,81.140420668560026]
[null,null,null,null,null,null,null,null,null,null,null,null,{"$f":"IF(N87>0,Inserir_Dados!H73,M86)","v":0},{"$f":"+Inserir_Dados!I73","v":0},3.3794347480279021,97.368504802272028]
[null,null,null,null,null,null,null,null,null,null,null,null,{"$f":"IF(N88>0,Inserir_Dados!H74,M87)","v":0},{"$f":"+Inserir_Dados!I74","v":0},{"$f":"($N$15/(4*PI()*$D$35))*w_2($G$35*($N$17^2)/(4*$D$35*P88),$N$17/$G$29)","v":3.4479580026778596},116.84220576272642]
[null,null,null,null,null,null,null,null,null,null,null,null,{"$f":"IF(N89>0,Inserir_Dados!H75,M88)","v":0},{"$f":"+Inserir_Dados!I75","v":0},3.5152207317546567,140.2106469152717]
[null,null,null,null,null,null,null,null,null,null,null,null,{"$f":"IF(N90>0,Inserir_Dados!H76,M89)","v":0},{"$f":"+Inserir_Dados!I76","v":0},3.5810009593309133,168.25277629832604]
[null,null,null,null,null,null,null,null,null,null,null,null,{"$f":"IF(N91>0,Inserir_Dados!H77,M90)","v":0},{"$f":"+Inserir_Dados!I77","v":0},3.6450449452196088,201.90333155799124]
[null,null,null,null,null,null,null,null,null,null,null,null,{"$f":"IF(N92>0,Inserir_Dados!H78,M91)","v":0},{"$f":"+Inserir_Dados!I78","v":0},3.7070656493452785,242.28399786958948]
[null,null,null,null,null,null,null,null,null,null,null,null,{"$f":"IF(N93>0,Inserir_Dados!H79,M92)","v":0},{"$f":"+Inserir_Dados!I79","v":0},3.766742566489611,290.74079744350735]
[null,null,null,null,null,null,null,null,null,null,null,null,{"$f":"IF(N94>0,Inserir_Dados!H80,M93)","v":0},{"$f":"+Inserir_Dados!I80","v":0},3.8237236556872842,348.88895693220883]
[null,null,null,null,null,null,null,null,null,null,null,null,{"$f":"IF(N95>0,Inserir_Dados!H81,M94)","v":0},{"$f":"+Inserir_Dados!I81","v":0},3.8776302654942723,418.6667483186506]
[null,null,null,null,null,null,null,null,null,null,null,null,{"$f":"IF(N96>0,Inserir_Dados!H82,M95)","v":0},{"$f":"+Inserir_Dados!I82","v":0},3.9280661008426145,502.40009798238071]
[null,null,null,null,null,null,null,null,null,null,null,null,{"$f":"IF(N97>0,Inserir_Dados!H83,M96)","v":0},{"$f":"+Inserir_Dados!I83","v":0},3.974631326270925,602.88011757885681]
[null,null,null,null,null,null,null,null,null,null,null,null,{"$f":"IF(N98>0,Inserir_Dados!H84,M97)","v":0},{"$f":"+Inserir_Dados!I84","v":0},4.0169427562277367,723.45614109462815]
[null,null,null,null,null,null,null,null,null,null,null,null,{"$f":"IF(N99>0,Inserir_Dados!H85,M98)","v":0},{"$f":"+Inserir_Dados!I85","v":0},4.0546606022635991,868.14736931355378]
[null,null,null,null,null,null,null,null,null,null,null,null,{"$f":"IF(N100>0,Inserir_Dados!H86,M99)","v":0},{"$f":"+Inserir_Dados!I86","v":0},4.0875212030603505,1041.7768431762645]
[null,null,null,null,null,null,null,null,null,null,null,null,{"$f":"IF(N101>0,Inserir_Dados!H87,M100)","v":0},{"$f":"+Inserir_Dados!I87","v":0},4.1153733257224037,{"$f":"+P100*1.2","v":1250.1322118115174}]
[null,null,null,null,null,null,null,null,null,null,null,null,{"$f":"IF(N102>0,Inserir_Dados!H88,M101)","v":0},{"$f":"+Inserir_Dados!I88","v":0},4.1382146379347153,1500.1586541738209]
[null,null,null,null,null,null,null,null,null,null,null,null,{"$f":"IF(N103>0,Inserir_Dados!H89,M102)","v":0},{"$f":"+Inserir_Dados!I89","v":0},4.1562206909156911,1800.1903850085851]
[null,null,null,null,null,null,null,null,null,null,null,null,{"$f":"IF(N104>0,Inserir_Dados!H90,M103)","v":0},{"$f":"+Inserir_Dados!I90","v":0},4.1697583886415277,2160.2284620103019]
[null,null,null,null,null,null,null,null,null,null,null,null,{"$f":"IF(N105>0,Inserir_Dados!H91,M104)","v":0},{"$f":"+Inserir_Dados!I91","v":0},4.1793750647326107,2592.2741544123623]
[null,null,null,null,null,null,null,null,null,null,null,null,{"$f":"IF(N106>0,Inserir_Dados!H92,M105)","v":0},{"$f":"+Inserir_Dados!I92","v":0},4.1857574936685875,3110.7289852948347]
[null,null,null,null,null,null,null,null,null,null,null,null,{"$f":"IF(N107>0,Inserir_Dados!H93,M106)","v":0},{"$f":"+Inserir_Dados!I93","v":0},4.1896623416390195,3732.8747823538015]
[null,null,null,null,null,null,null,null,null,null,null,null,{"$f":"IF(N108>0,Inserir_Dados!H94,M107)","v":0},{"$f":"+Inserir_Dados!I94","v":0},4.1918296720567021,4479.4497388245618]
[null,null,null,null,null,null,null,null,null,null,null,null,{"$f":"IF(N109>0,Inserir_Dados!H95,M108)","v":0},{"$f":"+Inserir_Dados!I95","v":0},4.1929003328238386,5375.3396865894738]
[null,null,null,null,null,null,null,null,null,null,null,null,{"$f":"IF(N110>0,Inserir_Dados!H96,M109)","v":0},{"$f":"+Inserir_Dados!I96","v":0},4.1933604780285503,6450.4076239073684]
[null,null,null,null,null,null,null,null,null,null,null,null,{"$f":"IF(N111>0,Inserir_Dados!H97,M110)","v":0},{"$f":"+Inserir_Dados!I97","v":0},4.1935279256297013,7740.4891486888419]
[null,null,null,null,null,null,null,null,null,null,null,null,{"$f":"IF(N112>0,Inserir_Dados!H98,M111)","v":0},{"$f":"+Inserir_Dados!I98","v":0},4.1935778828490173,9288.5869784266106]

{"sheet":"Boulton","index":6,"n_rows":123,"n_cols":17,"rows_kept":123,"cut":false,"hidden":false,"merged":[]}
[]
[]
[]
[]
[]
[]
[]
[]
[]
[]
[null,null,"Determinação da Transmissividade e do Coeficiente ",null,null,null,null,null,null,null,null,null,"Estas colunas realizam os cálculos da planilha, não as utilize "]
[null,null,null,"de Armazenamento Pelo Método de Boulton",null,null,null,null,null,null,null,null,"se não souber o que está fazendo"]
[]
[]
[null,null,null,"IDENTIFICAÇÃO DO POÇO:",{"$f":"Inserir_Dados!D7","v":"Poço de Bombeamento XXXXXXXXX"},null,null,null,null,null,null,null,"b' =",{"$f":"+Inserir_Dados!D14","v":90}]
[null,null,null,null,null,null,null,null,null,null,null,null,"Q  =",{"$f":"+Inserir_Dados!D12/60","v":4.166666666666667}]
[null,"INSERIR DADOS DO POÇO E DO AQUÍFERO",null,null,null,"Localização:",{"$f":"Inserir_Dados!D8","v":"%%%%%%%%"},null,null,null,null,null,"si =",{"$f":"MAX(N23:N223)/2","v":0}]
[null,"Detalhes da Construção:",null,null,null,"Data:",{"$f":"Inserir_Dados!D9","v":"&&&&&&&"},null,null,null,null,null,"r  =",{"$f":"+Inserir_Dados!D13","v":20}]
[null,"Diâmetro do Revestimento:",{"$f":"Inserir_Dados!D19","v":10},"Polegadas",null,"Coordenadas:",{"$f":"Inserir_Dados!D10","v":0},"Lat.",null,null,null,null,"tp =",{"$f":"+G33","v":1.8}]
[null,"Diâmetro de Perfuração:",{"$f":"Inserir_Dados!D20","v":14},"Polegadas",null,null,{"$f":"Inserir_Dados!D11","v":0},"Long."]
[null,"Profundidade do Poço:",{"$f":"Inserir_Dados!D21","v":260},"metros",null,null,null,null,null,null,null,null,"Tempo","Rebaixamento ","Rebaixamento ","Rebaixamento"]
[null,"Profundidades:",null,null,null,null,"RESULTADOS",null,null,null,null,null," (min)","Medido (m)","Aqüífero - s' (m)","Aquitarde - s'' (m)"]
[null,"Nível Estático:",{"$f":"Inserir_Dados!D16","v":23.5},"metros",null,"B (espessura aqüífero) =",{"$f":"+C25-C24","v":326.5},"m",null,null,null,null,{"$f":"+Inserir_Dados!H10","v":0},{"$f":"+Inserir_Dados!I10","v":0},{"$f":"+($N$16/$C$35)*W_3(($N$18/$G$29), ((Q23*$C$35)/($H$35*$G$29^2)), ($H$35/$H$37), ((($C$37/$N$15)*$G$29^2)/$C$35))","v":1.858869043381816E-12},{"$f":"+($N$16/$C$35)*Eta_3(($N$18/$G$29), ((Q23*$C$35)/($H$35*$G$29^2)), ($H$35/$H$37), ((($C$37/$N$15)*$G$29^2)/$C$35))","v":-1.3432201728295894E-15},1E-3]
[null,"Topo do Aquifero:",{"$f":"Inserir_Dados!D17","v":23.5},"metros",null,"Q (vazão) =",{"$f":"+Inserir_Dados!D12","v":250},"m³/h",null,null,null,null,{"$f":"IF(N24>0,Inserir_Dados!H11,M23)","v":0},{"$f":"+Inserir_Dados!I11","v":0},{"$f":"+($N$16/$C$35)*W_3(($N$18/$G$29), ((Q24*$C$35)/($H$35*$G$29^2)), ($H$35/$H$37), ((($C$37/$N$15)*$G$29^2)/$C$35))","v":1.0332619872039458E-10},{"$f":"+($N$16/$C$35)*Eta_3(($N$18/$G$29), ((Q24*$C$35)/($H$35*$G$29^2)), ($H$35/$H$37), ((($C$37/$N$15)*$G$29^2)/$C$35))","v":-5.201948764138192E-14},{"$f":"+Q23*1.2","v":1.1999999999999999E-3}]
[null,"Base do Aquifero:",{"$f":"Inserir_Dados!D18","v":350},"metros",null,"R (dist. do piezômetro) =",{"$f":"+Inserir_Dados!D13","v":20},"m",null,null,null,null,{"$f":"IF(N25>0,Inserir_Dados!H12,M24)","v":0},{"$f":"+Inserir_Dados!I12","v":0},3.0228295466182473E-9,-1.0607029820079537E-12,{"$f":"+Q24*1.2","v":1.4399999999999999E-3}]
[null,"Espaço Anular:",null,null,null,"T (Transmissividade) =",{"$f":"+C35*60","v":43.082659127060687},"m²/h",null,null,null,null,{"$f":"IF(N26>0,Inserir_Dados!H13,M25)","v":0},{"$f":"+Inserir_Dados!I13","v":0},5.1777129805654163E-8,-1.2667949683981354E-11,1.7279999999999997E-3]
[null,"Material do Pré-Filtro:",null,null,null,"Ss (coef. de armazen. elástico) =",{"$f":"+H35","v":1.6557699634695279E-4},null,null,null,null,null,{"$f":"IF(N27>0,Inserir_Dados!H14,M26)","v":0},{"$f":"+Inserir_Dados!I14","v":0},5.6745073811055865E-7,-9.6836136858617797E-11,2.0735999999999997E-3]
[null,"Selo do Poço:",null,null,null,"Sy (porosidade eficaz) =",{"$f":"+H37","v":1.9769696401118576E-2},null,null,null,null,null,{"$f":"IF(N28>0,Inserir_Dados!H15,M27)","v":0},{"$f":"+Inserir_Dados!I15","v":0},4.2843288590071773E-6,-5.1011652009762706E-10,2.4883199999999996E-3]
[null,"Material da Formação:",null,null,null,"L (função do aqüitarde) =",{"$f":"(2*$C$35*$N$19)/($N$18*$H$35)","v":780.59138789034262},"m/h",null,null,null,null,{"$f":"IF(N29>0,Inserir_Dados!H16,M28)","v":0},{"$f":"+Inserir_Dados!I16","v":0},2.3698918900352299E-5,-1.9692509922859608E-9,2.9859839999999993E-3]
[null,"Vazão de Bombeamento:",{"$f":"Inserir_Dados!D12","v":250},"m³/h",null,"b' (espessura aqüítarde) =",{"$f":"N15","v":90},"m",null,null,null,null,{"$f":"IF(N30>0,Inserir_Dados!H17,M29)","v":0},{"$f":"+Inserir_Dados!I17","v":0},1.010918051756954E-4,-5.8628708556598753E-9,3.583180799999999E-3]
[null,null,null,null,null,"k' (permeab. Aqüitarde) =",{"$f":"+C37*60","v":6.3635212576882679E-3},"m/h",null,null,null,null,{"$f":"IF(N31>0,Inserir_Dados!H18,M30)","v":0},{"$f":"+Inserir_Dados!I18","v":0},3.470297173045936E-4,-1.404175320076246E-8,4.2998169599999985E-3]
[null,null,null,null,null,null,null,null,null,null,null,null,{"$f":"IF(N32>0,Inserir_Dados!H19,M31)","v":0},{"$f":"+Inserir_Dados!I19","v":0},9.9333680559634424E-4,-2.8004299046791493E-8,5.1597803519999978E-3]
[null,null,null,null,null,"Inserir Ti (tempo correspondente ao ponto de inflexão) = ",1.8,null,null,null,null,null,{"$f":"IF(N33>0,Inserir_Dados!H20,M32)","v":0},{"$f":"+Inserir_Dados!I20","v":0},2.4419428845748803E-3,-4.7827661730395568E-8,6.1917364223999976E-3]
[null,null,null,null,null,null,null,null,null,null,null,null,{"$f":"IF(N34>0,Inserir_Dados!H21,M33)","v":0},{"$f":"+Inserir_Dados!I21","v":0},5.2839827661440809E-3,-7.1572624107851515E-8,7.4300837068799969E-3]
[null,"T =",{"$f":"(10^((D35/1000)-10))*60","v":0.71804431878434483},8078,null,null,"Ss =",{"$f":"10^((I35/1000)-10)","v":1.6557699634695279E-4},6219,null,null,null,{"$f":"IF(N35>0,Inserir_Dados!H22,M34)","v":0},{"$f":"+Inserir_Dados!I22","v":0},1.0272156719108617E-2,-9.5676752897101267E-8,8.9161004482559963E-3]
[null,null,null,null,null,null,null,null,null,null,null,null,{"$f":"IF(N36>0,Inserir_Dados!H23,M35)","v":0},{"$f":"+Inserir_Dados!I23","v":0},1.824883050294623E-2,-1.1594745619951424E-7,1.0699320537907194E-2]
[null,"k' =",{"$f":"($C$35*$N$15)/(G29^2)","v":1.060586876281378E-4},null,null,null,"Sy = ",{"$f":"10^((I37/1000)-10)","v":1.9769696401118576E-2},8296,null,null,null,{"$f":"IF(N37>0,Inserir_Dados!H24,M36)","v":0},{"$f":"+Inserir_Dados!I24","v":0},3.00499173685231E-2,-1.2787499693621285E-7,1.2839184645488633E-2]
[null,null,null,null,null,null,null,null,null,null,null,null,{"$f":"IF(N38>0,Inserir_Dados!H25,M37)","v":0},{"$f":"+Inserir_Dados!I25","v":0},4.6410949989210602E-2,-1.2648872607690715E-7,1.5407021574586359E-2]
[null,null,null,null,null,null,null,null,null,null,null,null,{"$f":"IF(N39>0,Inserir_Dados!H26,M38)","v":0},{"$f":"+Inserir_Dados!I26","v":0},6.78965083192557E-2,-1.100372219437142E-7,1.848842588950363E-2]
[null,null,null,null,null,null,null,null,null,null,null,null,{"$f":"IF(N40>0,Inserir_Dados!H27,M39)","v":0},{"$f":"+Inserir_Dados!I27","v":0},9.4863027964959268E-2,-8.0593422224891305E-8,2.2186111067404354E-2]
[null,null,null,null,null,null,null,null,null,null,null,null,{"$f":"IF(N41>0,Inserir_Dados!H28,M40)","v":0},{"$f":"+Inserir_Dados!I28","v":0},0.12745425474006619,-1.4860242528950895E-8,2.6623333280885224E-2]
[null,null,null,null,null,null,null,null,null,null,null,null,{"$f":"IF(N42>0,Inserir_Dados!H29,M41)","v":0},{"$f":"+Inserir_Dados!I29","v":0},0.16562159356383876,5.6931092152991705E-8,3.1947999937062266E-2]
[null,null,null,null,null,null,null,null,null,null,null,null,{"$f":"IF(N43>0,Inserir_Dados!H30,M42)","v":0},{"$f":"+Inserir_Dados!I30","v":0},0.20915958355446782,1.1401036395274916E-7,3.8337599924474719E-2]
[null,null,null,null,null,null,null,null,null,null,null,null,{"$f":"IF(N44>0,Inserir_Dados!H31,M43)","v":0},{"$f":"+Inserir_Dados!I31","v":0},0.25774719780747501,2.5172261035199743E-7,4.600511990936966E-2]
[null,null,null,null,null,null,null,null,null,null,null,null,{"$f":"IF(N45>0,Inserir_Dados!H32,M44)","v":0},{"$f":"+Inserir_Dados!I32","v":0},0.31098780068994863,4.7340876568463028E-7,5.5206143891243592E-2]
[null,null,null,null,null,null,null,null,null,null,null,null,{"$f":"IF(N46>0,Inserir_Dados!H33,M45)","v":0},{"$f":"+Inserir_Dados!I33","v":0},0.36844423832798406,7.611252072648263E-7,6.6247372669492308E-2]
[null,null,null,null,null,null,null,null,null,null,null,null,{"$f":"IF(N47>0,Inserir_Dados!H34,M46)","v":0},{"$f":"+Inserir_Dados!I34","v":0},0.42966690476572583,1.118106062031867E-6,7.9496847203390772E-2]
[null,null,null,null,null,null,null,null,null,null,null,null,{"$f":"IF(N48>0,Inserir_Dados!H35,M47)","v":0},{"$f":"+Inserir_Dados!I35","v":0},0.49421451423105062,1.5731823858106277E-6,9.5396216644068929E-2]
[null,null,null,null,null,null,null,null,null,null,null,null,{"$f":"IF(N49>0,Inserir_Dados!H36,M48)","v":0},{"$f":"+Inserir_Dados!I36","v":0},0.56166828670320068,2.1737162833069041E-6,0.11447545997288271]
[null,null,null,null,null,null,null,null,null,null,null,null,{"$f":"IF(N50>0,Inserir_Dados!H37,M49)","v":0},{"$f":"+Inserir_Dados!I37","v":0},0.6316406783524251,2.980167240173142E-6,0.13737055196745923]
[null,null,null,null,null,null,null,null,null,null,null,null,{"$f":"IF(N51>0,Inserir_Dados!H38,M50)","v":0},{"$f":"+Inserir_Dados!I38","v":0},0.70377988221989096,4.065112356499152E-6,0.16484466236095108]
[null,null,null,null,null,null,null,null,null,null,null,null,{"$f":"IF(N52>0,Inserir_Dados!H39,M51)","v":0},{"$f":"+Inserir_Dados!I39","v":0},0.77777123373198376,5.5158545717672565E-6,0.19781359483314129]
[null,null,null,null,null,null,null,null,null,null,null,null,{"$f":"IF(N53>0,Inserir_Dados!H40,M52)","v":0},{"$f":"+Inserir_Dados!I40","v":0},0.85333647902225873,7.4393104380514454E-6,0.23737631379976953]
[null,null,null,null,null,null,null,null,null,null,null,null,{"$f":"IF(N54>0,Inserir_Dados!H41,M53)","v":0},{"$f":"+Inserir_Dados!I41","v":0},0.93023166370351329,9.9683839327298602E-6,0.28485157655972343]
[null,null,null,null,null,null,null,null,null,null,null,null,{"$f":"IF(N55>0,Inserir_Dados!H42,M54)","v":0},{"$f":"+Inserir_Dados!I42","v":0},1.0082442104617855,1.326959179564588E-5,0.34182189187166812]
[null,null,null,null,null,null,null,null,null,null,null,null,{"$f":"IF(N56>0,Inserir_Dados!H43,M55)","v":0},{"$f":"+Inserir_Dados!I43","v":0},1.0871895917806147,1.755208818599485E-5,0.41018627024600174]
[null,null,20,null,null,null,null,null,null,null,null,null,{"$f":"IF(N57>0,Inserir_Dados!H44,M56)","v":0},{"$f":"+Inserir_Dados!I44","v":0},1.1669078739754888,2.3078462897996913E-5,0.49222352429520205]
[null,null,null,null,null,null,null,null,null,null,null,null,{"$f":"IF(N58>0,Inserir_Dados!H45,M57)","v":0},{"$f":"+Inserir_Dados!I45","v":0},1.2472603090439074,3.0177826642209724E-5,0.59066822915424244]
[null,null,null,null,null,null,null,null,null,null,null,null,{"$f":"IF(N59>0,Inserir_Dados!H46,M58)","v":0},{"$f":"+Inserir_Dados!I46","v":0},1.3281260773127013,3.9261805195608488E-5,0.70880187498509095]
[null,null,null,null,null,null,null,null,null,null,null,null,{"$f":"IF(N60>0,Inserir_Dados!H47,M59)","v":0},{"$f":"+Inserir_Dados!I47","v":0},1.4093992313606736,5.0844176229207689E-5,0.85056224998210916]
[null,null,null,null,null,null,null,null,null,null,null,null,{"$f":"IF(N61>0,Inserir_Dados!H48,M60)","v":0},{"$f":"+Inserir_Dados!I48","v":0},1.4909858553040238,6.5565018292999995E-5,1.020674699978531]
[null,null,null,null,null,null,null,null,null,null,null,null,{"$f":"IF(N62>0,Inserir_Dados!H49,M61)","v":0},{"$f":"+Inserir_Dados!I49","v":0},1.5728014290359831,8.4220411128729886E-5,1.2248096399742372]
[null,null,null,null,null,null,null,null,null,null,null,null,{"$f":"IF(N63>0,Inserir_Dados!H50,M62)","v":0},{"$f":"+Inserir_Dados!I50","v":0},1.6547683710189958,1.0779893891290389E-4,1.4697715679690846]
[null,null,null,null,null,null,null,null,null,null,null,null,{"$f":"IF(N64>0,Inserir_Dados!H51,M63)","v":0},{"$f":"+Inserir_Dados!I51","v":0},1.7368137231424421,1.3752651092571519E-4,1.7637258815629016]
[null,null,null,null,null,null,null,null,null,null,null,null,{"$f":"IF(N65>0,Inserir_Dados!H52,M64)","v":0},{"$f":"+Inserir_Dados!I52","v":0},1.8188669350740012,1.749213273084338E-4,2.116471057875482]
[null,null,null,null,null,null,null,null,null,null,null,null,{"$f":"IF(N66>0,Inserir_Dados!H53,M65)","v":0},{"$f":"+Inserir_Dados!I53","v":0},1.9008577021433752,2.2186119799896063E-4,2.5397652694505783]
[null,null,null,null,null,null,null,null,null,null,null,null,{"$f":"IF(N67>0,Inserir_Dados!H54,M66)","v":0},{"$f":"+Inserir_Dados!I54","v":0},1.9827138093071861,2.8066591188318261E-4,3.0477183233406939]
[null,null,null,null,null,null,null,null,null,null,null,null,{"$f":"IF(N68>0,Inserir_Dados!H55,M67)","v":0},{"$f":"+Inserir_Dados!I55","v":0},2.0643589336781076,3.5419789674318616E-4,3.6572619880088326]
[null,null,null,null,null,null,null,null,null,null,null,null,{"$f":"IF(N69>0,Inserir_Dados!H56,M68)","v":0},{"$f":"+Inserir_Dados!I56","v":0},2.1457103593546099,4.4598494748018124E-4,4.3887143856105988]
[null,null,null,null,null,null,null,null,null,null,null,null,{"$f":"IF(N70>0,Inserir_Dados!H57,M69)","v":0},{"$f":"+Inserir_Dados!I57","v":0},2.2266765614247834,5.6036956477139102E-4,5.2664572627327182]
[null,null,null,null,null,null,null,null,null,null,null,null,{"$f":"IF(N71>0,Inserir_Dados!H58,M70)","v":0},{"$f":"+Inserir_Dados!I58","v":0},2.3071546220006485,7.0269066144198718E-4,6.3197487152792613]
[null,null,null,null,null,null,null,null,null,null,null,null,{"$f":"IF(N72>0,Inserir_Dados!H59,M71)","v":0},{"$f":"+Inserir_Dados!I59","v":0},2.3870274507189548,8.7950459902014753E-4,7.583698458335113]
[null,null,null,null,null,null,null,null,null,null,null,null,{"$f":"IF(N73>0,Inserir_Dados!H60,M72)","v":0},{"$f":"+Inserir_Dados!I60","v":0},2.4661607964567565,1.0988530663219385E-3,9.1004381500021356]
[null,null,null,null,null,null,null,null,null,null,null,null,{"$f":"IF(N74>0,Inserir_Dados!H61,M73)","v":0},{"$f":"+Inserir_Dados!I61","v":0},2.5444000590502074,1.3705857329126615E-3,10.920525780002562]
[null,null,null,null,null,null,null,null,null,null,null,null,{"$f":"IF(N75>0,Inserir_Dados!H62,M74)","v":0},{"$f":"+Inserir_Dados!I62","v":0},2.6215669442898322,1.7067473693556541E-3,13.104630936003074]
[null,null,null,null,null,null,null,null,null,null,null,null,{"$f":"IF(N76>0,Inserir_Dados!H63,M75)","v":0},{"$f":"+Inserir_Dados!I63","v":0},2.6974560568131487,2.122042615225602E-3,15.725557123203689]
[null,null,null,null,null,null,null,null,null,null,null,null,{"$f":"IF(N77>0,Inserir_Dados!H64,M76)","v":0},{"$f":"+Inserir_Dados!I64","v":0},2.7718315969211416,2.6343943208576408E-3,18.870668547844428]
[null,null,null,null,null,null,null,null,null,null,null,null,{"$f":"IF(N78>0,Inserir_Dados!H65,M77)","v":0},{"$f":"+Inserir_Dados!I65","v":0},2.8444244221215662,3.2656160434912339E-3,22.644802257413314]
[null,null,null,null,null,null,null,null,null,null,null,null,{"$f":"IF(N79>0,Inserir_Dados!H66,M78)","v":0},{"$f":"+Inserir_Dados!I66","v":0},2.9149298566729778,4.0422107687570026E-3,27.173762708895975]
[null,null,null,null,null,null,null,null,null,null,null,null,{"$f":"IF(N80>0,Inserir_Dados!H67,M79)","v":0},{"$f":"+Inserir_Dados!I67","v":0},2.9830067861478136,4.9963044157633864E-3,32.608515250675168]
[null,null,null,null,null,null,null,null,null,null,null,null,{"$f":"IF(N81>0,Inserir_Dados!H68,M80)","v":0},{"$f":"+Inserir_Dados!I68","v":0},3.0482787580878643,6.1667988747666613E-3,39.130218300810199]
[null,null,null,null,null,null,null,null,null,null,null,null,{"$f":"IF(N82>0,Inserir_Dados!H69,M81)","v":0},{"$f":"+Inserir_Dados!I69","v":0},3.110338012784585,7.6006458593809488E-3,46.956261960972235]
[null,null,null,null,null,null,null,null,null,null,null,null,{"$f":"IF(N83>0,Inserir_Dados!H70,M82)","v":0},{"$f":"+Inserir_Dados!I70","v":0},3.1687535588175271,9.3540439239007192E-3,56.34751435316668]
[null,null,null,null,null,null,null,null,null,null,null,null,{"$f":"IF(N84>0,Inserir_Dados!H71,M83)","v":0},{"$f":"+Inserir_Dados!I71","v":0},3.2230845242981285,1.1494478545200014E-2,67.617017223800019]
[null,null,null,null,null,null,null,null,null,null,null,null,{"$f":"IF(N85>0,Inserir_Dados!H72,M84)","v":0},{"$f":"+Inserir_Dados!I72","v":0},3.2728999571928328,1.4103987539199468E-2,81.140420668560026]
[null,null,null,null,null,null,null,null,null,null,null,null,{"$f":"IF(N86>0,Inserir_Dados!H73,M85)","v":0},{"$f":"+Inserir_Dados!I73","v":0},3.3178058792831067,1.7280181222086525E-2,97.368504802272028]
[null,null,null,null,null,null,null,null,null,null,null,null,{"$f":"IF(N87>0,Inserir_Dados!H74,M86)","v":0},{"$f":"+Inserir_Dados!I74","v":0},3.3574795545061731,2.1134014724611985E-2,116.84220576272642]
[null,null,null,null,null,null,null,null,null,null,null,null,{"$f":"IF(N88>0,Inserir_Dados!H75,M87)","v":0},{"$f":"+Inserir_Dados!I75","v":0},{"$f":"+($N$16/$C$35)*W_3(($N$18/$G$29), ((Q88*$C$35)/($H$35*$G$29^2)), ($H$35/$H$37), ((($C$37/$N$15)*$G$29^2)/$C$35))","v":3.391709460845572},{"$f":"+($N$16/$C$35)*Eta_3(($N$18/$G$29), ((Q88*$C$35)/($H$35*$G$29^2)), ($H$35/$H$37), ((($C$37/$N$15)*$G$29^2)/$C$35))","v":2.5794484486601675E-2},140.2106469152717]
[null,null,null,null,null,null,null,null,null,null,null,null,{"$f":"IF(N89>0,Inserir_Dados!H76,M88)","v":0},{"$f":"+Inserir_Dados!I76","v":0},3.4204372998849801,3.1427853244744591E-2,{"$f":"+Q88*1.2","v":168.25277629832604}]
[null,null,null,null,null,null,null,null,null,null,null,null,{"$f":"IF(N90>0,Inserir_Dados!H77,M89)","v":0},{"$f":"+Inserir_Dados!I77","v":0},3.443795729483937,3.8252775807016179E-2,201.90333155799124]
[null,null,null,null,null,null,null,null,null,null,null,null,{"$f":"IF(N91>0,Inserir_Dados!H78,M90)","v":0},{"$f":"+Inserir_Dados!I78","v":0},3.4621329859151682,4.6520977725093213E-2,242.28399786958948]
[null,null,null,null,null,null,null,null,null,null,null,null,{"$f":"IF(N92>0,Inserir_Dados!H79,M91)","v":0},{"$f":"+Inserir_Dados!I79","v":0},3.4760151281567921,5.6471873735324599E-2,290.74079744350735]
[null,null,null,null,null,null,null,null,null,null,null,null,{"$f":"IF(N93>0,Inserir_Dados!H80,M92)","v":0},{"$f":"+Inserir_Dados!I80","v":0},3.4861935661282497,6.8315742170822188E-2,348.88895693220883]
[null,null,null,null,null,null,null,null,null,null,null,null,{"$f":"IF(N94>0,Inserir_Dados!H81,M93)","v":0},{"$f":"+Inserir_Dados!I81","v":0},3.4935444173780121,8.2307654081058376E-2,418.6667483186506]
[null,null,null,null,null,null,null,null,null,null,null,null,{"$f":"IF(N95>0,Inserir_Dados!H82,M94)","v":0},{"$f":"+Inserir_Dados!I82","v":0},3.4989773986248132,9.8886245939243458E-2,502.40009798238071]
[null,null,null,null,null,null,null,null,null,null,null,null,{"$f":"IF(N96>0,Inserir_Dados!H83,M95)","v":0},{"$f":"+Inserir_Dados!I83","v":0},3.5033399993975896,0.11879480206940857,602.88011757885681]
[null,null,null,null,null,null,null,null,null,null,null,null,{"$f":"IF(N97>0,Inserir_Dados!H84,M96)","v":0},{"$f":"+Inserir_Dados!I84","v":0},3.5073419382639561,0.14307355129709134,723.45614109462815]
[null,null,null,null,null,null,null,null,null,null,null,null,{"$f":"IF(N98>0,Inserir_Dados!H85,M97)","v":0},{"$f":"+Inserir_Dados!I85","v":0},3.511520644106167,0.17286679466987137,868.14736931355378]
[null,null,null,null,null,null,null,null,null,null,null,null,{"$f":"IF(N99>0,Inserir_Dados!H86,M98)","v":0},{"$f":"+Inserir_Dados!I86","v":0},3.5162559411866923,0.20911641164520742,1041.7768431762645]
[null,null,null,null,null,null,null,null,null,null,null,null,{"$f":"IF(N100>0,Inserir_Dados!H87,M99)","v":0},{"$f":"+Inserir_Dados!I87","v":0},3.5218177485197786,0.25233210145766372,1250.1322118115174]
[null,null,null,null,null,null,null,null,null,null,null,null,{"$f":"IF(N101>0,Inserir_Dados!H88,M100)","v":0},{"$f":"+Inserir_Dados!I88","v":0},3.5284231813126694,0.30263383025760565,1500.1586541738209]
[null,null,null,null,null,null,null,null,null,null,null,null,{"$f":"IF(N102>0,Inserir_Dados!H89,M101)","v":0},{"$f":"+Inserir_Dados!I89","v":0},3.536284335364674,0.36010431194755504,1800.1903850085851]
[null,null,null,null,null,null,null,null,null,null,null,null,{"$f":"IF(N103>0,Inserir_Dados!H90,M102)","v":0},{"$f":"+Inserir_Dados!I90","v":0},3.5456270811458204,0.4252752960957969,2160.2284620103019]
[null,null,null,null,null,null,null,null,null,null,null,null,{"$f":"IF(N104>0,Inserir_Dados!H91,M103)","v":0},{"$f":"+Inserir_Dados!I91","v":0},3.5567108189238787,0.49952610581745738,2592.2741544123623]
[null,null,null,null,null,null,null,null,null,null,null,null,{"$f":"IF(N105>0,Inserir_Dados!H92,M104)","v":0},{"$f":"+Inserir_Dados!I92","v":0},3.5698302589426985,0.58519401969271279,3110.7289852948347]
[null,null,null,null,null,null,null,null,null,null,null,null,{"$f":"IF(N106>0,Inserir_Dados!H93,M105)","v":0},{"$f":"+Inserir_Dados!I93","v":0},3.5853175751144684,0.68538256426834254,3732.8747823538015]
[null,null,null,null,null,null,null,null,null,null,null,null,{"$f":"IF(N107>0,Inserir_Dados!H94,M106)","v":0},{"$f":"+Inserir_Dados!I94","v":0},3.6035422986018264,0.80355195557161108,4479.4497388245618]
[null,null,null,null,null,null,null,null,null,null,null,null,{"$f":"IF(N108>0,Inserir_Dados!H95,M107)","v":0},{"$f":"+Inserir_Dados!I95","v":0},3.6249096307355884,0.94301993021969555,5375.3396865894738]
[null,null,null,null,null,null,null,null,null,null,null,null,{"$f":"IF(N109>0,Inserir_Dados!H96,M108)","v":0},{"$f":"+Inserir_Dados!I96","v":0},3.6498458287628299,1.1064661925124288,6450.4076239073684]
[null,null,null,null,null,null,null,null,null,null,null,null,{"$f":"IF(N110>0,Inserir_Dados!H97,M109)","v":0},{"$f":"+Inserir_Dados!I97","v":0},3.6787981880939471,1.2955252724175572,7740.4891486888419]
[null,null,null,null,null,null,null,null,null,null,null,null,{"$f":"IF(N111>0,Inserir_Dados!H98,M110)","v":0},{"$f":"+Inserir_Dados!I98","v":0},3.7122115557009683,1.5104475526699781,9288.5869784266106]
[null,null,null,null,null,null,null,null,null,null,null,null,{"$f":"IF(N112>0,Inserir_Dados!H99,M111)","v":0},{"$f":"+Inserir_Dados!I99","v":0},3.7505017392656801,1.7498495067975939,11146.304374111933]
[null,null,null,null,null,null,null,null,null,null,null,null,{"$f":"IF(N113>0,Inserir_Dados!H100,M112)","v":0},{"$f":"+Inserir_Dados!I100","v":0},3.794024153891066,2.010557337688661,13375.565248934319]
[null,null,null,null,null,null,null,null,null,null,null,null,{"$f":"IF(N114>0,Inserir_Dados!H101,M113)","v":0},{"$f":"+Inserir_Dados!I101","v":0},3.8430410342091297,2.287572823693917,16050.678298721183]
[null,null,null,null,null,null,null,null,null,null,null,null,{"$f":"IF(N115>0,Inserir_Dados!H102,M114)","v":0},{"$f":"+Inserir_Dados!I102","v":0},3.8976766444678992,2.5741988659011246,19260.81395846542]
[null,null,null,null,null,null,null,null,null,null,null,null,{"$f":"IF(N116>0,Inserir_Dados!H103,M115)","v":0},{"$f":"+Inserir_Dados!I103","v":0},3.9578705707962429,2.8623945654849807,23112.976750158505]
[null,null,null,null,null,null,null,null,null,null,null,null,{"$f":"IF(N117>0,Inserir_Dados!H104,M116)","v":0},{"$f":"+Inserir_Dados!I104","v":0},4.0233734794126965,3.1434492473578977,27735.572100190206]
[null,null,null,null,null,null,null,null,null,null,null,null,{"$f":"IF(N118>0,Inserir_Dados!H105,M117)","v":0},{"$f":"+Inserir_Dados!I105","v":0},4.0937059243687459,3.4088861680107234,33282.686520228242]
[null,null,null,null,null,null,null,null,null,null,null,null,{"$f":"IF(N119>0,Inserir_Dados!H106,M118)","v":0},{"$f":"+Inserir_Dados!I106","v":0},4.1682152110825923,3.651622778434831,39939.223824273889]
[null,null,null,null,null,null,null,null,null,null,null,null,{"$f":"IF(N120>0,Inserir_Dados!H107,M119)","v":0},{"$f":"+Inserir_Dados!I107","v":0},4.2460944672373451,3.867022754273215,47927.068589128663]
[null,null,null,null,null,null,null,null,null,null,null,null,{"$f":"IF(N121>0,Inserir_Dados!H108,M120)","v":0},{"$f":"+Inserir_Dados!I108","v":0},4.326509837273063,4.0536688802122445,57512.482306954393]
[null,null,null,null,null,null,null,null,null,null,null,null,{"$f":"IF(N122>0,Inserir_Dados!H109,M121)","v":0},{"$f":"+Inserir_Dados!I109","v":0},4.4086463090553636,4.2133752690282336,69014.978768345274]
[null,null,null,null,null,null,null,null,null,null,null,null,{"$f":"IF(N123>0,Inserir_Dados!H110,M122)","v":0},{"$f":"+Inserir_Dados!I110","v":0},4.491852386100784,4.3505212672071956,82817.974522014323]

{"sheet":"ResumoDosResultados","index":7,"n_rows":33,"n_cols":8,"rows_kept":33,"cut":false,"hidden":false,"merged":[]}
[]
[]
[]
[null,"Resultados Finais de Todos os Testes de Bombeamento e de Aqüífero, Ajustados nas Planilhas"]
[]
[]
[null,"Resultados - Recuperação Jacob",null,null,null,"Resultados - Teste de Theis"]
[null,"B (espessura aqüífero) =",{"$f":"Recuperação_Jacob!G20","v":326.5},"m",null,"B (espessura aqüífero) =",{"$f":"Theis!G21","v":326.5},"m"]
[null,"Q (vazão) =",{"$f":"Recuperação_Jacob!G21","v":250},"m³/h",null,"Q (vazão) =",{"$f":"Theis!G22","v":250},"m³/h"]
[null,"R (dist. do piezômetro) =",{"$f":"Recuperação_Jacob!G22","v":20},"m",null,"R (dist. do piezômetro) =",{"$f":"Theis!G23","v":20},"m"]
[null,"T (Transmissividade) =",{"$f":"Recuperação_Jacob!G23","v":52.276018233158787},"m²/h",null,"T (Transmissividade) =",{"$f":"Theis!G24","v":43.681998616739129},"m²/h"]
[null,"k (permeabilidade) =",{"$f":"Recuperação_Jacob!G24","v":0.16011031618119076},"m/h",null,"k (permeabilidade) =",{"$f":"Theis!G25","v":0.1337886634509621},"m/h"]
[null,null,null,null,null,"S (coef. de armazenamento) =",{"$f":"Theis!G26","v":2.0511621788255638E-4}]
[]
[null,"Resultados - Theis Dupuit",null,null,null,"Resultados -Teste de Cooper-Jacob"]
[null,"B (espessura aqüífero) =",{"$f":"+Theis_Dupuit!G22","v":326.5},"m",null,"B (espessura aqüífero) =",{"$f":"Cooper_Jacob!G21","v":326.5},"m"]
[null,"Q (vazão) =",{"$f":"+Theis_Dupuit!G23","v":250},"m³/h",null,"Q (vazão) =",{"$f":"Cooper_Jacob!G22","v":250},"m³/h"]
[null,"R (dist. do piezômetro) =",{"$f":"+Theis_Dupuit!G24","v":20},"m",null,"R (dist. do piezômetro) =",{"$f":"Cooper_Jacob!G23","v":20},"m"]
[null,"T (Transmissividade) =",{"$f":"+Theis_Dupuit!G25","v":39.382429185795324},"m²/h",null,"T (Transmissividade) =",{"$f":"Cooper_Jacob!G24","v":45.951797117208343},"m²/h"]
[null,"k (permeabilidade) =",{"$f":"+Theis_Dupuit!G26","v":0.1206199975062644},"m/h",null,"k (permeabilidade) =",{"$f":"Cooper_Jacob!G25","v":0.14074057310017871},"m/h"]
[null,"S (coef. de armazenamento) =",{"$f":"+Theis_Dupuit!G27","v":3.1988951096913968E-4},null,null,"S (coef. de armazenamento) =",{"$f":"Cooper_Jacob!G26","v":1.62929603263972E-4}]
[]
[null,"Resultados - Teste de Boulton",null,null,null,"Resultados - Teste de Hantush"]
[null,"B (espessura aqüífero) =",{"$f":"Boulton!G23","v":326.5},"m",null,"B (espessura aqüífero) =",{"$f":"Hantush!G23","v":326.5},"m"]
[null,"Q (vazão) =",{"$f":"Boulton!G24","v":250},"m³/h",null,"Q (vazão) =",{"$f":"Hantush!G24","v":250},"m³/h"]
[null,"R (dist. do piezômetro) =",{"$f":"Boulton!G25","v":20},"m",null,"R (dist. do piezômetro) =",{"$f":"Hantush!G25","v":20},"m"]
[null,"T (Transmissividade) =",{"$f":"Boulton!G26","v":43.082659127060687},"m²/h",null,"T (Transmissividade) =",{"$f":"Hantush!G26","v":48.228360747333731},"m²/h"]
[null,"Ss (coef. de armazen. elástico) =",{"$f":"Boulton!G27","v":1.6557699634695279E-4},null,null,"k (permeabilidade) =",{"$f":"Hantush!G27","v":0.14771320290148157},"m/h"]
[null,"Sy (porosidade eficaz) =",{"$f":"Boulton!G28","v":1.9769696401118576E-2},null,null,"S (coef. de armazenamento) =",{"$f":"Hantush!G28","v":1.1194378834671512E-4}]
[null,"L (função do aqüitarde) =",{"$f":"Boulton!G29","v":780.59138789034262},"m/h",null,"B (fator de drenança) =",{"$f":"Hantush!G29","v":2872.1772751373896},"m"]
[null,"b' (espessura aqüítarde) =",{"$f":"Boulton!G30","v":90},"m",null,"b' (espessura do aquitarde) =",{"$f":"Hantush!G30","v":90},"m"]
[null,"k' (permeab. Aqüitarde) =",{"$f":"Boulton!G31","v":6.3635212576882679E-3},"m/h",null,"k' (permeab. Aqüitarde) =",{"$f":"Hantush!G31","v":1.4615713658555466E-7},"m/s"]
[null,"k (permeabilidade do aquifero) =",{"$f":"+C27/(Inserir_Dados!D18-Inserir_Dados!D17)","v":0.13195301417170194},"m/h"]

{"sheet":"Matriz_Theis_Hantush_Boulton","index":8,"n_rows":197,"n_cols":32,"rows_kept":197,"cut":false,"hidden":false,"merged":[[91,1,91,2],[19,14,19,15],[20,14,20,15],[21,14,21,15]]}
[]
[]
[]
[]
[]
[]
[]
[]
[]
[]
[]
[]
[]
[]
[]
[]
[]
[]
[]
[null,null,null,null,null,null,null,null,null,null,null,null,null,"T=",0.01,null,"m²/s"]
[null,null,null,null,null,null,null,null,null,null,null,null,null,"S=",0.1]
[null,null,null,null,null,null,null,null,null,null,null,null,null,"Q=",7.0000000000000007E-2,null,"m³/s"]
[]
[]
[null,null,null,"Seg.","Seg.","Seg.","Seg.","Seg.","Seg.","Min.","Min.","Min.","Min.","Min.","Min.","Hora","Horas","Horas","Horas","Dia","Dias","Dias","Dias","Dias","Dias","Dias","Dias","Dias","Dias","Anos","Anos","Anos"]
[null,null,"Dist/Temp",1,2,{"$f":"5","v":5},{"$f":"+F26*2","v":10},{"$f":"+G26*2","v":20},{"$f":"+H26*2","v":40},1.3333333333333333,2.6666666666666665,5.333333333333333,10.666666666666666,21.333333333333332,42.666666666666664,1.4222222222222223,2.8444444444444446,5.6888888888888891,11.377777777777778,0.94814814814814818,1.8962962962962964,3.7925925925925927,7.5851851851851855,15.170370370370371,30.340740740740742,60.681481481481484,121.36296296296297,242.72592592592594,485.45185185185187,{"$f":"970.903703703704/365","v":2.6600101471334354},{"$f":"1941.80740740741/365","v":5.3200202942668771},{"$f":"3883.61481481481/365","v":10.640040588533726}]
[null,"Metros",20,{"$f":"($O$22/(4*PI()*$O$20))*C132","v":5.5704230082163374E-101},5.5704230082163374E-101,3.835435784049132E-90,2.0519952798564418E-46,2.1075811285830981E-24,2.9799107424268014E-13,1.545478279739437E-7,1.5070011223917995E-4,6.2051619308650047E-3,5.0803543991420716E-2,0.17900781836483232,0.40015292196708635,0.69190989864625707,1.0274136210132596,1.3872979237187923,1.7600564930614915,2.1394308577700172,2.5221587782742065,2.9065750174595277,3.2918383171008831,3.6775258742477344,4.0634257422170732,4.4494318111464191,4.8354909919468794,5.2215767315311652,5.6076757512194888,5.9937814111378733,6.3798903912157989,6.7660010313846222]
[null,"Metros",50,{"$f":"($O$22/(4*PI()*$O$20))*C133","v":5.5704230082163374E-101},5.5704230082163374E-101,5.5704230082163374E-101,5.5704230082163374E-101,5.5704230082163374E-101,4.9069610504170791E-71,8.28716043365758E-37,1.5094418815851912E-19,8.9570555406402234E-11,2.9924097201841162E-6,7.3428005635478751E-4,1.4998644144192264E-2,8.5410890904954934E-2,0.24790612394141415,0.49745956934786656,0.80757638698406664,1.1535281441885006,1.518987096393883,1.8946251946381909,2.2754629658352123,2.6589285754241092,3.0437151651203838,3.4291640177037173,3.8149444458928405,4.2008907730448648,4.5869200774832848,4.9729908775180069,5.3590824270893913,5.7451843518637622]
[null,"Metros",100,{"$f":"($O$22/(4*PI()*$O$20))*C134","v":5.5704230082163374E-101},5.5704230082163374E-101,5.5704230082163374E-101,5.5704230082163374E-101,5.5704230082163374E-101,5.5704230082163374E-101,5.5704230082163374E-101,4.9069610504170791E-71,8.28716043365758E-37,1.5094418815851912E-19,8.9570555406402234E-11,2.9924097201841162E-6,7.3428005635478751E-4,1.4998644144192264E-2,8.5410890904954934E-2,0.24790612394141415,0.49745956934786656,0.80757638698406664,1.1535281441885006,1.518987096393883,1.8946251946381909,2.2754629658352123,2.6589285754241092,3.0437151651203838,3.4291640177037173,3.8149444458928405,4.2008907730448648,4.5869200774832848,4.9729908775180069]
[null,"Metros",200,{"$f":"($O$22/(4*PI()*$O$20))*C135","v":5.5704230082163374E-101},5.5704230082163374E-101,5.5704230082163374E-101,5.5704230082163374E-101,5.5704230082163374E-101,5.5704230082163374E-101,5.5704230082163374E-101,5.5704230082163374E-101,5.5704230082163374E-101,4.9069610504170791E-71,8.28716043365758E-37,1.5094418815851912E-19,8.9570555406402234E-11,2.9924097201841162E-6,7.3428005635478751E-4,1.4998644144192264E-2,8.5410890904954934E-2,0.24790612394141415,0.49745956934786656,0.80757638698406664,1.1535281441885006,1.518987096393883,1.8946251946381909,2.2754629658352123,2.6589285754241092,3.0437151651203838,3.4291640177037173,3.8149444458928405,4.2008907730448648]
[null,"Metros",400,{"$f":"($O$22/(4*PI()*$O$20))*C136","v":5.5704230082163374E-101},5.5704230082163374E-101,5.5704230082163374E-101,5.5704230082163374E-101,5.5704230082163374E-101,5.5704230082163374E-101,5.5704230082163374E-101,5.5704230082163374E-101,5.5704230082163374E-101,5.5704230082163374E-101,5.5704230082163374E-101,4.9069610504170791E-71,8.28716043365758E-37,1.5094418815851912E-19,8.9570555406402234E-11,2.9924097201841162E-6,7.3428005635478751E-4,1.4998644144192264E-2,8.5410890904954934E-2,0.24790612394141415,0.49745956934786656,0.80757638698406664,1.1535281441885006,1.518987096393883,1.8946251946381909,2.2754629658352123,2.6589285754241092,3.0437151651203838,3.4291640177037173]
[null,"Metros",500,{"$f":"($O$22/(4*PI()*$O$20))*C137","v":5.5704230082163374E-101},5.5704230082163374E-101,5.5704230082163374E-101,5.5704230082163374E-101,5.5704230082163374E-101,5.5704230082163374E-101,5.5704230082163374E-101,5.5704230082163374E-101,5.5704230082163374E-101,5.5704230082163374E-101,5.5704230082163374E-101,5.5704230082163374E-101,4.3783780994039954E-56,2.7935280172667249E-29,9.8667929841023822E-16,8.1197603919371685E-9,3.1733128472681498E-5,2.6379239772270535E-3,3.0993316818132659E-2,0.13215678662901367,0.32803194549740583,0.60240784196534514,0.92770236252889726,1.2820517865462278,1.651928365040034,2.0298321800009949,2.4118173196791508,2.7958602771133272,3.1809364611770725]
[null,"Metros",1000,{"$f":"($O$22/(4*PI()*$O$20))*C138","v":5.5704230082163374E-101},5.5704230082163374E-101,5.5704230082163374E-101,5.5704230082163374E-101,5.5704230082163374E-101,5.5704230082163374E-101,5.5704230082163374E-101,5.5704230082163374E-101,5.5704230082163374E-101,5.5704230082163374E-101,5.5704230082163374E-101,5.5704230082163374E-101,5.5704230082163374E-101,5.5704230082163374E-101,4.3783780994039954E-56,2.7935280172667249E-29,9.8667929841023822E-16,8.1197603919371685E-9,3.1733128472681498E-5,2.6379239772270535E-3,3.0993316818132659E-2,0.13215678662901367,0.32803194549740583,0.60240784196534514,0.92770236252889726,1.2820517865462278,1.651928365040034,2.0298321800009949,2.4118173196791508]
[null,"Metros",1500,{"$f":"($O$22/(4*PI()*$O$20))*C139","v":5.5704230082163374E-101},5.5704230082163374E-101,5.5704230082163374E-101,5.5704230082163374E-101,5.5704230082163374E-101,5.5704230082163374E-101,5.5704230082163374E-101,5.5704230082163374E-101,5.5704230082163374E-101,5.5704230082163374E-101,5.5704230082163374E-101,5.5704230082163374E-101,5.5704230082163374E-101,5.5704230082163374E-101,5.5704230082163374E-101,9.1989421681085952E-63,1.2087884779570512E-32,1.9398541624276106E-17,1.0782749022658848E-9,1.098833924361483E-5,1.4819392475251465E-3,2.2304590445685626E-2,0.1083092541141062,0.28847173250507885,0.55146319850398062,0.86988868064853619,1.2204632554217754,1.5883608588473792,1.9652514428130141]
[null,"Metros",2000,{"$f":"($O$22/(4*PI()*$O$20))*C140","v":5.5704230082163374E-101},5.5704230082163374E-101,5.5704230082163374E-101,5.5704230082163374E-101,5.5704230082163374E-101,5.5704230082163374E-101,5.5704230082163374E-101,5.5704230082163374E-101,5.5704230082163374E-101,5.5704230082163374E-101,5.5704230082163374E-101,5.5704230082163374E-101,5.5704230082163374E-101,5.5704230082163374E-101,5.5704230082163374E-101,5.5704230082163374E-101,4.3783780994039954E-56,2.7935280172667249E-29,9.8667929841023822E-16,8.1197603919371685E-9,3.1733128472681498E-5,2.6379239772270535E-3,3.0993316818132659E-2,0.13215678662901367,0.32803194549740583,0.60240784196534514,0.92770236252889726,1.2820517865462278,1.651928365040034]
[null,"Metros",4000,{"$f":"($O$22/(4*PI()*$O$20))*C141","v":5.5704230082163374E-101},5.5704230082163374E-101,5.5704230082163374E-101,5.5704230082163374E-101,5.5704230082163374E-101,5.5704230082163374E-101,5.5704230082163374E-101,5.5704230082163374E-101,5.5704230082163374E-101,5.5704230082163374E-101,5.5704230082163374E-101,5.5704230082163374E-101,5.5704230082163374E-101,5.5704230082163374E-101,5.5704230082163374E-101,5.5704230082163374E-101,5.5704230082163374E-101,5.5704230082163374E-101,4.3783780994039954E-56,2.7935280172667249E-29,9.8667929841023822E-16,8.1197603919371685E-9,3.1733128472681498E-5,2.6379239772270535E-3,3.0993316818132659E-2,0.13215678662901367,0.32803194549740583,0.60240784196534514,0.92770236252889726]
[null,"Metros",8000,{"$f":"($O$22/(4*PI()*$O$20))*C142","v":5.5704230082163374E-101},5.5704230082163374E-101,5.5704230082163374E-101,5.5704230082163374E-101,5.5704230082163374E-101,5.5704230082163374E-101,5.5704230082163374E-101,5.5704230082163374E-101,5.5704230082163374E-101,5.5704230082163374E-101,5.5704230082163374E-101,5.5704230082163374E-101,5.5704230082163374E-101,5.5704230082163374E-101,5.5704230082163374E-101,5.5704230082163374E-101,5.5704230082163374E-101,5.5704230082163374E-101,5.5704230082163374E-101,5.5704230082163374E-101,4.3783780994039954E-56,2.7935280172667249E-29,9.8667929841023822E-16,8.1197603919371685E-9,3.1733128472681498E-5,2.6379239772270535E-3,3.0993316818132659E-2,0.13215678662901367,0.32803194549740583]
[null,"Metros",16000,{"$f":"($O$22/(4*PI()*$O$20))*C143","v":5.5704230082163374E-101},5.5704230082163374E-101,5.5704230082163374E-101,5.5704230082163374E-101,5.5704230082163374E-101,5.5704230082163374E-101,5.5704230082163374E-101,5.5704230082163374E-101,5.5704230082163374E-101,5.5704230082163374E-101,5.5704230082163374E-101,5.5704230082163374E-101,5.5704230082163374E-101,5.5704230082163374E-101,5.5704230082163374E-101,5.5704230082163374E-101,5.5704230082163374E-101,5.5704230082163374E-101,5.5704230082163374E-101,5.5704230082163374E-101,5.5704230082163374E-101,5.5704230082163374E-101,4.3783780994039954E-56,2.7935280172667249E-29,9.8667929841023822E-16,8.1197603919371685E-9,3.1733128472681498E-5,2.6379239772270535E-3,3.0993316818132659E-2]
[null,"Metros",32000,{"$f":"($O$22/(4*PI()*$O$20))*C144","v":5.5704230082163374E-101},5.5704230082163374E-101,5.5704230082163374E-101,5.5704230082163374E-101,5.5704230082163374E-101,5.5704230082163374E-101,5.5704230082163374E-101,5.5704230082163374E-101,5.5704230082163374E-101,5.5704230082163374E-101,5.5704230082163374E-101,5.5704230082163374E-101,5.5704230082163374E-101,5.5704230082163374E-101,5.5704230082163374E-101,5.5704230082163374E-101,5.5704230082163374E-101,5.5704230082163374E-101,5.5704230082163374E-101,5.5704230082163374E-101,5.5704230082163374E-101,5.5704230082163374E-101,5.5704230082163374E-101,5.5704230082163374E-101,4.3783780994039954E-56,2.7935280172667249E-29,9.8667929841023822E-16,8.1197603919371685E-9,3.1733128472681498E-5]
[null,"Metros",64000,{"$f":"($O$22/(4*PI()*$O$20))*C145","v":5.5704230082163374E-101},5.5704230082163374E-101,5.5704230082163374E-101,5.5704230082163374E-101,5.5704230082163374E-101,5.5704230082163374E-101,5.5704230082163374E-101,5.5704230082163374E-101,5.5704230082163374E-101,5.5704230082163374E-101,5.5704230082163374E-101,5.5704230082163374E-101,5.5704230082163374E-101,5.5704230082163374E-101,5.5704230082163374E-101,5.5704230082163374E-101,5.5704230082163374E-101,5.5704230082163374E-101,5.5704230082163374E-101,5.5704230082163374E-101,5.5704230082163374E-101,5.5704230082163374E-101,5.5704230082163374E-101,5.5704230082163374E-101,5.5704230082163374E-101,5.5704230082163374E-101,4.3783780994039954E-56,2.7935280172667249E-29,9.8667929841023822E-16]
[]
[]
[]
[]
[]
[]
[]
[]
[]
[]
[]
[null,null,null,null,null,null,null,null,null,null,null,null,null,"Q=",7.0000000000000007E-2,"m²/s"]
[null,null,null,null,null,null,null,null,null,null,null,null,null,"T=",1.11E-2]
[null,null,null,null,null,null,null,null,null,null,null,null,null,"S=",2.9999999999999997E-4,"m³/s"]
[null,null," ",null,null,null,null,null,null,null,null,null,null,"r/B=",3.3599999999999998E-2]
[]
[]
[null,null,null,"Seg.","Seg.","Seg.","Seg.","Seg.","Seg.","Min.","Min.","Min.","Min.","Min.","Min.","Hora","Horas","Horas","Horas","Dia","Dias","Dias","Dias","Dias","Dias","Dias","Dias","Dias","Dias","Anos","Anos","Anos"]
[null,null,"Dist/Temp",{"$f":"+D26","v":1},2,5,10,20,40,1.3333333333333333,2.6666666666666665,5.333333333333333,10.666666666666666,21.333333333333332,42.666666666666664,1.4222222222222223,2.8444444444444446,5.6888888888888891,11.377777777777778,0.94814814814814818,1.8962962962962964,3.7925925925925927,7.5851851851851855,15.170370370370371,30.340740740740742,60.681481481481484,121.36296296296297,242.72592592592594,485.45185185185187,2.6600101471334354,5.3200202942668771,10.640040588533726]
[null,"Metros",{"$f":"+C27","v":20},{"$f":"($O$52/(4*PI()*$O$53))*C166","v":9.5917262191052149E-3},6.2799697736507509E-2,0.25757522078484307,0.49363507335671025,0.77964985812935905,1.0942972595289386,1.4236201351099247,1.7590285657544278,2.0944813917192406,2.4239563640223727,2.7389250534546106,3.0255361251079398,3.262579558040315,3.4252374426293772,3.5030686348161795,3.5219937557414567,3.5233410536844172,3.5233512640556528,3.5233512650866161,3.5233512650866161,3.5233512650866161,3.5233512650866161,3.5233512650866161,3.5233512650866161,3.5233512650866161,3.5233512650866161,3.5233512650866161,3.5233512650866161,3.5233512650866161]
[null,"Metros",50,{"$f":"($O$52/(4*PI()*$O$53))*C167","v":1.297418630898954E-9},1.1519350189299412E-5,4.0677344901135053E-3,3.8047980303298451E-2,0.14387287353201611,0.33430936790546212,0.59103372074441574,0.88929685247176682,1.2104311552087632,1.5427168760037597,1.8787812413643623,2.2128688150150149,2.5383690476796121,2.8451883194326015,3.1169518116256421,3.3301625252815312,3.4622007299463893,3.5141828565332989,3.5230202058054565,3.523350523344706,3.5233512650798504,3.5233512650866161,3.5233512650866161,3.5233512650866161,3.5233512650866161,3.5233512650866161,3.5233512650866161,3.5233512650866161,3.5233512650866161]
[null,"Metros",100,{"$f":"($O$52/(4*PI()*$O$53))*C168","v":3.3137103447077105E-32},3.0719774046173384E-17,4.6965653024410626E-8,7.6286492726048406E-5,4.0677344901135053E-3,3.8047980303298451E-2,0.14387287353201611,0.33430936790546212,0.59103372074441574,0.88929685247176682,1.2104311552087632,1.5427168760037597,1.8787812413643623,2.2128688150150149,2.5383690476796121,2.8451883194326015,3.1169518116256421,3.3301625252815312,3.4622007299463893,3.5141828565332989,3.5230202058054565,3.523350523344706,3.5233512650798504,3.5233512650866161,3.5233512650866161,3.5233512650866161,3.5233512650866161,3.5233512650866161,3.5233512650866161]
[null,"Metros",200,{"$f":"($O$52/(4*PI()*$O$53))*C169","v":7.7675107319414149E-121},7.5539582212697732E-62,3.0516656154193125E-26,3.2795782178366618E-14,4.6965653024410626E-8,7.6286492726048406E-5,4.0677344901135053E-3,3.8047980303298451E-2,0.14387287353201611,0.33430936790546212,0.59103372074441574,0.88929685247176682,1.2104311552087632,1.5427168760037597,1.8787812413643623,2.2128688150150149,2.5383690476796121,2.8451883194326015,3.1169518116256421,3.3301625252815312,3.4622007299463893,3.5141828565332989,3.5230202058054565,3.523350523344706,3.5233512650798504,3.5233512650866161,3.5233512650866161,3.5233512650866161,3.5233512650866161]
[null,"Metros",400,{"$f":"($O$52/(4*PI()*$O$53))*C170","v":0},1.6336600958561085E-238,2.8984945042579564E-97,5.1521585260789682E-50,3.0516656154193125E-26,3.2795782178366618E-14,4.6965653024410626E-8,7.6286492726048406E-5,4.0677344901135053E-3,3.8047980303298451E-2,0.14387287353201611,0.33430936790546212,0.59103372074441574,0.88929685247176682,1.2104311552087632,1.5427168760037597,1.8787812413643623,2.2128688150150149,2.5383690476796121,2.8451883194326015,3.1169518116256421,3.3301625252815312,3.4622007299463893,3.5141828565332989,3.5230202058054565,3.523350523344706,3.5233512650798504,3.5233512650866161,3.5233512650866161]
[null,"Metros",500,{"$f":"($O$52/(4*PI()*$O$53))*C171","v":0},0,2.8149346107071046E-150,1.2876088790390619E-76,1.2262697471074493E-39,5.3072148649724638E-21,1.5368518594752717E-11,1.1363050551182634E-6,4.1596039844279102E-4,1.0415264117373655E-2,6.592983195596834E-2,0.2025449864198435,0.41948653437175182,0.69363119353957681,1.0017777536065402,1.3279397026111734,1.6622783672173551,1.9982907439625315,2.3301986389512392,2.6504715705524919,2.9470804157269597,3.20095606725878,3.3872306508966425,3.4885840034394344,3.5198710901276198,3.5232938407841075,3.523351237635171,3.5233512650866046,3.5233512650866161]
[null,"Metros",1000,{"$f":"($O$52/(4*PI()*$O$53))*C172","v":0},0,0,2.6789714105707447E-297,2.8149346107071046E-150,1.2876088790390619E-76,1.2262697471074493E-39,5.3072148649724638E-21,1.5368518594752717E-11,1.1363050551182634E-6,4.1596039844279102E-4,1.0415264117373655E-2,6.592983195596834E-2,0.2025449864198435,0.41948653437175182,0.69363119353957681,1.0017777536065402,1.3279397026111734,1.6622783672173551,1.9982907439625315,2.3301986389512392,2.6504715705524919,2.9470804157269597,3.20095606725878,3.3872306508966425,3.4885840034394344,3.5198710901276198,3.5232938407841075,3.523351237635171]
[null,"Metros",1500,{"$f":"($O$52/(4*PI()*$O$53))*C173","v":0},0,0,0,0,1.1437177076354543E-168,7.741821140038183E-86,2.8376046858684979E-44,2.4114012335373328E-23,9.8004868912953884E-13,2.7219748207748233E-7,1.9390233578606315E-4,6.808854373092945E-3,5.1348232031541152E-2,0.17320420901320105,0.37786994116846395,0.64409490431199545,0.94779782427518999,1.2717267060836088,1.6051914763632753,1.9413162339422756,2.2743719963154341,2.5973096879537954,2.899069475608012,3.1618768669169617,3.3613619641786108,3.4772478586328628,3.5176895692728274,3.5232123067839667]
[null,"Metros",2000,{"$f":"($O$52/(4*PI()*$O$53))*C174","v":0},0,0,0,0,2.6789714105707447E-297,2.8149346107071046E-150,1.2876088790390619E-76,1.2262697471074493E-39,5.3072148649724638E-21,1.5368518594752717E-11,1.1363050551182634E-6,4.1596039844279102E-4,1.0415264117373655E-2,6.592983195596834E-2,0.2025449864198435,0.41948653437175182,0.69363119353957681,1.0017777536065402,1.3279397026111734,1.6622783672173551,1.9982907439625315,2.3301986389512392,2.6504715705524919,2.9470804157269597,3.20095606725878,3.3872306508966425,3.4885840034394344,3.5198710901276198]
[null,"Metros",4000,{"$f":"($O$52/(4*PI()*$O$53))*C175","v":0},0,0,0,0,0,0,2.6789714105707447E-297,2.8149346107071046E-150,1.2876088790390619E-76,1.2262697471074493E-39,5.3072148649724638E-21,1.5368518594752717E-11,1.1363050551182634E-6,4.1596039844279102E-4,1.0415264117373655E-2,6.592983195596834E-2,0.2025449864198435,0.41948653437175182,0.69363119353957681,1.0017777536065402,1.3279397026111734,1.6622783672173551,1.9982907439625315,2.3301986389512392,2.6504715705524919,2.9470804157269597,3.20095606725878,3.3872306508966425]
[null,"Metros",8000,{"$f":"($O$52/(4*PI()*$O$53))*C176","v":0},0,0,0,0,0,0,0,0,2.6789714105707447E-297,2.8149346107071046E-150,1.2876088790390619E-76,1.2262697471074493E-39,5.3072148649724638E-21,1.5368518594752717E-11,1.1363050551182634E-6,4.1596039844279102E-4,1.0415264117373655E-2,6.592983195596834E-2,0.2025449864198435,0.41948653437175182,0.69363119353957681,1.0017777536065402,1.3279397026111734,1.6622783672173551,1.9982907439625315,2.3301986389512392,2.6504715705524919,2.9470804157269597]
[null,"Metros",16000,{"$f":"($O$52/(4*PI()*$O$53))*C177","v":0},0,0,0,0,0,0,0,0,0,0,2.6789714105707447E-297,2.8149346107071046E-150,1.2876088790390619E-76,1.2262697471074493E-39,5.3072148649724638E-21,1.5368518594752717E-11,1.1363050551182634E-6,4.1596039844279102E-4,1.0415264117373655E-2,6.592983195596834E-2,0.2025449864198435,0.41948653437175182,0.69363119353957681,1.0017777536065402,1.3279397026111734,1.6622783672173551,1.9982907439625315,2.3301986389512392]
[null,"Metros",32000,{"$f":"($O$52/(4*PI()*$O$53))*C178","v":0},0,0,0,0,0,0,0,0,0,0,0,0,2.6789714105707447E-297,2.8149346107071046E-150,1.2876088790390619E-76,1.2262697471074493E-39,5.3072148649724638E-21,1.5368518594752717E-11,1.1363050551182634E-6,4.1596039844279102E-4,1.0415264117373655E-2,6.592983195596834E-2,0.2025449864198435,0.41948653437175182,0.69363119353957681,1.0017777536065402,1.3279397026111734,1.6622783672173551]
[null,"Metros",64000,{"$f":"($O$52/(4*PI()*$O$53))*C179","v":0},0,0,0,0,0,0,0,0,0,0,0,0,0,0,2.6789714105707447E-297,2.8149346107071046E-150,1.2876088790390619E-76,1.2262697471074493E-39,5.3072148649724638E-21,1.5368518594752717E-11,1.1363050551182634E-6,4.1596039844279102E-4,1.0415264117373655E-2,6.592983195596834E-2,0.2025449864198435,0.41948653437175182,0.69363119353957681,1.0017777536065402]
[]
[]
[]
[]
[]
[]
[]
[]
[]
[null,null,null,null,null,null,null,null,null,null,null,null,null,"Q =",7.0000000000000007E-2,"m²/s"]
[null,null,null,null,null,null,null,null,null,null,null,null,null,"T =",1.2E-2,"m³/s"]
[null,null,null,null,null,null,null,null,null,null,null,null,null,"Ss =",1.8599999999999999E-4]
[null,null,null,null,null,null,null,null,null,null,null,null,null,"Sy =",0.1]
[null,null,null,null,null,null,null,null,null,null,null,null,null,"L =",0.22,"m/s"]
[null,null,null,null,null,null,null,null,null,null,null,null,null,"k' =",1.7769398444047077E-6,"m/s"]
[null,null,null,null,null,null,null,null,null,null,null,null,null,"b' =",93,"m"]
[]
[null,null,"Tempo","Seg.","Seg.","Seg.","Seg.","Seg.","Seg.","Min.","Min.","Min.","Min.","Min.","Min.","Hora","Horas","Horas","Horas","Dia","Dias","Dias","Dias","Dias","Dias","Dias","Dias","Dias","Dias","Anos","Anos","Anos"]
[null,"Distância",null,{"$f":"+D26","v":1},2,5,10,20,40,1.3333333333333333,2.6666666666666665,5.333333333333333,10.666666666666666,21.333333333333332,42.666666666666664,1.4222222222222223,2.8444444444444446,5.6888888888888891,11.377777777777778,0.94814814814814818,1.8962962962962964,3.7925925925925927,7.5851851851851855,15.170370370370371,30.340740740740742,60.681481481481484,121.36296296296297,242.72592592592594,485.45185185185187,2.6600101471334354,5.3200202942668771,10.640040588533726]
[null,"Metros",{"$f":"+C27","v":20},{"$f":"($O$83/$O$84)*Eta_3(($C93/$O$87),((C$130*$O$84)/($O$85*($O$87^2))),$O$85/$O$86,((($O$88/$O$89)*($O$87^2)))/$O$84)","v":-1.3657328487165962E-7},-3.6067525971059118E-8,3.0370310041133447E-7,8.428950076105891E-7,2.4079331523615042E-6,6.7286531607822315E-6,1.7679558014562412E-5,4.4296363528502823E-5,1.0705415323368032E-4,2.5144480678418457E-4,5.7681633410032007E-4,1.2957622549630845E-3,2.8529516987047905E-3,6.1335080610674022E-3,1.307267123730462E-2,2.5662320312349517E-2,5.8047498856749209E-2,0.10843946943753634,0.17834315682062332,0.38207130010137796,0.83500676319165323,1.5789574705474498,2.553785862920372,3.5342120250276108,4.2426026110126838,4.6880616418533387,5.0473441472009499,5.3851573017713044,5.7178084607279915]
[null,"Metros",50,{"$f":"($O$83/$O$84)*Eta_3(($C94/$O$87),((C$130*$O$84)/($O$85*($O$87^2))),$O$85/$O$86,((($O$88/$O$89)*($O$87^2)))/$O$84)","v":-3.5373514548506036E-10},-2.128648860068607E-8,-1.2570004530599219E-7,-6.9288102009373866E-8,3.8458119247057149E-7,2.039915516146666E-6,6.8986649383318008E-6,2.1001080832740625E-5,5.8319946972922504E-5,1.5132871969391246E-4,3.7342716047911178E-4,8.8550888667451877E-4,2.0282897868131406E-3,4.4935911964916666E-3,9.6309787921287464E-3,2.003900737029635E-2,4.0754760074959574E-2,8.1830991941440626E-2,0.16173345599932532,0.32354161833993228,0.59617706851462915,1.0707656952568239,1.8311299794059253,2.710302505839242,3.3940766780884708,3.8374653896194024,4.1966843842629498,4.534482434693313,4.867126850304663]
[null,"Metros",100,{"$f":"($O$83/$O$84)*Eta_3(($C95/$O$87),((C$130*$O$84)/($O$85*($O$87^2))),$O$85/$O$86,((($O$88/$O$89)*($O$87^2)))/$O$84)","v":-3.5180718852901855E-22},-4.5215449965574956E-14,-1.9576009547785838E-9,-4.413667114157775E-8,-1.1697715005193691E-7,1.0620222617418093E-7,1.6202641006368239E-6,7.6733784901602178E-6,2.7013151642681553E-5,8.2600845724353791E-5,2.2833710149728259E-4,5.8616795935291976E-4,1.419139524002633E-3,3.2643877263141092E-3,7.1623744123717574E-3,1.5090416354867679E-2,3.0919683719951206E-2,6.2315938171243992E-2,0.12387522612003124,0.24258091817031641,0.46309615283143529,0.85204718755287434,1.4292113763631864,2.1346481419087646,2.7571280049367726,3.1942654914124557,3.5532641110734029,3.8910082258574437,4.2236285593319458]
[null,"Metros",200,{"$f":"($O$83/$O$84)*Eta_3(($C96/$O$87),((C$130*$O$84)/($O$85*($O$87^2))),$O$85/$O$86,((($O$88/$O$89)*($O$87^2)))/$O$84)","v":-4.6046573025523283E-72},-1.0513614933086761E-38,-6.5793445716153465E-19,-1.7671555257285573E-12,-2.0324615802253925E-9,-4.6449666773192203E-8,-8.2244959358560035E-8,8.0276964969869713E-7,6.4991218212163979E-6,2.9728820360857652E-5,1.0470461648626427E-4,3.1541154938791638E-4,8.4904921938614808E-4,2.091872729195708E-3,4.7840522429061045E-3,1.030710678076192E-2,2.1351797754094761E-2,4.3261411611642986E-2,8.6381043063445351E-2,0.16995392146746516,0.32642626255840351,0.60220537899737736,1.0355539220186285,1.5936022374254577,2.1292699036458402,2.551950400770592,2.9101443759694399,3.2476728669693937,3.5801968912583888]
[null,"Metros",400,{"$f":"($O$83/$O$84)*Eta_3(($C97/$O$87),((C$130*$O$84)/($O$85*($O$87^2))),$O$85/$O$86,((($O$88/$O$89)*($O$87^2)))/$O$84)","v":-1.9104234934252628E-273},-4.3827600857625981E-139,-1.0814202220382526E-58,-4.6168551868825679E-32,-6.8253379692392562E-19,-1.9008736333274015E-12,-2.3306682058684999E-9,-5.5629696961130924E-8,5.4154134353194785E-8,3.504193020351677E-6,2.5024016788207048E-5,1.1071536531592532E-4,3.7547659163966512E-4,1.0654734727535513E-3,2.6437195903838977E-3,5.9409296768889643E-3,1.2556354290201254E-2,2.5704667497094571E-2,5.1666053428786149E-2,0.10226694306809379,0.19848834425465844,0.37289494985148952,0.66014799953908199,1.0635485296804348,1.5109557699302691,1.9127433791129005,2.2682247107048754,2.6048925348859262,2.9370316320269176]
[null,"Metros",500,{"$f":"($O$83/$O$84)*Eta_3(($C98/$O$87),((C$130*$O$84)/($O$85*($O$87^2))),$O$85/$O$86,((($O$88/$O$89)*($O$87^2)))/$O$84)","v":0},-1.2320218987441231E-214,-8.578138460451332E-89,-5.157013293038659E-47,-2.8637868949157735E-26,-4.9062530031516966E-16,-4.7805267055720665E-11,-1.1243526131635963E-8,-9.3290719922636922E-8,8.8201358515666375E-7,1.1804075818877316E-5,6.658257619777605E-5,2.5811723686957011E-4,7.9087587247680718E-4,2.0480878271840592E-3,4.7019936404659951E-3,1.0036470488581582E-2,2.0647698757337494E-2,4.16315225008725E-2,8.2676780619456755E-2,0.16114469851629412,0.30512910158418766,0.54810699247927785,0.90199734479343707,1.3166460158359048,1.7086505519004751,2.0622557360692428,2.3982799150153369,2.7301306415555415]
[null,"Metros",1000,{"$f":"($O$83/$O$84)*Eta_3(($C99/$O$87),((C$130*$O$84)/($O$85*($O$87^2))),$O$85/$O$86,((($O$88/$O$89)*($O$87^2)))/$O$84)","v":0},0,0,-1.2019260186450348E-172,-8.8356673883261886E-89,-5.5115867592655367E-47,-3.2676333375680807E-26,-6.2553043760911904E-16,-7.2080515302329362E-11,-2.0435265770416173E-8,-1.4375485431479006E-7,3.5191779663491279E-6,3.9422397122070948E-5,1.9789438712572441E-4,6.5888778243536805E-4,1.7024385003027236E-3,3.825000741725741E-3,8.0636467541855949E-3,1.6509474256076496E-2,3.3277749490653166E-2,6.6303821341983843E-2,0.13026151335525096,0.24925692855032741,0.45298237840396738,0.74813140515849563,1.0894086994872569,1.4286480606214691,1.7593681208516017,2.0888265427330794]
[null,"Metros",1500,{"$f":"($O$83/$O$84)*Eta_3(($C100/$O$87),((C$130*$O$84)/($O$85*($O$87^2))),$O$85/$O$86,((($O$88/$O$89)*($O$87^2)))/$O$84)","v":0},0,0,0,-1.2471402246612523E-193,-3.1151634604716823E-99,-3.6975520861241258E-52,-1.0031365781738863E-28,-4.3762057654564316E-17,-2.570315081876453E-11,-1.7362122783155297E-8,-2.39981558699613E-7,3.8493880508168095E-6,4.8251482581273868E-5,2.2875544200601577E-4,6.8549814681110406E-4,1.6311599878003943E-3,3.5259266556839871E-3,7.3282224126281553E-3,1.4986022256693947E-2,3.0487187898138934E-2,6.2026301540805122E-2,0.12592054337151742,0.2498626648271218,0.46176316787983523,0.75051070158855504,1.0684504330589861,1.3905593032592571,1.7160729859131707]
[null,"Metros",2000,{"$f":"($O$83/$O$84)*Eta_3(($C101/$O$87),((C$130*$O$84)/($O$85*($O$87^2))),$O$85/$O$86,((($O$88/$O$89)*($O$87^2)))/$O$84)","v":0},0,0,0,0,-1.2528330740857052E-172,-9.8618111228987555E-89,-6.9189070127853705E-47,-4.8578858495964276E-26,-1.1482297210635225E-15,-1.6306685136505555E-10,-5.2722296978608434E-8,-3.1985441880765924E-7,9.2705554227006971E-6,7.8383332379529592E-5,2.8648063282342808E-4,7.2987762611778618E-4,1.6200065466914063E-3,3.4176584734446846E-3,7.0881258889684213E-3,1.4714144527497756E-2,3.096243887246768E-2,6.6419154765604824E-2,0.14316436554963063,0.29382613243780087,0.5317825920356225,0.82352617771932846,1.1340380699489017,1.4541169033588872]
[null,"Metros",4000,{"$f":"($O$83/$O$84)*Eta_3(($C102/$O$87),((C$130*$O$84)/($O$85*($O$87^2))),$O$85/$O$86,((($O$88/$O$89)*($O$87^2)))/$O$84)","v":0},0,0,0,0,0,0,-1.4548985302351302E-172,-1.3903517102274911E-88,-1.23763754398576E-46,-1.0833925301184992E-25,-2.991090773250378E-15,-4.4508872167032348E-10,-1.3161714141707449E-7,-8.7595598594149434E-7,5.8735227475926709E-6,3.2605852243391517E-5,8.818294636404143E-5,1.9991617173366254E-4,4.36516353044355E-4,9.7476852369129019E-4,2.3181501287480467E-3,6.0551716146272395E-3,1.7408869753973131E-2,5.2016319293827377E-2,0.14249895946235749,0.31632863637676761,0.55957278082409601,0.84498470280810067]
[null,"Metros",8000,{"$f":"($O$83/$O$84)*Eta_3(($C103/$O$87),((C$130*$O$84)/($O$85*($O$87^2))),$O$85/$O$86,((($O$88/$O$89)*($O$87^2)))/$O$84)","v":0},0,0,0,0,0,0,0,0,-2.2386880861216191E-172,-2.9106727553610114E-88,-3.1683047106452587E-46,-2.9543688090174982E-25,-7.5269287799863792E-15,-8.8584612253217023E-10,-1.9567851419400358E-7,-1.8059573999786579E-6,-3.1178412781794673E-6,-9.6818863390119229E-7,3.4640702745672507E-6,9.5991446609109551E-6,2.2356029572575773E-5,6.7464945972970018E-5,2.8621892184786917E-4,1.5616625037359203E-3,9.0234441126670721E-3,4.3726682734163774E-2,0.1437417186448573,0.32655814244353865]
[null,"Metros",16000,{"$f":"($O$83/$O$84)*Eta_3(($C104/$O$87),((C$130*$O$84)/($O$85*($O$87^2))),$O$85/$O$86,((($O$88/$O$89)*($O$87^2)))/$O$84)","v":0},0,0,0,0,0,0,0,0,0,0,-5.0142090863581121E-172,-7.6884529337420979E-88,-7.9809752095739558E-46,-5.9769475337622809E-25,-1.0965410497946451E-14,-9.8860120237401234E-10,-2.0169617518124671E-7,-1.8943930092843013E-6,-3.4521745477342563E-6,-1.844011133126356E-6,1.3019956303057939E-6,3.9767228980579627E-6,5.6691968059776505E-6,7.4808706546812181E-6,-5.1359274213362128E-5,2.4915685675669678E-4,5.699827714428468E-3,4.1580101841994399E-2]
[null,"Metros",32000,{"$f":"($O$83/$O$84)*Eta_3(($C105/$O$87),((C$130*$O$84)/($O$85*($O$87^2))),$O$85/$O$86,((($O$88/$O$89)*($O$87^2)))/$O$84)","v":0},0,0,0,0,0,0,0,0,0,0,0,0,-1.195834864655062E-171,-1.5508213025866407E-87,-1.1771817303319503E-45,-6.7309033068456642E-25,-1.1099059334003482E-14,-9.8881470096265053E-10,-2.0170175686652659E-7,-1.8944159563148412E-6,-3.4522468125210605E-6,-1.8442570026407903E-6,1.3009392392783795E-6,3.9702836167051954E-6,-5.216022499831201E-5,-9.8614224389764231E-5,-1.2502698194842091E-4,2.8695428540154126E-5]
[null,"Metros",64000,{"$f":"($O$83/$O$84)*Eta_3(($C106/$O$87),((C$130*$O$84)/($O$85*($O$87^2))),$O$85/$O$86,((($O$88/$O$89)*($O$87^2)))/$O$84)","v":0},0,0,0,0,0,0,0,0,0,0,0,0,0,0,-1.7488300276713843E-171,-1.7525026021209464E-87,-1.193532991730586E-45,-6.7320930436721237E-25,-1.1099059625420803E-14,-9.8881470097897908E-10,-2.0170175686663231E-7,-1.8944159563154769E-6,-3.4522468125288909E-6,-1.8442570026873386E-6,-1.9706335150759122E-5,-2.5240105778548419E-5,-2.6736454148107605E-5,-2.7344953817774357E-5]
[]
[]
[]
[]
[]
[]
[]
[]
[]
[]
[]
[]
[]
[]
[]
[]
[]
[]
[]
[]
[]
[]
[]
[null,"W(u) p r/t",{"$f":"+D26","v":1},{"$f":"+C130*2","v":2},5,{"$f":"+E130*2","v":10},{"$f":"+F130*2","v":20},40,80,160,320,640,1280,2560,5120,10240,20480,40960,81920,163840,327680,655360,1310720,2621440,5242880,10485760,20971520,{"$f":"+AA130*2","v":41943040},{"$f":"+AB130*2","v":83886080},167772160,335544320]
[null,{"$f":"+#REF!","v":{"$error":"#REF!"}},{"$f":"+expint1(C148)","v":{"$error":"#VALUE!"}},{"$error":"#VALUE!"},{"$error":"#VALUE!"},{"$error":"#VALUE!"},{"$error":"#VALUE!"},{"$error":"#VALUE!"},{"$error":"#VALUE!"},{"$error":"#VALUE!"},{"$error":"#VALUE!"},{"$error":"#VALUE!"},{"$error":"#VALUE!"},{"$error":"#VALUE!"},{"$error":"#VALUE!"},{"$error":"#VALUE!"},{"$error":"#VALUE!"},{"$error":"#VALUE!"},{"$error":"#VALUE!"},{"$error":"#VALUE!"},{"$error":"#VALUE!"},{"$error":"#VALUE!"},{"$error":"#VALUE!"},{"$error":"#VALUE!"},{"$error":"#VALUE!"},{"$error":"#VALUE!"},{"$error":"#VALUE!"},{"$error":"#VALUE!"},{"$error":"#VALUE!"},{"$error":"#VALUE!"},{"$error":"#VALUE!"}]
[null,{"$f":"+C27","v":20},{"$f":"+expint1(C149)","v":1E-100},1E-100,6.885358218562377E-90,3.683733312227388E-46,3.7835207945149402E-24,5.3495232552921968E-13,2.774436119949718E-7,2.7053620886043712E-4,1.1139480649337459E-2,9.1202308902727527E-2,0.32135408406291038,0.71835284569387892,1.2421137454475082,1.8444086194133393,2.4904714088544746,3.1596460277171405,3.8406972946477684,4.5277688508647165,5.2178712696905576,5.9094943278911547,6.6018790113846073,7.294644834375319,7.98760130888361,8.680653129599964,9.3737526285335484,10.066875967854154,10.760011227687889,11.453152447858093,12.146296648216509]
[null,50,{"$f":"+expint1(C150)","v":1E-100},1E-100,1E-100,1E-100,1E-100,8.8089558785380274E-71,1.4877075621427802E-36,2.7097437292621659E-19,1.6079668505297758E-10,5.3719613676920612E-6,1.318176474698114E-3,2.692550300411542E-2,0.15332927280203754,0.4450400330024385,0.89303733058354262,1.4497577397495607,2.0708088819952346,2.7268792588164077,3.4012231958751267,4.0849015639905968,4.7732974165556312,5.464064687064023,6.1560208491271178,6.8485722543257888,7.5414214806462248,8.2344196674428627,8.927492346959788,9.6206022759578218,10.313730830476704]
[null,100,{"$f":"+expint1(C151)","v":1E-100},1E-100,1E-100,1E-100,1E-100,1E-100,1E-100,8.8089558785380274E-71,1.4877075621427802E-36,2.7097437292621659E-19,1.6079668505297758E-10,5.3719613676920612E-6,1.318176474698114E-3,2.692550300411542E-2,0.15332927280203754,0.4450400330024385,0.89303733058354262,1.4497577397495607,2.0708088819952346,2.7268792588164077,3.4012231958751267,4.0849015639905968,4.7732974165556312,5.464064687064023,6.1560208491271178,6.8485722543257888,7.5414214806462248,8.2344196674428627,8.927492346959788]
[null,200,{"$f":"+expint1(C152)","v":1E-100},1E-100,1E-100,1E-100,1E-100,1E-100,1E-100,1E-100,1E-100,8.8089558785380274E-71,1.4877075621427802E-36,2.7097437292621659E-19,1.6079668505297758E-10,5.3719613676920612E-6,1.318176474698114E-3,2.692550300411542E-2,0.15332927280203754,0.4450400330024385,0.89303733058354262,1.4497577397495607,2.0708088819952346,2.7268792588164077,3.4012231958751267,4.0849015639905968,4.7732974165556312,5.464064687064023,6.1560208491271178,6.8485722543257888,7.5414214806462248]
[null,400,{"$f":"+expint1(C153)","v":1E-100},1E-100,1E-100,1E-100,1E-100,1E-100,1E-100,1E-100,1E-100,1E-100,1E-100,8.8089558785380274E-71,1.4877075621427802E-36,2.7097437292621659E-19,1.6079668505297758E-10,5.3719613676920612E-6,1.318176474698114E-3,2.692550300411542E-2,0.15332927280203754,0.4450400330024385,0.89303733058354262,1.4497577397495607,2.0708088819952346,2.7268792588164077,3.4012231958751267,4.0849015639905968,4.7732974165556312,5.464064687064023,6.1560208491271178]
[null,500,{"$f":"+expint1(C154)","v":1E-100},1E-100,1E-100,1E-100,1E-100,1E-100,1E-100,1E-100,1E-100,1E-100,1E-100,1E-100,7.8600459838434475E-56,5.0149297695099443E-29,1.7712825344769917E-15,1.4576559769268105E-8,5.6967179020112724E-5,4.7355900500485023E-3,5.5639072243558019E-2,0.23724730856899606,0.58888157149566711,1.0814400290189767,1.665407386764959,2.3015339852201704,2.9655348662093535,3.6439462084064451,4.3296843276026546,5.0191166325958578,5.710403781697031]
[null,1000,{"$f":"+expint1(C155)","v":1E-100},1E-100,1E-100,1E-100,1E-100,1E-100,1E-100,1E-100,1E-100,1E-100,1E-100,1E-100,1E-100,1E-100,7.8600459838434475E-56,5.0149297695099443E-29,1.7712825344769917E-15,1.4576559769268105E-8,5.6967179020112724E-5,4.7355900500485023E-3,5.5639072243558019E-2,0.23724730856899606,0.58888157149566711,1.0814400290189767,1.665407386764959,2.3015339852201704,2.9655348662093535,3.6439462084064451,4.3296843276026546]
[null,1500,1E-100,1E-100,1E-100,1E-100,1E-100,1E-100,1E-100,1E-100,1E-100,1E-100,1E-100,1E-100,1E-100,1E-100,1E-100,1.6513902363501327E-62,2.170012001196491E-32,3.4824180489818069E-17,1.9357145780050032E-9,1.9726220481653013E-5,2.6603711160522203E-3,4.0041107134568599E-2,0.19443631830895206,0.51786324320358601,0.98998441894013434,1.561620507752205,2.190970512691047,2.8514187459454288,3.5280111401132035]
[null,2000,{"$f":"+expint1(C157)","v":1E-100},1E-100,1E-100,1E-100,1E-100,1E-100,1E-100,1E-100,1E-100,1E-100,1E-100,1E-100,1E-100,1E-100,1E-100,1E-100,7.8600459838434475E-56,5.0149297695099443E-29,1.7712825344769917E-15,1.4576559769268105E-8,5.6967179020112724E-5,4.7355900500485023E-3,5.5639072243558019E-2,0.23724730856899606,0.58888157149566711,1.0814400290189767,1.665407386764959,2.3015339852201704,2.9655348662093535]
[null,4000,{"$f":"+expint1(C158)","v":1E-100},1E-100,1E-100,1E-100,1E-100,1E-100,1E-100,1E-100,1E-100,1E-100,1E-100,1E-100,1E-100,1E-100,1E-100,1E-100,1E-100,1E-100,7.8600459838434475E-56,5.0149297695099443E-29,1.7712825344769917E-15,1.4576559769268105E-8,5.6967179020112724E-5,4.7355900500485023E-3,5.5639072243558019E-2,0.23724730856899606,0.58888157149566711,1.0814400290189767,1.665407386764959]
[null,8000,{"$f":"+expint1(C159)","v":1E-100},1E-100,1E-100,1E-100,1E-100,1E-100,1E-100,1E-100,1E-100,1E-100,1E-100,1E-100,1E-100,1E-100,1E-100,1E-100,1E-100,1E-100,1E-100,1E-100,7.8600459838434475E-56,5.0149297695099443E-29,1.7712825344769917E-15,1.4576559769268105E-8,5.6967179020112724E-5,4.7355900500485023E-3,5.5639072243558019E-2,0.23724730856899606,0.58888157149566711]
[null,16000,{"$f":"+expint1(C160)","v":1E-100},1E-100,1E-100,1E-100,1E-100,1E-100,1E-100,1E-100,1E-100,1E-100,1E-100,1E-100,1E-100,1E-100,1E-100,1E-100,1E-100,1E-100,1E-100,1E-100,1E-100,1E-100,7.8600459838434475E-56,5.0149297695099443E-29,1.7712825344769917E-15,1.4576559769268105E-8,5.6967179020112724E-5,4.7355900500485023E-3,5.5639072243558019E-2]
[null,32000,{"$f":"+expint1(C161)","v":1E-100},1E-100,1E-100,1E-100,1E-100,1E-100,1E-100,1E-100,1E-100,1E-100,1E-100,1E-100,1E-100,1E-100,1E-100,1E-100,1E-100,1E-100,1E-100,1E-100,1E-100,1E-100,1E-100,1E-100,7.8600459838434475E-56,5.0149297695099443E-29,1.7712825344769917E-15,1.4576559769268105E-8,5.6967179020112724E-5]
[null,64000,{"$f":"+expint1(C162)","v":1E-100},1E-100,1E-100,1E-100,1E-100,1E-100,1E-100,1E-100,1E-100,1E-100,1E-100,1E-100,1E-100,1E-100,1E-100,1E-100,1E-100,1E-100,1E-100,1E-100,1E-100,1E-100,1E-100,1E-100,1E-100,1E-100,7.8600459838434475E-56,5.0149297695099443E-29,1.7712825344769917E-15]
[]
[null,"u p r/t",1,{"$f":"+C147*2","v":2},5,{"$f":"+E147*2","v":10},{"$f":"+F147*2","v":20},40,80,160,320,640,1280,2560,5120,10240,20480,40960,81920,163840,327680,655360,1310720,2621440,5242880,10485760,20971520,{"$f":"+AA147*2","v":41943040},{"$f":"+AB147*2","v":83886080},167772160,335544320]
[null,{"$f":"+#REF!","v":{"$error":"#REF!"}},{"$f":"+($O$21*($B$148)^2)/(4*$O$20*C147)","v":{"$error":"#REF!"}},{"$f":"+($O$21*(B148)^2)/(4*$O$20*$D$147)","v":{"$error":"#REF!"}},{"$f":"+($O$21*(B148)^2)/(4*$O$20*$E$147)","v":{"$error":"#REF!"}},{"$f":"+($O$21*(B148)^2)/(4*$O$20*$F$147)","v":{"$error":"#REF!"}},{"$f":"+($O$21*(B148)^2)/(4*$O$20*$G$147)","v":{"$error":"#REF!"}},{"$f":"+($O$21*(B148)^2)/(4*$O$20*$H$147)","v":{"$error":"#REF!"}},{"$f":"+($O$21*(B148)^2)/(4*$O$20*$I$147)","v":{"$error":"#REF!"}},{"$f":"+($O$21*(B148)^2)/(4*$O$20*$J$147)","v":{"$error":"#REF!"}},{"$f":"+($O$21*(B148)^2)/(4*$O$20*$K$147)","v":{"$error":"#REF!"}},{"$f":"+($O$21*(B148)^2)/(4*$O$20*$L$147)","v":{"$error":"#REF!"}},{"$f":"+($O$21*(B148)^2)/(4*$O$20*$M$147)","v":{"$error":"#REF!"}},{"$f":"+($O$21*(B148)^2)/(4*$O$20*$N$147)","v":{"$error":"#REF!"}},{"$f":"+($O$21*(B148)^2)/(4*$O$20*$O$147)","v":{"$error":"#REF!"}},{"$f":"+($O$21*(B148)^2)/(4*$O$20*$P$147)","v":{"$error":"#REF!"}},{"$f":"+($O$21*(B148)^2)/(4*$O$20*$Q$147)","v":{"$error":"#REF!"}},{"$f":"+($O$21*(B148)^2)/(4*$O$20*$R$147)","v":{"$error":"#REF!"}},{"$f":"+($O$21*(B148)^2)/(4*$O$20*$S$147)","v":{"$error":"#REF!"}},{"$f":"+($O$21*(B148)^2)/(4*$O$20*$T$147)","v":{"$error":"#REF!"}},{"$f":"+($O$21*(B148)^2)/(4*$O$20*$U$147)","v":{"$error":"#REF!"}},{"$f":"+($O$21*($B$148)^2)/(4*$O$20*V147)","v":{"$error":"#REF!"}},{"$f":"+($O$21*(B148)^2)/(4*$O$20*$W$147)","v":{"$error":"#REF!"}},{"$f":"+($O$21*(B148)^2)/(4*$O$20*$X$147)","v":{"$error":"#REF!"}},{"$f":"+($O$21*(B148)^2)/(4*$O$20*$Y$147)","v":{"$error":"#REF!"}},{"$f":"+($O$21*(B148)^2)/(4*$O$20*$Z$147)","v":{"$error":"#REF!"}},{"$f":"+($O$21*(B148)^2)/(4*$O$20*$AA$147)","v":{"$error":"#REF!"}},{"$f":"+($O$21*(B148)^2)/(4*$O$20*$AB$147)","v":{"$error":"#REF!"}},{"$f":"+($O$21*(B148)^2)/(4*$O$20*$AC$147)","v":{"$error":"#REF!"}},{"$f":"+($O$21*(B148)^2)/(4*$O$20*$AD$147)","v":{"$error":"#REF!"}},{"$f":"+($O$21*(B148)^2)/(4*$O$20*$AE$147)","v":{"$error":"#REF!"}}]
[null,{"$f":"+C27","v":20},{"$f":"+($O$21*(B149)^2)/(4*$O$20*$C$147)","v":1000},500,200,100,50,25,12.5,6.25,3.125,1.5625,0.78125,0.390625,0.1953125,9.765625E-2,4.8828125E-2,2.44140625E-2,1.220703125E-2,6.103515625E-3,3.0517578125E-3,{"$f":"+($O$21*(B149)^2)/(4*$O$20*$V$147)","v":1.52587890625E-3},7.62939453125E-4,3.814697265625E-4,1.9073486328125E-4,9.5367431640625E-5,4.76837158203125E-5,2.384185791015625E-5,1.1920928955078125E-5,5.9604644775390625E-6,2.9802322387695313E-6]
[null,50,6250,3125,1250,625,312.5,156.25,78.125,39.0625,19.53125,9.765625,4.8828125,2.44140625,1.220703125,0.6103515625,0.30517578125,0.152587890625,7.62939453125E-2,3.814697265625E-2,1.9073486328125E-2,9.5367431640625E-3,4.76837158203125E-3,2.384185791015625E-3,1.1920928955078125E-3,5.9604644775390625E-4,2.9802322387695313E-4,1.4901161193847656E-4,7.4505805969238281E-5,3.7252902984619141E-5,1.862645149230957E-5]
[null,100,25000,12500,5000,2500,1250,625,312.5,156.25,78.125,39.0625,19.53125,9.765625,4.8828125,2.44140625,1.220703125,0.6103515625,0.30517578125,0.152587890625,7.62939453125E-2,3.814697265625E-2,1.9073486328125E-2,9.5367431640625E-3,4.76837158203125E-3,2.384185791015625E-3,1.1920928955078125E-3,5.9604644775390625E-4,2.9802322387695313E-4,1.4901161193847656E-4,7.4505805969238281E-5]
[null,200,100000,50000,20000,10000,5000,2500,1250,625,312.5,156.25,78.125,39.0625,19.53125,9.765625,4.8828125,2.44140625,1.220703125,0.6103515625,0.30517578125,0.152587890625,7.62939453125E-2,3.814697265625E-2,1.9073486328125E-2,9.5367431640625E-3,4.76837158203125E-3,2.384185791015625E-3,1.1920928955078125E-3,5.9604644775390625E-4,2.9802322387695313E-4]
[null,400,400000,200000,80000,40000,20000,10000,5000,2500,1250,625,312.5,156.25,78.125,39.0625,19.53125,9.765625,4.8828125,2.44140625,1.220703125,0.6103515625,0.30517578125,0.152587890625,7.62939453125E-2,3.814697265625E-2,1.9073486328125E-2,9.5367431640625E-3,4.76837158203125E-3,2.384185791015625E-3,1.1920928955078125E-3]
[null,500,625000,312500,125000,62500,31250,15625,7812.5,3906.25,1953.125,976.5625,488.28125,244.140625,122.0703125,61.03515625,30.517578125,15.2587890625,7.62939453125,3.814697265625,1.9073486328125,0.95367431640625,0.476837158203125,0.2384185791015625,0.11920928955078125,5.9604644775390625E-2,2.9802322387695313E-2,1.4901161193847656E-2,7.4505805969238281E-3,3.7252902984619141E-3,1.862645149230957E-3]
[null,1000,2500000,1250000,500000,250000,125000,62500,31250,15625,7812.5,3906.25,1953.125,976.5625,488.28125,244.140625,122.0703125,61.03515625,30.517578125,15.2587890625,7.62939453125,3.814697265625,1.9073486328125,0.95367431640625,0.476837158203125,0.2384185791015625,0.11920928955078125,5.9604644775390625E-2,2.9802322387695313E-2,1.4901161193847656E-2,7.4505805969238281E-3]
[null,1500,5625000,2812500,1125000,562500,281250,140625,70312.5,35156.25,17578.125,8789.0625,4394.53125,2197.265625,1098.6328125,549.31640625,274.658203125,137.3291015625,68.66455078125,34.332275390625,17.1661376953125,8.58306884765625,4.291534423828125,2.1457672119140625,1.0728836059570313,0.53644180297851563,0.26822090148925781,0.13411045074462891,6.7055225372314453E-2,3.3527612686157227E-2,1.6763806343078613E-2]
[null,2000,10000000,5000000,2000000,1000000,500000,250000,125000,62500,31250,15625,7812.5,3906.25,1953.125,976.5625,488.28125,244.140625,122.0703125,61.03515625,30.517578125,15.2587890625,7.62939453125,3.814697265625,1.9073486328125,0.95367431640625,0.476837158203125,0.2384185791015625,0.11920928955078125,5.9604644775390625E-2,2.9802322387695313E-2]
[null,4000,40000000,20000000,8000000,4000000,2000000,1000000,500000,250000,125000,62500,31250,15625,7812.5,3906.25,1953.125,976.5625,488.28125,244.140625,122.0703125,61.03515625,30.517578125,15.2587890625,7.62939453125,3.814697265625,1.9073486328125,0.95367431640625,0.476837158203125,0.2384185791015625,0.11920928955078125]
[null,8000,160000000,80000000,32000000,16000000,8000000,4000000,2000000,1000000,500000,250000,125000,62500,31250,15625,7812.5,3906.25,1953.125,976.5625,488.28125,244.140625,122.0703125,61.03515625,30.517578125,15.2587890625,7.62939453125,3.814697265625,1.9073486328125,0.95367431640625,0.476837158203125]
[null,16000,640000000,320000000,128000000,64000000,32000000,16000000,8000000,4000000,2000000,1000000,500000,250000,125000,62500,31250,15625,7812.5,3906.25,1953.125,976.5625,488.28125,244.140625,122.0703125,61.03515625,30.517578125,15.2587890625,7.62939453125,3.814697265625,1.9073486328125]
[null,32000,2560000000,1280000000,512000000,256000000,128000000,64000000,32000000,16000000,8000000,4000000,2000000,1000000,500000,250000,125000,62500,31250,15625,7812.5,3906.25,1953.125,976.5625,488.28125,244.140625,122.0703125,61.03515625,30.517578125,15.2587890625,7.62939453125]
[null,64000,10240000000,5120000000,2048000000,1024000000,512000000,256000000,128000000,64000000,32000000,16000000,8000000,4000000,2000000,1000000,500000,250000,125000,62500,31250,15625,7812.5,3906.25,1953.125,976.5625,488.28125,244.140625,122.0703125,61.03515625,30.517578125]
[]
[null,"W(u, r/L) ",1,{"$f":"+C164*2","v":2},5,{"$f":"+E164*2","v":10},{"$f":"+F164*2","v":20},40,80,160,320,640,1280,2560,5120,10240,20480,40960,81920,163840,327680,655360,1310720,2621440,5242880,10485760,20971520,{"$f":"+AA164*2","v":41943040},{"$f":"+AB164*2","v":83886080},167772160,335544320]
[null,{"$f":"+#REF!","v":{"$error":"#REF!"}},{"$f":"w_2(C183, $O$55)","v":{"$error":"#VALUE!"}},{"$error":"#VALUE!"},{"$error":"#VALUE!"},{"$error":"#VALUE!"},{"$error":"#VALUE!"},{"$error":"#VALUE!"},{"$error":"#VALUE!"},{"$error":"#VALUE!"},{"$error":"#VALUE!"},{"$error":"#VALUE!"},{"$error":"#VALUE!"},{"$error":"#VALUE!"},{"$error":"#VALUE!"},{"$error":"#VALUE!"},{"$error":"#VALUE!"},{"$error":"#VALUE!"},{"$error":"#VALUE!"},{"$error":"#VALUE!"},{"$error":"#VALUE!"},{"$error":"#VALUE!"},{"$error":"#VALUE!"},{"$error":"#VALUE!"},{"$error":"#VALUE!"},{"$error":"#VALUE!"},{"$error":"#VALUE!"},{"$error":"#VALUE!"},{"$error":"#VALUE!"},{"$error":"#VALUE!"},{"$error":"#VALUE!"}]
[null,{"$f":"+C27","v":20},{"$f":"w_2(C184, $O$55)","v":1.9113119573689118E-2},0.12513890665880309,0.51326173012258258,0.98365048869313509,1.5535828091459347,2.1805704096178902,2.836801348194212,3.5051587735930614,4.1736046640967528,4.8301386808438584,5.4577665014853141,6.0288870233306815,6.501235730362156,6.8253587846213186,6.9804504593467778,7.0181619297253697,7.0208466463339301,7.0208669922072229,7.0208669942615902,7.0208669942615902,7.0208669942615902,7.0208669942615902,7.0208669942615902,7.0208669942615902,7.0208669942615902,7.0208669942615902,7.0208669942615902,7.0208669942615902,7.0208669942615902]
[null,50,{"$f":"w_2(C185, $O$55)","v":2.5853237324591862E-9},2.295423290343009E-5,8.1056416673673127E-3,7.5816967713883673E-2,0.28669077623904515,0.66616735897384705,1.1777335923297672,1.7720727937315828,2.4119866306382076,3.074121534106784,3.7437860191917585,4.4095114159977857,5.0581250988810789,5.6695138410708203,6.211048076243503,6.6359061019427346,6.8990143200472014,7.0025974059750791,7.0202073032443275,7.0208655162167108,7.0208669942481086,7.0208669942615902,7.0208669942615902,7.0208669942615902,7.0208669942615902,7.0208669942615902,7.0208669942615902,7.0208669942615902,7.0208669942615902]
[null,100,{"$f":"w_2(C186, $O$55)","v":6.603122379036943E-32},6.121429044249733E-17,9.3586922896522618E-8,1.5201360255947212E-4,8.1056416673673127E-3,7.5816967713883673E-2,0.28669077623904515,0.66616735897384705,1.1777335923297672,1.7720727937315828,2.4119866306382076,3.074121534106784,3.7437860191917585,4.4095114159977857,5.0581250988810789,5.6695138410708203,6.211048076243503,6.6359061019427346,6.8990143200472014,7.0025974059750791,7.0202073032443275,7.0208655162167108,7.0208669942481086,7.0208669942615902,7.0208669942615902,7.0208669942615902,7.0208669942615902,7.0208669942615902,7.0208669942615902]
[null,200,{"$f":"w_2(C187, $O$55)","v":1.54780649507904E-120},1.5052525837340873E-61,6.0809544052922366E-26,6.5351084045668156E-14,9.3586922896522618E-8,1.5201360255947212E-4,8.1056416673673127E-3,7.5816967713883673E-2,0.28669077623904515,0.66616735897384705,1.1777335923297672,1.7720727937315828,2.4119866306382076,3.074121534106784,3.7437860191917585,4.4095114159977857,5.0581250988810789,5.6695138410708203,6.211048076243503,6.6359061019427346,6.8990143200472014,7.0025974059750791,7.0202073032443275,7.0208655162167108,7.0208669942481086,7.0208669942615902,7.0208669942615902,7.0208669942615902,7.0208669942615902]
[null,400,{"$f":"w_2(C188, $O$55)","v":0},3.2553411181261863E-238,5.7757353346070715E-97,1.0266538026847011E-49,6.0809544052922366E-26,6.5351084045668156E-14,9.3586922896522618E-8,1.5201360255947212E-4,8.1056416673673127E-3,7.5816967713883673E-2,0.28669077623904515,0.66616735897384705,1.1777335923297672,1.7720727937315828,2.4119866306382076,3.074121534106784,3.7437860191917585,4.4095114159977857,5.0581250988810789,5.6695138410708203,6.211048076243503,6.6359061019427346,6.8990143200472014,7.0025974059750791,7.0202073032443275,7.0208655162167108,7.0208669942481086,7.0208669942615902,7.0208669942615902]
[null,500,{"$f":"w_2(C189, $O$55)","v":0},0,5.6092282637712708E-150,2.5657761603117582E-76,2.4435476754306944E-39,1.0575513729262995E-20,3.0624345072202813E-11,2.2642779719257679E-6,8.2887070082553855E-4,2.0754156647048962E-2,0.13137622288860598,0.40360477937566142,0.83589711672855593,1.3821762255636378,1.9962098118277665,2.6461420752503768,3.3123678128029255,3.9819287018718743,4.6433107241959455,5.2815081349725164,5.8725508935889419,6.3784406128879336,6.7496238920267899,6.9515874074663877,7.0139321632823481,7.0207525667294428,7.0208669395599923,7.0208669942615671,7.0208669942615902]
[null,1000,{"$f":"w_2(C190, $O$55)","v":0},0,0,5.3382988353800065E-297,5.6092282637712708E-150,2.5657761603117582E-76,2.4435476754306944E-39,1.0575513729262995E-20,3.0624345072202813E-11,2.2642779719257679E-6,8.2887070082553855E-4,2.0754156647048962E-2,0.13137622288860598,0.40360477937566142,0.83589711672855593,1.3821762255636378,1.9962098118277665,2.6461420752503768,3.3123678128029255,3.9819287018718743,4.6433107241959455,5.2815081349725164,5.8725508935889419,6.3784406128879336,6.7496238920267899,6.9515874074663877,7.0139321632823481,7.0207525667294428,7.0208669395599923]
[null,1500,{"$f":"w_2(C191, $O$55)","v":0},0,0,0,0,2.279048922501596E-168,1.5426874140019786E-85,5.6544021821470021E-44,4.8051204823734038E-23,1.9529110147096738E-12,5.4239903264142064E-7,3.8638285172430339E-4,1.3567781733964229E-2,0.10231994495021503,0.34513837049910906,0.75296909063877226,1.2834668798613234,1.8886457696187271,2.534128272970797,3.1986126298400457,3.8683974565262282,4.5320667966982633,5.1755741877704562,5.7768810612379227,6.3005687666826518,6.6980762048679114,6.9289982419456821,7.0095851179228701,7.0205900965902401]
[null,2000,{"$f":"w_2(C192, $O$55)","v":0},0,0,0,0,5.3382988353800065E-297,5.6092282637712708E-150,2.5657761603117582E-76,2.4435476754306944E-39,1.0575513729262995E-20,3.0624345072202813E-11,2.2642779719257679E-6,8.2887070082553855E-4,2.0754156647048962E-2,0.13137622288860598,0.40360477937566142,0.83589711672855593,1.3821762255636378,1.9962098118277665,2.6461420752503768,3.3123678128029255,3.9819287018718743,4.6433107241959455,5.2815081349725164,5.8725508935889419,6.3784406128879336,6.7496238920267899,6.9515874074663877,7.0139321632823481]
[null,4000,{"$f":"w_2(C193, $O$55)","v":0},0,0,0,0,0,0,5.3382988353800065E-297,5.6092282637712708E-150,2.5657761603117582E-76,2.4435476754306944E-39,1.0575513729262995E-20,3.0624345072202813E-11,2.2642779719257679E-6,8.2887070082553855E-4,2.0754156647048962E-2,0.13137622288860598,0.40360477937566142,0.83589711672855593,1.3821762255636378,1.9962098118277665,2.6461420752503768,3.3123678128029255,3.9819287018718743,4.6433107241959455,5.2815081349725164,5.8725508935889419,6.3784406128879336,6.7496238920267899]
[null,8000,{"$f":"w_2(C194, $O$55)","v":0},0,0,0,0,0,0,0,0,5.3382988353800065E-297,5.6092282637712708E-150,2.5657761603117582E-76,2.4435476754306944E-39,1.0575513729262995E-20,3.0624345072202813E-11,2.2642779719257679E-6,8.2887070082553855E-4,2.0754156647048962E-2,0.13137622288860598,0.40360477937566142,0.83589711672855593,1.3821762255636378,1.9962098118277665,2.6461420752503768,3.3123678128029255,3.9819287018718743,4.6433107241959455,5.2815081349725164,5.8725508935889419]
[null,16000,{"$f":"w_2(C195, $O$55)","v":0},0,0,0,0,0,0,0,0,0,0,5.3382988353800065E-297,5.6092282637712708E-150,2.5657761603117582E-76,2.4435476754306944E-39,1.0575513729262995E-20,3.0624345072202813E-11,2.2642779719257679E-6,8.2887070082553855E-4,2.0754156647048962E-2,0.13137622288860598,0.40360477937566142,0.83589711672855593,1.3821762255636378,1.9962098118277665,2.6461420752503768,3.3123678128029255,3.9819287018718743,4.6433107241959455]
[null,32000,{"$f":"w_2(C196, $O$55)","v":0},0,0,0,0,0,0,0,0,0,0,0,0,5.3382988353800065E-297,5.6092282637712708E-150,2.5657761603117582E-76,2.4435476754306944E-39,1.0575513729262995E-20,3.0624345072202813E-11,2.2642779719257679E-6,8.2887070082553855E-4,2.0754156647048962E-2,0.13137622288860598,0.40360477937566142,0.83589711672855593,1.3821762255636378,1.9962098118277665,2.6461420752503768,3.3123678128029255]
[null,64000,{"$f":"w_2(C197, $O$55)","v":0},0,0,0,0,0,0,0,0,0,0,0,0,0,0,5.3382988353800065E-297,5.6092282637712708E-150,2.5657761603117582E-76,2.4435476754306944E-39,1.0575513729262995E-20,3.0624345072202813E-11,2.2642779719257679E-6,8.2887070082553855E-4,2.0754156647048962E-2,0.13137622288860598,0.40360477937566142,0.83589711672855593,1.3821762255636378,1.9962098118277665]
[]
[]
[null,"u p r/t",1,{"$f":"+C182*2","v":2},5,{"$f":"+E182*2","v":10},{"$f":"+F182*2","v":20},40,80,160,320,640,1280,2560,5120,10240,20480,40960,81920,163840,327680,655360,1310720,2621440,5242880,10485760,20971520,{"$f":"+AA182*2","v":41943040},{"$f":"+AB182*2","v":83886080},167772160,335544320]
[null,{"$f":"+#REF!","v":{"$error":"#REF!"}},{"$f":"+($O$54*($B$183)^2)/(4*$O$53*C182)","v":{"$error":"#REF!"}},{"$f":"+($O$54*(B183)^2)/(4*$O$53*$D$182)","v":{"$error":"#REF!"}},{"$f":"+($O$54*(B183)^2)/(4*$O$53*$E$182)","v":{"$error":"#REF!"}},{"$f":"+($O$54*(B183)^2)/(4*$O$53*$F$182)","v":{"$error":"#REF!"}},{"$f":"+($O$54*(B183)^2)/(4*$O$53*$G$182)","v":{"$error":"#REF!"}},{"$f":"+($O$54*(B183)^2)/(4*$O$53*$H$182)","v":{"$error":"#REF!"}},{"$f":"+($O$54*(B183)^2)/(4*$O$53*$I$182)","v":{"$error":"#REF!"}},{"$f":"+($O$54*(B183)^2)/(4*$O$53*$J$182)","v":{"$error":"#REF!"}},{"$f":"+($O$54*(B183)^2)/(4*$O$53*$K$182)","v":{"$error":"#REF!"}},{"$f":"+($O$54*(B183)^2)/(4*$O$53*$L$182)","v":{"$error":"#REF!"}},{"$f":"+($O$54*(B183)^2)/(4*$O$53*$M$182)","v":{"$error":"#REF!"}},{"$f":"+($O$54*(B183)^2)/(4*$O$53*$N$182)","v":{"$error":"#REF!"}},{"$f":"+($O$54*(B183)^2)/(4*$O$53*$O$182)","v":{"$error":"#REF!"}},{"$f":"+($O$54*(B183)^2)/(4*$O$53*$P$182)","v":{"$error":"#REF!"}},{"$f":"+($O$54*(B183)^2)/(4*$O$53*$Q$182)","v":{"$error":"#REF!"}},{"$f":"+($O$54*(B183)^2)/(4*$O$53*$R$182)","v":{"$error":"#REF!"}},{"$f":"+($O$54*(B183)^2)/(4*$O$53*$S$182)","v":{"$error":"#REF!"}},{"$f":"+($O$54*(B183)^2)/(4*$O$53*$T$182)","v":{"$error":"#REF!"}},{"$f":"+($O$54*(B183)^2)/(4*$O$53*$U$182)","v":{"$error":"#REF!"}},{"$f":"+($O$54*($B$183)^2)/(4*$O$53*V182)","v":{"$error":"#REF!"}},{"$f":"+($O$54*(B183)^2)/(4*$O$53*$W$182)","v":{"$error":"#REF!"}},{"$f":"+($O$54*(B183)^2)/(4*$O$53*$X$182)","v":{"$error":"#REF!"}},{"$f":"+($O$54*(B183)^2)/(4*$O$53*$Y$182)","v":{"$error":"#REF!"}},{"$f":"+($O$54*(B183)^2)/(4*$O$53*$Z$182)","v":{"$error":"#REF!"}},{"$f":"+($O$54*(B183)^2)/(4*$O$53*$AA$182)","v":{"$error":"#REF!"}},{"$f":"+($O$54*(B183)^2)/(4*$O$53*$AB$182)","v":{"$error":"#REF!"}},{"$f":"+($O$54*(B183)^2)/(4*$O$53*$AC$182)","v":{"$error":"#REF!"}},{"$f":"+($O$54*(B183)^2)/(4*$O$53*$AD$182)","v":{"$error":"#REF!"}},{"$f":"+($O$54*(B183)^2)/(4*$O$53*$AE$182)","v":{"$error":"#REF!"}}]
[null,{"$f":"+C27","v":20},{"$f":"+($O$54*(B184)^2)/(4*$O$53*$C$182)","v":2.7027027027027026},1.3513513513513513,0.54054054054054046,0.27027027027027023,0.13513513513513511,6.7567567567567557E-2,3.3783783783783779E-2,1.6891891891891889E-2,8.4459459459459447E-3,4.2229729729729723E-3,2.1114864864864862E-3,1.0557432432432431E-3,5.2787162162162154E-4,2.6393581081081077E-4,1.3196790540540539E-4,6.5983952702702693E-5,3.2991976351351346E-5,1.6495988175675673E-5,8.2479940878378366E-6,{"$f":"+($O$54*(B184)^2)/(4*$O$53*$V$182)","v":4.1239970439189183E-6},2.0619985219594592E-6,1.0309992609797296E-6,5.1549963048986479E-7,2.5774981524493239E-7,1.288749076224662E-7,6.4437453811233098E-8,3.2218726905616549E-8,1.6109363452808275E-8,8.0546817264041373E-9]
[null,50,16.891891891891888,8.4459459459459438,3.3783783783783776,1.6891891891891888,0.84459459459459441,0.4222972972972972,0.2111486486486486,0.1055743243243243,5.278716216216215E-2,2.6393581081081075E-2,1.3196790540540538E-2,6.5983952702702688E-3,3.2991976351351344E-3,1.6495988175675672E-3,8.247994087837836E-4,4.123997043918918E-4,2.061998521959459E-4,1.0309992609797295E-4,5.1549963048986475E-5,2.5774981524493237E-5,1.2887490762246619E-5,6.4437453811233094E-6,3.2218726905616547E-6,1.6109363452808273E-6,8.0546817264041367E-7,4.0273408632020684E-7,2.0136704316010342E-7,1.0068352158005171E-7,5.0341760790025854E-8]
[null,100,67.567567567567551,33.783783783783775,13.51351351351351,6.7567567567567552,3.3783783783783776,1.6891891891891888,0.84459459459459441,0.4222972972972972,0.2111486486486486,0.1055743243243243,5.278716216216215E-2,2.6393581081081075E-2,1.3196790540540538E-2,6.5983952702702688E-3,3.2991976351351344E-3,1.6495988175675672E-3,8.247994087837836E-4,4.123997043918918E-4,2.061998521959459E-4,1.0309992609797295E-4,5.1549963048986475E-5,2.5774981524493237E-5,1.2887490762246619E-5,6.4437453811233094E-6,3.2218726905616547E-6,1.6109363452808273E-6,8.0546817264041367E-7,4.0273408632020684E-7,2.0136704316010342E-7]
[null,200,270.2702702702702,135.1351351351351,54.054054054054042,27.027027027027021,13.51351351351351,6.7567567567567552,3.3783783783783776,1.6891891891891888,0.84459459459459441,0.4222972972972972,0.2111486486486486,0.1055743243243243,5.278716216216215E-2,2.6393581081081075E-2,1.3196790540540538E-2,6.5983952702702688E-3,3.2991976351351344E-3,1.6495988175675672E-3,8.247994087837836E-4,4.123997043918918E-4,2.061998521959459E-4,1.0309992609797295E-4,5.1549963048986475E-5,2.5774981524493237E-5,1.2887490762246619E-5,6.4437453811233094E-6,3.2218726905616547E-6,1.6109363452808273E-6,8.0546817264041367E-7]
[null,400,1081.0810810810808,540.54054054054041,216.21621621621617,108.10810810810808,54.054054054054042,27.027027027027021,13.51351351351351,6.7567567567567552,3.3783783783783776,1.6891891891891888,0.84459459459459441,0.4222972972972972,0.2111486486486486,0.1055743243243243,5.278716216216215E-2,2.6393581081081075E-2,1.3196790540540538E-2,6.5983952702702688E-3,3.2991976351351344E-3,1.6495988175675672E-3,8.247994087837836E-4,4.123997043918918E-4,2.061998521959459E-4,1.0309992609797295E-4,5.1549963048986475E-5,2.5774981524493237E-5,1.2887490762246619E-5,6.4437453811233094E-6,3.2218726905616547E-6]
[null,500,1689.1891891891892,844.59459459459458,337.83783783783781,168.91891891891891,84.459459459459453,42.229729729729726,21.114864864864863,10.557432432432432,5.2787162162162158,2.6393581081081079,1.3196790540540539,0.65983952702702697,0.32991976351351349,0.16495988175675674,8.2479940878378372E-2,4.1239970439189186E-2,2.0619985219594593E-2,1.0309992609797296E-2,5.1549963048986482E-3,2.5774981524493241E-3,1.2887490762246621E-3,6.4437453811233103E-4,3.2218726905616551E-4,1.6109363452808276E-4,8.0546817264041379E-5,4.0273408632020689E-5,2.0136704316010345E-5,1.0068352158005172E-5,5.0341760790025862E-6]
[null,1000,6756.7567567567567,3378.3783783783783,1351.3513513513512,675.67567567567562,337.83783783783781,168.91891891891891,84.459459459459453,42.229729729729726,21.114864864864863,10.557432432432432,5.2787162162162158,2.6393581081081079,1.3196790540540539,0.65983952702702697,0.32991976351351349,0.16495988175675674,8.2479940878378372E-2,4.1239970439189186E-2,2.0619985219594593E-2,1.0309992609797296E-2,5.1549963048986482E-3,2.5774981524493241E-3,1.2887490762246621E-3,6.4437453811233103E-4,3.2218726905616551E-4,1.6109363452808276E-4,8.0546817264041379E-5,4.0273408632020689E-5,2.0136704316010345E-5]
[null,1500,15202.7027027027,7601.3513513513499,3040.54054054054,1520.27027027027,760.13513513513499,380.06756756756749,190.03378378378375,95.016891891891873,47.508445945945937,23.754222972972968,11.877111486486484,5.9385557432432421,2.969277871621621,1.4846389358108105,0.74231946790540526,0.37115973395270263,0.18557986697635132,9.2789933488175658E-2,4.6394966744087829E-2,2.3197483372043914E-2,1.1598741686021957E-2,5.7993708430109786E-3,2.8996854215054893E-3,1.4498427107527447E-3,7.2492135537637233E-4,3.6246067768818616E-4,1.8123033884409308E-4,9.0615169422046541E-5,4.530758471102327E-5]
[null,2000,27027.027027027027,13513.513513513513,5405.405405405405,2702.7027027027025,1351.3513513513512,675.67567567567562,337.83783783783781,168.91891891891891,84.459459459459453,42.229729729729726,21.114864864864863,10.557432432432432,5.2787162162162158,2.6393581081081079,1.3196790540540539,0.65983952702702697,0.32991976351351349,0.16495988175675674,8.2479940878378372E-2,4.1239970439189186E-2,2.0619985219594593E-2,1.0309992609797296E-2,5.1549963048986482E-3,2.5774981524493241E-3,1.2887490762246621E-3,6.4437453811233103E-4,3.2218726905616551E-4,1.6109363452808276E-4,8.0546817264041379E-5]
[null,4000,108108.10810810811,54054.054054054053,21621.62162162162,10810.81081081081,5405.405405405405,2702.7027027027025,1351.3513513513512,675.67567567567562,337.83783783783781,168.91891891891891,84.459459459459453,42.229729729729726,21.114864864864863,10.557432432432432,5.2787162162162158,2.6393581081081079,1.3196790540540539,0.65983952702702697,0.32991976351351349,0.16495988175675674,8.2479940878378372E-2,4.1239970439189186E-2,2.0619985219594593E-2,1.0309992609797296E-2,5.1549963048986482E-3,2.5774981524493241E-3,1.2887490762246621E-3,6.4437453811233103E-4,3.2218726905616551E-4]
[null,8000,432432.43243243243,216216.21621621621,86486.486486486479,43243.24324324324,21621.62162162162,10810.81081081081,5405.405405405405,2702.7027027027025,1351.3513513513512,675.67567567567562,337.83783783783781,168.91891891891891,84.459459459459453,42.229729729729726,21.114864864864863,10.557432432432432,5.2787162162162158,2.6393581081081079,1.3196790540540539,0.65983952702702697,0.32991976351351349,0.16495988175675674,8.2479940878378372E-2,4.1239970439189186E-2,2.0619985219594593E-2,1.0309992609797296E-2,5.1549963048986482E-3,2.5774981524493241E-3,1.2887490762246621E-3]
[null,16000,1729729.7297297297,864864.86486486485,345945.94594594592,172972.97297297296,86486.486486486479,43243.24324324324,21621.62162162162,10810.81081081081,5405.405405405405,2702.7027027027025,1351.3513513513512,675.67567567567562,337.83783783783781,168.91891891891891,84.459459459459453,42.229729729729726,21.114864864864863,10.557432432432432,5.2787162162162158,2.6393581081081079,1.3196790540540539,0.65983952702702697,0.32991976351351349,0.16495988175675674,8.2479940878378372E-2,4.1239970439189186E-2,2.0619985219594593E-2,1.0309992609797296E-2,5.1549963048986482E-3]
[null,32000,6918918.9189189188,3459459.4594594594,1383783.7837837837,691891.89189189184,345945.94594594592,172972.97297297296,86486.486486486479,43243.24324324324,21621.62162162162,10810.81081081081,5405.405405405405,2702.7027027027025,1351.3513513513512,675.67567567567562,337.83783783783781,168.91891891891891,84.459459459459453,42.229729729729726,21.114864864864863,10.557432432432432,5.2787162162162158,2.6393581081081079,1.3196790540540539,0.65983952702702697,0.32991976351351349,0.16495988175675674,8.2479940878378372E-2,4.1239970439189186E-2,2.0619985219594593E-2]
[null,64000,27675675.675675675,13837837.837837838,5535135.1351351347,2767567.5675675673,1383783.7837837837,691891.89189189184,345945.94594594592,172972.97297297296,86486.486486486479,43243.24324324324,21621.62162162162,10810.81081081081,5405.405405405405,2702.7027027027025,1351.3513513513512,675.67567567567562,337.83783783783781,168.91891891891891,84.459459459459453,42.229729729729726,21.114864864864863,10.557432432432432,5.2787162162162158,2.6393581081081079,1.3196790540540539,0.65983952702702697,0.32991976351351349,0.16495988175675674,8.2479940878378372E-2]

{"sheet":"Listas","index":9,"n_rows":34,"n_cols":10,"rows_kept":34,"cut":false,"hidden":false,"merged":[]}
[]
[null,null,"Propridades Comuns das Rochas"]
[null,null,"Extremo","Normalidade","Normalidade","Extremo"]
[null,"Material do Aqüífero","Kmin, m/d","Kmin, m/d","Kmax, m/d","Kmax, m/d","Tipo da Rocha",null,"Material Pré-Filtro","Selo Poço"]
[null,"Cascalho",27.432000000000002,91.44,914.4,914.4,"Rocha Sedimentar inconsolidada",null,"Cascalho","Bentonita"]
[null,"Areia e Cascalho",0.30480000000000002,9.1440000000000001,91.44,91.44,"Rocha Sedimentar inconsolidada",null,"Areia Grossa","Cimento"]
[null,"Areia Grossa",15.24,21.336000000000002,91.44,91.44,"Rocha Sedimentar inconsolidada",null,"Areia Média","Argila"]
[null,"Areia Média",0.30480000000000002,6.0960000000000001,21.336000000000002,60.96,"Rocha Sedimentar inconsolidada",null,"Areia Fina","Sem Selo"]
[null,"Areia Fina",1.5240000000000002E-2,0.9144000000000001,6.0960000000000001,6.0960000000000001,"Rocha Sedimentar inconsolidada",null,"Sem Pré-Filtro"]
[null,"Terraço Aluvionar",3.0480000000000004E-3,0.30480000000000002,30.48,91.44,"Rocha Sedimentar inconsolidada"]
[null,"Areia Fina e Silte",3.0480000000000004E-3,3.0480000000000004E-2,9.1440000000000001,15.24,"Rocha Sedimentar inconsolidada"]
[null,"Silte, Duna",9.1439999999999992E-5,3.0480000000000004E-4,3.0480000000000004E-2,1.8288000000000002,"Rocha Sedimentar inconsolidada"]
[null,"Brecha Glacial",9.1440000000000004E-8,9.1440000000000011E-4,9.1440000000000007E-2,0.18288000000000001,"Rocha Sedimentar inconsolidada"]
[null,"Solo Argiloso (superfície)",3.0480000000000004E-3,3.0480000000000004E-3,0.30480000000000002,0.30480000000000002,"Rocha Sedimentar inconsolidada"]
[null,"Argila",3.0479999999999998E-7,3.0480000000000003E-6,3.0480000000000003E-5,3.0480000000000004E-4,"Rocha Sedimentar inconsolidada"]
[null,"Argila Marinha não alterada",6.0959999999999998E-8,6.0959999999999998E-8,1.8287999999999998E-4,1.8287999999999998E-4,"Rocha Carbonática"]
[null,"Karst",9.1440000000000007E-2,3.048,304.8,3048,"Rocha Carbonática"]
[null,"Recife Calcário",9.1440000000000007E-2,3.048,304.8,1828.8,"Rocha Carbonática"]
[null,"Calcário, Dolomita",9.1439999999999992E-5,1.2192000000000001E-3,3.0480000000000004E-2,0.60960000000000003,"Rocha Carbonática"]
[null,"Arenito Granulometria Fina",3.0480000000000003E-5,3.0480000000000004E-4,0.30480000000000002,1.8288000000000002,"Rocha Sedimentar consolidada"]
[null,"Arenito Granulometria Média",3.0480000000000004E-4,0.30480000000000002,3.048,24.384,"Rocha Sedimentar consolidada"]
[null,"Siltito",3.0479999999999998E-7,3.0480000000000003E-6,1.5240000000000002E-3,1.2192000000000001E-2,"Rocha Sedimentar consolidada"]
[null,"Argilito",9.1440000000000007E-10,3.0479999999999998E-7,3.0480000000000003E-6,9.1440000000000009E-6,"Rocha Sedimentar consolidada"]
[null,"Anidrito",3.0479999999999999E-8,3.0479999999999999E-8,1.8288000000000002E-3,1.8288000000000002E-3,"Rocha Sedimentar consolidada"]
[null,"Folhelho",3.0480000000000002E-9,3.0479999999999999E-8,3.0480000000000003E-5,0.30480000000000002,"Rocha metamórfica ou magmática"]
[null,"Basalto Permeável",3.0480000000000004E-2,0.30480000000000002,30.48,1828.8,"Rocha metamórfica ou magmática"]
[null,"Rx Ígnea/Metamórfica Fraturada",3.0480000000000004E-4,1.5240000000000002E-2,3.048,30.48,"Rocha metamórfica ou magmática"]
[null,"Granito Alterado",3.0480000000000004E-2,0.30480000000000002,3.048,6.0960000000000001,"Rocha metamórfica ou magmática"]
[null,"Gabro Fraturado",3.0480000000000004E-2,3.0480000000000004E-2,0.30480000000000002,0.30480000000000002,"Rocha metamórfica ou magmática"]
[null,"Basalto",0,9.1439999999999994E-3,3.0480000000000004E-2,3.0480000000000004E-2,"Rocha metamórfica ou magmática"]
[null,"Rx Ígnea/Metamórfica Não Fraturada",0,2.7431999999999998E-9,1.8288000000000002E-5,1.8288000000000002E-5,"Rocha metamórfica ou magmática"]
[]
[]
[null,"1 Bouwer, 1978 (order of magnitude in meter/day)"]

{"sheet":"Referências","index":10,"n_rows":0,"n_cols":0,"rows_kept":0,"cut":false,"hidden":false,"merged":[]}